BEGIN:VCALENDAR
VERSION:2.0
PRODID:-//Plain Township Historical Society - ECPv6.15.20//NONSGML v1.0//EN
CALSCALE:GREGORIAN
METHOD:PUBLISH
X-ORIGINAL-URL:https://preservingplaintwp.org
X-WR-CALDESC:Events for Plain Township Historical Society
REFRESH-INTERVAL;VALUE=DURATION:PT1H
X-Robots-Tag:noindex
X-PUBLISHED-TTL:PT1H
BEGIN:VTIMEZONE
TZID:UTC
BEGIN:STANDARD
TZOFFSETFROM:+0000
TZOFFSETTO:+0000
TZNAME:UTC
DTSTART:20230101T000000
END:STANDARD
END:VTIMEZONE
BEGIN:VEVENT
DTSTART;TZID=UTC:20240914T100000
DTEND;TZID=UTC:20240914T150000
DTSTAMP:20260424T212051
CREATED:20240303T195854Z
LAST-MODIFIED:20240804T235227Z
UID:4150-1726308000-1726326000@preservingplaintwp.org
SUMMARY:720 Sidestreet Market at Oakwood Square
DESCRIPTION:
URL:https://preservingplaintwp.org/event/720-sidestreet-market-at-oakwood-square-2/
LOCATION:Oakwood Square Plaza\, 2610 Easton St NE\, Canton\, OH\, 44721\, United States
END:VEVENT
END:VCALENDAR