BEGIN:VCALENDAR
VERSION:2.0
PRODID:-//Plain Township Historical Society - ECPv6.15.20//NONSGML v1.0//EN
CALSCALE:GREGORIAN
METHOD:PUBLISH
X-WR-CALNAME:Plain Township Historical Society
X-ORIGINAL-URL:https://preservingplaintwp.org
X-WR-CALDESC:Events for Plain Township Historical Society
REFRESH-INTERVAL;VALUE=DURATION:PT1H
X-Robots-Tag:noindex
X-PUBLISHED-TTL:PT1H
BEGIN:VTIMEZONE
TZID:UTC
BEGIN:STANDARD
TZOFFSETFROM:+0000
TZOFFSETTO:+0000
TZNAME:UTC
DTSTART:20240101T000000
END:STANDARD
END:VTIMEZONE
BEGIN:VEVENT
DTSTART;TZID=UTC:20250918T180000
DTEND;TZID=UTC:20250918T210000
DTSTAMP:20260424T040914
CREATED:20250707T022005Z
LAST-MODIFIED:20250707T022035Z
UID:4691-1758218400-1758229200@preservingplaintwp.org
SUMMARY:Plain Local Schools Alumni Hall of Distinction Induction Ceremony
DESCRIPTION:The Plain Township Historical Society and Chief Clarence Snyder will be inducted into the Plain Local Schools Foundation and Alumni Hall of Distinction.  This event is hosted by Plain Local Schools Foundation and Alumni and there is a charge for this event.  Details will be updated as information is known.
URL:https://preservingplaintwp.org/event/plain-local-schools-alumni-hall-of-distinction-induction-ceremony/
LOCATION:Pro Football Hall of Fame\, 2121 George Halas Dr NW\, Canton\, OH\, 44708\, United States
ORGANIZER;CN="Plain Local School District Foundation and Alumni Association":MAILTO:foundation@plainlocal.org
END:VEVENT
END:VCALENDAR