BEGIN:VCALENDAR
VERSION:2.0
PRODID:-//Plain Township Historical Society - ECPv6.15.20//NONSGML v1.0//EN
CALSCALE:GREGORIAN
METHOD:PUBLISH
X-ORIGINAL-URL:https://preservingplaintwp.org
X-WR-CALDESC:Events for Plain Township Historical Society
REFRESH-INTERVAL;VALUE=DURATION:PT1H
X-Robots-Tag:noindex
X-PUBLISHED-TTL:PT1H
BEGIN:VTIMEZONE
TZID:UTC
BEGIN:STANDARD
TZOFFSETFROM:+0000
TZOFFSETTO:+0000
TZNAME:UTC
DTSTART:20250101T000000
END:STANDARD
END:VTIMEZONE
BEGIN:VEVENT
DTSTART;TZID=UTC:20260216T190000
DTEND;TZID=UTC:20260216T210000
DTSTAMP:20260423T195218
CREATED:20251214T040246Z
LAST-MODIFIED:20251214T040443Z
UID:4856-1771268400-1771275600@preservingplaintwp.org
SUMMARY:PTHS Free Monthly Meeting - Women in the Game - Speaker Dr. Leslie Heaphy
DESCRIPTION:
URL:https://preservingplaintwp.org/event/pths-free-monthly-meeting-women-in-the-game-dr-leslie-heaphy/
LOCATION:Plain Township Hall\, 2600 Easton St NE\, Canton\, OH\, 44721\, United States
ORGANIZER;CN="Plain Township Historical Society":MAILTO:preservingplaintwp@gmail.com
END:VEVENT
BEGIN:VEVENT
DTSTART;TZID=UTC:20260216T190000
DTEND;TZID=UTC:20260216T210000
DTSTAMP:20260423T195218
CREATED:20251214T041224Z
LAST-MODIFIED:20251214T041224Z
UID:4867-1771268400-1771275600@preservingplaintwp.org
SUMMARY:PTHS Free Monthly Meeting - Annual Meeting - Alliance Boom Times 1910s - Speaker Karen Perone
DESCRIPTION:
URL:https://preservingplaintwp.org/event/pths-free-monthly-meeting-annual-meeting-alliance-boom-times-1910s-speaker-karen-perone/
LOCATION:Plain Township Hall\, 2600 Easton St NE\, Canton\, OH\, 44721\, United States
ORGANIZER;CN="Plain Township Historical Society":MAILTO:preservingplaintwp@gmail.com
END:VEVENT
END:VCALENDAR