BEGIN:VCALENDAR
VERSION:2.0
PRODID:-//Plain Township Historical Society - ECPv6.15.20//NONSGML v1.0//EN
CALSCALE:GREGORIAN
METHOD:PUBLISH
X-ORIGINAL-URL:https://preservingplaintwp.org
X-WR-CALDESC:Events for Plain Township Historical Society
REFRESH-INTERVAL;VALUE=DURATION:PT1H
X-Robots-Tag:noindex
X-PUBLISHED-TTL:PT1H
BEGIN:VTIMEZONE
TZID:UTC
BEGIN:STANDARD
TZOFFSETFROM:+0000
TZOFFSETTO:+0000
TZNAME:UTC
DTSTART:20250101T000000
END:STANDARD
END:VTIMEZONE
BEGIN:VEVENT
DTSTART;TZID=UTC:20260325T180000
DTEND;TZID=UTC:20260325T210000
DTSTAMP:20260423T181900
CREATED:20260218T144027Z
LAST-MODIFIED:20260218T144027Z
UID:4996-1774461600-1774472400@preservingplaintwp.org
SUMMARY:Stark County Historical Pastport Premiere - Free
DESCRIPTION:
URL:https://preservingplaintwp.org/event/stark-county-historical-pastport-premiere-free/
LOCATION:Lincoln Theatre\, 156 Lincoln Way E\, Massillon\, OH\, 44646\, United States
ORGANIZER;CN="Stark County Local History Group":MAILTO:lheaphy@kent.edu
END:VEVENT
END:VCALENDAR