BEGIN:VCALENDAR
VERSION:2.0
PRODID:-//Plain Township Historical Society - ECPv6.15.20//NONSGML v1.0//EN
CALSCALE:GREGORIAN
METHOD:PUBLISH
X-ORIGINAL-URL:https://preservingplaintwp.org
X-WR-CALDESC:Events for Plain Township Historical Society
REFRESH-INTERVAL;VALUE=DURATION:PT1H
X-Robots-Tag:noindex
X-PUBLISHED-TTL:PT1H
BEGIN:VTIMEZONE
TZID:UTC
BEGIN:STANDARD
TZOFFSETFROM:+0000
TZOFFSETTO:+0000
TZNAME:UTC
DTSTART:20250101T000000
END:STANDARD
END:VTIMEZONE
BEGIN:VEVENT
DTSTART;TZID=UTC:20260331T180000
DTEND;TZID=UTC:20260331T200000
DTSTAMP:20260423T165038
CREATED:20260218T144437Z
LAST-MODIFIED:20260218T144437Z
UID:5001-1774980000-1774987200@preservingplaintwp.org
SUMMARY:St. Haralambos Greek Church Women's Group - PTHS Speaking on "Trash Or Treasure: My Kids Don't Want This Stuff"
DESCRIPTION:
URL:https://preservingplaintwp.org/event/st-haralambos-greek-church-womens-group-pths-speaking-on-trash-or-treasure-my-kids-dont-want-this-stuff/
LOCATION:St Haralambos Greek Church\, 251 25th St NW\, Canton\, OH\, 44709\, United States
END:VEVENT
END:VCALENDAR