BEGIN:VCALENDAR
VERSION:2.0
PRODID:-//Plain Township Historical Society - ECPv6.15.20//NONSGML v1.0//EN
CALSCALE:GREGORIAN
METHOD:PUBLISH
X-ORIGINAL-URL:https://preservingplaintwp.org
X-WR-CALDESC:Events for Plain Township Historical Society
REFRESH-INTERVAL;VALUE=DURATION:PT1H
X-Robots-Tag:noindex
X-PUBLISHED-TTL:PT1H
BEGIN:VTIMEZONE
TZID:UTC
BEGIN:STANDARD
TZOFFSETFROM:+0000
TZOFFSETTO:+0000
TZNAME:UTC
DTSTART:20250101T000000
END:STANDARD
END:VTIMEZONE
BEGIN:VEVENT
DTSTART;TZID=UTC:20260418T100000
DTEND;TZID=UTC:20260418T170000
DTSTAMP:20260423T165135
CREATED:20260205T144136Z
LAST-MODIFIED:20260205T144205Z
UID:4979-1776506400-1776531600@preservingplaintwp.org
SUMMARY:MAPS Air Museum Transportation Event - PTHS Participating
DESCRIPTION:
URL:https://preservingplaintwp.org/event/maps-air-museum-transportation-event-pths-participating/
LOCATION:MAPS air museum\, 2260 International Pkwy North\, Canton\, OH\, 44720\, United States
END:VEVENT
END:VCALENDAR