BEGIN:VCALENDAR
VERSION:2.0
PRODID:-//Plain Township Historical Society - ECPv6.15.20//NONSGML v1.0//EN
CALSCALE:GREGORIAN
METHOD:PUBLISH
X-ORIGINAL-URL:https://preservingplaintwp.org
X-WR-CALDESC:Events for Plain Township Historical Society
REFRESH-INTERVAL;VALUE=DURATION:PT1H
X-Robots-Tag:noindex
X-PUBLISHED-TTL:PT1H
BEGIN:VTIMEZONE
TZID:UTC
BEGIN:STANDARD
TZOFFSETFROM:+0000
TZOFFSETTO:+0000
TZNAME:UTC
DTSTART:20250101T000000
END:STANDARD
END:VTIMEZONE
BEGIN:VEVENT
DTSTART;TZID=UTC:20260420T190000
DTEND;TZID=UTC:20260420T210000
DTSTAMP:20260423T181957
CREATED:20251214T041640Z
LAST-MODIFIED:20260218T143333Z
UID:4873-1776711600-1776718800@preservingplaintwp.org
SUMMARY:PTHS Free Monthly Community Meeting - Erma Bombeck - Speaker Lori Noebe
DESCRIPTION:
URL:https://preservingplaintwp.org/event/pths-free-monthly-meeting-erma-bombeck-speaker-lori-noebe/
LOCATION:Plain Township Hall\, 2600 Easton St NE\, Canton\, OH\, 44721\, United States
ORGANIZER;CN="Plain Township Historical Society":MAILTO:preservingplaintwp@gmail.com
END:VEVENT
END:VCALENDAR