BEGIN:VCALENDAR
VERSION:2.0
PRODID:-//Plain Township Historical Society - ECPv6.15.20//NONSGML v1.0//EN
CALSCALE:GREGORIAN
METHOD:PUBLISH
X-ORIGINAL-URL:https://preservingplaintwp.org
X-WR-CALDESC:Events for Plain Township Historical Society
REFRESH-INTERVAL;VALUE=DURATION:PT1H
X-Robots-Tag:noindex
X-PUBLISHED-TTL:PT1H
BEGIN:VTIMEZONE
TZID:UTC
BEGIN:STANDARD
TZOFFSETFROM:+0000
TZOFFSETTO:+0000
TZNAME:UTC
DTSTART:20250101T000000
END:STANDARD
END:VTIMEZONE
BEGIN:VEVENT
DTSTART;TZID=UTC:20260521T140000
DTEND;TZID=UTC:20260521T150000
DTSTAMP:20260423T183604
CREATED:20251214T042735Z
LAST-MODIFIED:20251214T045355Z
UID:4888-1779372000-1779375600@preservingplaintwp.org
SUMMARY:Stark County District Library North Branch - PTHS Speaker - Hooked on Pottery
DESCRIPTION:
URL:https://preservingplaintwp.org/event/stark-county-district-library-north-branch-pths-speaker-hooked-on-pottery/
LOCATION:Stark County Library North Branch\, 189 25th St NW\, Canton\, Ohio\, 44709
END:VEVENT
BEGIN:VEVENT
DTSTART;TZID=UTC:20260521T163000
DTEND;TZID=UTC:20260521T190000
DTSTAMP:20260423T183604
CREATED:20251214T042432Z
LAST-MODIFIED:20251214T045423Z
UID:4886-1779381000-1779390000@preservingplaintwp.org
SUMMARY:Canton Preservation Society Annual Dinner - PTHS Keynote Speaker - Avondale Architecture
DESCRIPTION:
URL:https://preservingplaintwp.org/event/canton-preservation-society-annual-dinner-pths-keynote-speaker-on-avondale-architecture/
LOCATION:Chateau Michele\, 2231 41st St NW\, Canton\, OH\, 44709\, United States
END:VEVENT
END:VCALENDAR