BEGIN:VCALENDAR
VERSION:2.0
PRODID:-//Plain Township Historical Society - ECPv6.15.20//NONSGML v1.0//EN
CALSCALE:GREGORIAN
METHOD:PUBLISH
X-WR-CALNAME:Plain Township Historical Society
X-ORIGINAL-URL:https://preservingplaintwp.org
X-WR-CALDESC:Events for Plain Township Historical Society
REFRESH-INTERVAL;VALUE=DURATION:PT1H
X-Robots-Tag:noindex
X-PUBLISHED-TTL:PT1H
BEGIN:VTIMEZONE
TZID:UTC
BEGIN:STANDARD
TZOFFSETFROM:+0000
TZOFFSETTO:+0000
TZNAME:UTC
DTSTART:20250101T000000
END:STANDARD
END:VTIMEZONE
BEGIN:VEVENT
DTSTART;TZID=UTC:20260903T110000
DTEND;TZID=UTC:20260903T120000
DTSTAMP:20260423T233807
CREATED:20251214T043948Z
LAST-MODIFIED:20251214T043948Z
UID:4913-1788433200-1788436800@preservingplaintwp.org
SUMMARY:Jackson Township Historical Society - PTHS Speaker - Tam O'Shanter Property
DESCRIPTION:
URL:https://preservingplaintwp.org/event/jackson-township-historical-society-pths-speaker-tam-oshanter-property/
LOCATION:Jackson Township Historical Society\, 7756Fulton Rd NW\, Massillon\, 44646\, United States
END:VEVENT
END:VCALENDAR