BEGIN:VCALENDAR
VERSION:2.0
PRODID:-//Plain Township Historical Society - ECPv6.15.20//NONSGML v1.0//EN
CALSCALE:GREGORIAN
METHOD:PUBLISH
X-WR-CALNAME:Plain Township Historical Society
X-ORIGINAL-URL:https://preservingplaintwp.org
X-WR-CALDESC:Events for Plain Township Historical Society
REFRESH-INTERVAL;VALUE=DURATION:PT1H
X-Robots-Tag:noindex
X-PUBLISHED-TTL:PT1H
BEGIN:VTIMEZONE
TZID:UTC
BEGIN:STANDARD
TZOFFSETFROM:+0000
TZOFFSETTO:+0000
TZNAME:UTC
DTSTART:20180101T000000
END:STANDARD
END:VTIMEZONE
BEGIN:VEVENT
DTSTART;TZID=UTC:20200407T140000
DTEND;TZID=UTC:20200407T160000
DTSTAMP:20260425T161941
CREATED:20191022T135330Z
LAST-MODIFIED:20191022T135330Z
UID:1492-1586268000-1586275200@preservingplaintwp.org
SUMMARY:PTHS Board of Directors Meeting
DESCRIPTION:
URL:https://preservingplaintwp.org/event/pths-board-of-directors-meeting-4/
LOCATION:Ohio
ORGANIZER;CN="Plain Township Historical Society":MAILTO:preservingplaintwp@gmail.com
END:VEVENT
BEGIN:VEVENT
DTSTART;TZID=UTC:20200316T190000
DTEND;TZID=UTC:20200316T210000
DTSTAMP:20260425T161941
CREATED:20191022T135234Z
LAST-MODIFIED:20200313T002627Z
UID:1490-1584385200-1584392400@preservingplaintwp.org
SUMMARY:CANCELLED - White Bronze Monuments\, the Other Tombstone - PTHS Free Monthly Meeting
DESCRIPTION:A look at an alternative tombstone material and its significance in cemeteries by Susan Henry.
URL:https://preservingplaintwp.org/event/white-bronze-monuments-the-other-tombstone-pths-free-monthly-meeting/
LOCATION:Ohio
ORGANIZER;CN="Plain Township Historical Society":MAILTO:preservingplaintwp@gmail.com
END:VEVENT
BEGIN:VEVENT
DTSTART;TZID=UTC:20200303T140000
DTEND;TZID=UTC:20200303T160000
DTSTAMP:20260425T161941
CREATED:20191022T135106Z
LAST-MODIFIED:20191022T135106Z
UID:1488-1583244000-1583251200@preservingplaintwp.org
SUMMARY:PTHS Board of Directors Meeting
DESCRIPTION:
URL:https://preservingplaintwp.org/event/pths-board-of-directors-meeting-3/
LOCATION:Ohio
ORGANIZER;CN="Plain Township Historical Society":MAILTO:preservingplaintwp@gmail.com
END:VEVENT
BEGIN:VEVENT
DTSTART;TZID=UTC:20200217T190000
DTEND;TZID=UTC:20200217T210000
DTSTAMP:20260425T161941
CREATED:20191022T135008Z
LAST-MODIFIED:20191022T135008Z
UID:1486-1581966000-1581973200@preservingplaintwp.org
SUMMARY:Getting the Job Done - Outhouses - PTHS Free Monthly Meeting
DESCRIPTION:An examination of the history and styles of outhouses by Judy Pocock.
URL:https://preservingplaintwp.org/event/getting-the-job-done-outhouses-pths-free-monthly-meeting/
LOCATION:Ohio
ORGANIZER;CN="Plain Township Historical Society":MAILTO:preservingplaintwp@gmail.com
END:VEVENT
BEGIN:VEVENT
DTSTART;TZID=UTC:20200204T140000
DTEND;TZID=UTC:20200204T160000
DTSTAMP:20260425T161941
CREATED:20191022T134854Z
LAST-MODIFIED:20191022T134854Z
UID:1484-1580824800-1580832000@preservingplaintwp.org
SUMMARY:PTHS Board of Directors Meeting
DESCRIPTION:
URL:https://preservingplaintwp.org/event/pths-board-of-directors-meeting-2/
LOCATION:Ohio
ORGANIZER;CN="Plain Township Historical Society":MAILTO:preservingplaintwp@gmail.com
END:VEVENT
BEGIN:VEVENT
DTSTART;TZID=UTC:20200120T190000
DTEND;TZID=UTC:20200120T210000
DTSTAMP:20260425T161941
CREATED:20191022T134718Z
LAST-MODIFIED:20191022T134718Z
UID:1482-1579546800-1579554000@preservingplaintwp.org
SUMMARY:Teddy Roosevelt - PTHS Free Monthly Meeting
DESCRIPTION:Join us as Ted Dudra makes Teddy Roosevelt come to life to share his life and times.
URL:https://preservingplaintwp.org/event/teddy-roosevelt-pths-free-monthly-meeting/
LOCATION:Ohio
ORGANIZER;CN="Plain Township Historical Society":MAILTO:preservingplaintwp@gmail.com
END:VEVENT
BEGIN:VEVENT
DTSTART;TZID=UTC:20200107T140000
DTEND;TZID=UTC:20200107T160000
DTSTAMP:20260425T161941
CREATED:20191022T134514Z
LAST-MODIFIED:20191022T134514Z
UID:1480-1578405600-1578412800@preservingplaintwp.org
SUMMARY:PTHS Board of Directors Meeting
DESCRIPTION:Monthly PTHS Board Meeting
URL:https://preservingplaintwp.org/event/pths-board-of-directors-meeting/
LOCATION:Ohio
ORGANIZER;CN="Plain Township Historical Society":MAILTO:preservingplaintwp@gmail.com
END:VEVENT
BEGIN:VEVENT
DTSTART;TZID=UTC:20191217T180000
DTEND;TZID=UTC:20191217T200000
DTSTAMP:20260425T161941
CREATED:20190307T200517Z
LAST-MODIFIED:20190307T202956Z
UID:624-1576605600-1576612800@preservingplaintwp.org
SUMMARY:Plain Township Trustees Meeting
DESCRIPTION:
URL:https://preservingplaintwp.org/event/plain-township-trustees-meeting-15/
LOCATION:Ohio
END:VEVENT
BEGIN:VEVENT
DTSTART;TZID=UTC:20191216T190000
DTEND;TZID=UTC:20191216T210000
DTSTAMP:20260425T161941
CREATED:20190117T212540Z
LAST-MODIFIED:20190307T202932Z
UID:221-1576522800-1576530000@preservingplaintwp.org
SUMMARY:No Membership Meeting
DESCRIPTION:Happy Holidays.  No meeting this month.
URL:https://preservingplaintwp.org/event/no-membership-meeting/
LOCATION:Ohio
ORGANIZER;CN="Plain Township Historical Society":MAILTO:preservingplaintwp@gmail.com
END:VEVENT
BEGIN:VEVENT
DTSTART;TZID=UTC:20191210T180000
DTEND;TZID=UTC:20191210T200000
DTSTAMP:20260425T161941
CREATED:20190307T200425Z
LAST-MODIFIED:20190307T202912Z
UID:622-1576000800-1576008000@preservingplaintwp.org
SUMMARY:Plain Township Trustees Meeting
DESCRIPTION:
URL:https://preservingplaintwp.org/event/plain-township-trustees-meeting-14/
LOCATION:Ohio
END:VEVENT
BEGIN:VEVENT
DTSTART;TZID=UTC:20191126T180000
DTEND;TZID=UTC:20191126T200000
DTSTAMP:20260425T161941
CREATED:20190307T200335Z
LAST-MODIFIED:20190307T202848Z
UID:620-1574791200-1574798400@preservingplaintwp.org
SUMMARY:Plain Township Trustees Meeting
DESCRIPTION:
URL:https://preservingplaintwp.org/event/plain-township-trustees-meeting-13/
LOCATION:Ohio
END:VEVENT
BEGIN:VEVENT
DTSTART;TZID=UTC:20191122T170000
DTEND;TZID=UTC:20191124T190000
DTSTAMP:20260425T161941
CREATED:20190806T231759Z
LAST-MODIFIED:20190806T231835Z
UID:1440-1574442000-1574622000@preservingplaintwp.org
SUMMARY:Alliance Historical Society - Christmas at Mabel's
DESCRIPTION:
URL:https://preservingplaintwp.org/event/alliance-historical-society-christmas-at-mabels/
LOCATION:Ohio
END:VEVENT
BEGIN:VEVENT
DTSTART;TZID=UTC:20191121T180000
DTEND;TZID=UTC:20191121T210000
DTSTAMP:20260425T161941
CREATED:20190609T134949Z
LAST-MODIFIED:20190609T134949Z
UID:1021-1574359200-1574370000@preservingplaintwp.org
SUMMARY:Quail Hollow - Traditional Music at the Manor - admission
DESCRIPTION:
URL:https://preservingplaintwp.org/event/quail-hollow-traditional-music-at-the-manor-admission-11/
LOCATION:Ohio
END:VEVENT
BEGIN:VEVENT
DTSTART;TZID=UTC:20191118T190000
DTEND;TZID=UTC:20191118T210000
DTSTAMP:20260425T161941
CREATED:20190117T212429Z
LAST-MODIFIED:20190307T202821Z
UID:219-1574103600-1574110800@preservingplaintwp.org
SUMMARY:How Founding Plain Township Families are Connected - PTHS Free Monthly Meeting
DESCRIPTION:Presenter: Phyllis Rustifo\, Linda Theriault\, and Bob Vitali\nJoin these three as they explore how their family connects to the Henney family\, one thru a house\, the other two thru family.  In addition how the Henney’s connected to other founding Plain Township families.  Who knows who we will find in the family tree?
URL:https://preservingplaintwp.org/event/how-founding-plain-township-families-are-connected-pths-free-monthly-meeting/
LOCATION:Ohio
ORGANIZER;CN="Plain Township Historical Society":MAILTO:preservingplaintwp@gmail.com
END:VEVENT
BEGIN:VEVENT
DTSTART;TZID=UTC:20191112T180000
DTEND;TZID=UTC:20191112T200000
DTSTAMP:20260425T161941
CREATED:20190307T200239Z
LAST-MODIFIED:20190307T202755Z
UID:618-1573581600-1573588800@preservingplaintwp.org
SUMMARY:Plain Township Trustees Meeting
DESCRIPTION:
URL:https://preservingplaintwp.org/event/plain-township-trustees-meeting-12/
LOCATION:Ohio
END:VEVENT
BEGIN:VEVENT
DTSTART;TZID=UTC:20191111T130000
DTEND;TZID=UTC:20191111T150000
DTSTAMP:20260425T161941
CREATED:20190307T200931Z
LAST-MODIFIED:20191022T134253Z
UID:626-1573477200-1573484400@preservingplaintwp.org
SUMMARY:Plain Township - Salute to Veterans Event
DESCRIPTION:
URL:https://preservingplaintwp.org/event/plain-township-salute-to-veterans-event/
LOCATION:Ohio
END:VEVENT
BEGIN:VEVENT
DTSTART;TZID=UTC:20191107T180000
DTEND;TZID=UTC:20191107T210000
DTSTAMP:20260425T161941
CREATED:20190609T134902Z
LAST-MODIFIED:20190609T134902Z
UID:1019-1573149600-1573160400@preservingplaintwp.org
SUMMARY:Quail Hollow - Traditional Music at the Manor - admission
DESCRIPTION:
URL:https://preservingplaintwp.org/event/quail-hollow-traditional-music-at-the-manor-admission-10/
LOCATION:Ohio
END:VEVENT
BEGIN:VEVENT
DTSTART;VALUE=DATE:20191105
DTEND;VALUE=DATE:20191106
DTSTAMP:20260425T161941
CREATED:20190307T201033Z
LAST-MODIFIED:20190307T201033Z
UID:630-1572912000-1572998399@preservingplaintwp.org
SUMMARY:Election Day
DESCRIPTION:
URL:https://preservingplaintwp.org/event/election-day/
LOCATION:Ohio
END:VEVENT
BEGIN:VEVENT
DTSTART;VALUE=DATE:20191103
DTEND;VALUE=DATE:20191104
DTSTAMP:20260425T161941
CREATED:20190307T201232Z
LAST-MODIFIED:20190307T201232Z
UID:636-1572739200-1572825599@preservingplaintwp.org
SUMMARY:Daylight Savings Time Ends
DESCRIPTION:
URL:https://preservingplaintwp.org/event/daylight-savings-time-ends/
LOCATION:Ohio
END:VEVENT
BEGIN:VEVENT
DTSTART;TZID=UTC:20191027T140000
DTEND;TZID=UTC:20191027T170000
DTSTAMP:20260425T161941
CREATED:20190628T130648Z
LAST-MODIFIED:20190628T131314Z
UID:1384-1572184800-1572195600@preservingplaintwp.org
SUMMARY:Lake Township Historical Society - Museum Open
DESCRIPTION:
URL:https://preservingplaintwp.org/event/lake-township-museum-open/
LOCATION:Ohio
END:VEVENT
BEGIN:VEVENT
DTSTART;TZID=UTC:20191022T180000
DTEND;TZID=UTC:20191022T200000
DTSTAMP:20260425T161941
CREATED:20190307T200148Z
LAST-MODIFIED:20190307T202706Z
UID:616-1571767200-1571774400@preservingplaintwp.org
SUMMARY:Plain Township Trustees Meeting
DESCRIPTION:
URL:https://preservingplaintwp.org/event/plain-township-trustees-meeting-11/
LOCATION:Ohio
END:VEVENT
BEGIN:VEVENT
DTSTART;TZID=UTC:20191021T190000
DTEND;TZID=UTC:20191021T210000
DTSTAMP:20260425T161941
CREATED:20190117T212140Z
LAST-MODIFIED:20190307T202647Z
UID:217-1571684400-1571691600@preservingplaintwp.org
SUMMARY:Pre-History/First Contact with People - PTHS Free Monthly Meeting
DESCRIPTION:Presenter: Thomas Grove\nThomas is an archaeologist and will explore the beginnings of man.  Join us as we take a look back on our early ancestors.
URL:https://preservingplaintwp.org/event/pre-hsitory-first-contact-with-people-pths-free-monthly-meeting/
LOCATION:Ohio
ORGANIZER;CN="Plain Township Historical Society":MAILTO:preservingplaintwp@gmail.com
END:VEVENT
BEGIN:VEVENT
DTSTART;TZID=UTC:20191020T140000
DTEND;TZID=UTC:20191020T170000
DTSTAMP:20260425T161941
CREATED:20190628T130557Z
LAST-MODIFIED:20190628T131347Z
UID:1382-1571580000-1571590800@preservingplaintwp.org
SUMMARY:Lake Township Historical Society - School House Open
DESCRIPTION:
URL:https://preservingplaintwp.org/event/lake-township-school-house-open-8/
LOCATION:Ohio
END:VEVENT
BEGIN:VEVENT
DTSTART;TZID=UTC:20191017T180000
DTEND;TZID=UTC:20191017T210000
DTSTAMP:20260425T161941
CREATED:20190609T134818Z
LAST-MODIFIED:20190609T134818Z
UID:1017-1571335200-1571346000@preservingplaintwp.org
SUMMARY:Quail Hollow - Traditional Music at the Manor - admission
DESCRIPTION:
URL:https://preservingplaintwp.org/event/quail-hollow-traditional-music-at-the-manor-admission-9/
LOCATION:Ohio
END:VEVENT
BEGIN:VEVENT
DTSTART;TZID=UTC:20191013T140000
DTEND;TZID=UTC:20191013T170000
DTSTAMP:20260425T161941
CREATED:20190628T130747Z
LAST-MODIFIED:20190628T130747Z
UID:1386-1570975200-1570986000@preservingplaintwp.org
SUMMARY:Lake Township Historical Society - Museum Open
DESCRIPTION:
URL:https://preservingplaintwp.org/event/lake-township-historical-society-museum-open/
LOCATION:Ohio
END:VEVENT
BEGIN:VEVENT
DTSTART;TZID=UTC:20191010T190000
DTEND;TZID=UTC:20191010T203000
DTSTAMP:20260425T161941
CREATED:20190308T005017Z
LAST-MODIFIED:20190308T005017Z
UID:669-1570734000-1570739400@preservingplaintwp.org
SUMMARY:Jackson Township Historical Society Memory Lane - Old Homes in Jackson Township
DESCRIPTION:
URL:https://preservingplaintwp.org/event/jackson-township-historical-society-memory-lane-old-homes-in-jackson-township/
LOCATION:Ohio
END:VEVENT
BEGIN:VEVENT
DTSTART;TZID=UTC:20191008T180000
DTEND;TZID=UTC:20191008T200000
DTSTAMP:20260425T161941
CREATED:20190307T200044Z
LAST-MODIFIED:20190307T202624Z
UID:614-1570557600-1570564800@preservingplaintwp.org
SUMMARY:Plain Township Trustees Meeting
DESCRIPTION:
URL:https://preservingplaintwp.org/event/plain-township-trustees-meeting-10/
LOCATION:Ohio
END:VEVENT
BEGIN:VEVENT
DTSTART;TZID=UTC:20191006T140000
DTEND;TZID=UTC:20191006T170000
DTSTAMP:20260425T161941
CREATED:20190628T130517Z
LAST-MODIFIED:20190628T131422Z
UID:1380-1570370400-1570381200@preservingplaintwp.org
SUMMARY:Lake Township Historical Society - School House Open
DESCRIPTION:
URL:https://preservingplaintwp.org/event/lake-township-school-house-open-7/
LOCATION:Ohio
END:VEVENT
BEGIN:VEVENT
DTSTART;TZID=UTC:20191003T180000
DTEND;TZID=UTC:20191003T210000
DTSTAMP:20260425T161941
CREATED:20190609T134731Z
LAST-MODIFIED:20190609T134731Z
UID:1015-1570125600-1570136400@preservingplaintwp.org
SUMMARY:Quail Hollow - Traditional Music at the Manor - admission
DESCRIPTION:
URL:https://preservingplaintwp.org/event/quail-hollow-traditional-music-at-the-manor-admission-8/
LOCATION:Ohio
END:VEVENT
BEGIN:VEVENT
DTSTART;TZID=UTC:20190929T140000
DTEND;TZID=UTC:20190929T170000
DTSTAMP:20260425T161941
CREATED:20190628T130831Z
LAST-MODIFIED:20190628T130831Z
UID:1388-1569765600-1569776400@preservingplaintwp.org
SUMMARY:Lake Township Historical Society - Museum Open
DESCRIPTION:
URL:https://preservingplaintwp.org/event/lake-township-historical-society-museum-open-2/
LOCATION:Ohio
END:VEVENT
END:VCALENDAR