BEGIN:VCALENDAR
VERSION:2.0
PRODID:-//Plain Township Historical Society - ECPv6.15.20//NONSGML v1.0//EN
CALSCALE:GREGORIAN
METHOD:PUBLISH
X-WR-CALNAME:Plain Township Historical Society
X-ORIGINAL-URL:https://preservingplaintwp.org
X-WR-CALDESC:Events for Plain Township Historical Society
REFRESH-INTERVAL;VALUE=DURATION:PT1H
X-Robots-Tag:noindex
X-PUBLISHED-TTL:PT1H
BEGIN:VTIMEZONE
TZID:UTC
BEGIN:STANDARD
TZOFFSETFROM:+0000
TZOFFSETTO:+0000
TZNAME:UTC
DTSTART:20190101T000000
END:STANDARD
END:VTIMEZONE
BEGIN:VEVENT
DTSTART;TZID=UTC:20210818T160000
DTEND;TZID=UTC:20210818T190000
DTSTAMP:20260424T160231
CREATED:20210719T115754Z
LAST-MODIFIED:20210719T120416Z
UID:2010-1629302400-1629313200@preservingplaintwp.org
SUMMARY:McDonald's Fundraiser - Part 3
DESCRIPTION:
URL:https://preservingplaintwp.org/event/mcdonalds-fundraiser-part-3/
LOCATION:McDonald’s\, 6302 Market Ave N\, Canton\, OH\, 44721\, United States
ORGANIZER;CN="Plain Township Historical Society":MAILTO:preservingplaintwp@gmail.com
END:VEVENT
BEGIN:VEVENT
DTSTART;TZID=UTC:20210816T190000
DTEND;TZID=UTC:20210816T210000
DTSTAMP:20260424T160231
CREATED:20210719T120621Z
LAST-MODIFIED:20210719T120621Z
UID:2018-1629140400-1629147600@preservingplaintwp.org
SUMMARY:PTHS Free Monthly Meeting - Tales from the Jail - Presented by Jon Brunner
DESCRIPTION:
URL:https://preservingplaintwp.org/event/pths-free-monthly-meeting-tales-from-the-jail-presented-by-jon-brunner/
ORGANIZER;CN="Plain Township Historical Society":MAILTO:preservingplaintwp@gmail.com
END:VEVENT
BEGIN:VEVENT
DTSTART;TZID=UTC:20210807T100000
DTEND;TZID=UTC:20210807T150000
DTSTAMP:20260424T160231
CREATED:20210509T124457Z
LAST-MODIFIED:20210719T121351Z
UID:1936-1628330400-1628348400@preservingplaintwp.org
SUMMARY:PTHS at Side Market at the Square
DESCRIPTION:
URL:https://preservingplaintwp.org/event/pths-at-side-market-at-the-square/
LOCATION:Oakwood Square\, 2610 Easton St NE\, Canton\, OH\, 44721\, United States
END:VEVENT
BEGIN:VEVENT
DTSTART;TZID=UTC:20210719T190000
DTEND;TZID=UTC:20210719T210000
DTSTAMP:20260424T160231
CREATED:20210605T005850Z
LAST-MODIFIED:20210630T005944Z
UID:1972-1626721200-1626728400@preservingplaintwp.org
SUMMARY:PTHS Free Monthly Meeting - White Bronze Monuments - Susan Henry
DESCRIPTION:
URL:https://preservingplaintwp.org/event/pths-free-monthly-meeting-topic-to-be-determined/
ORGANIZER;CN="Plain Township Historical Society":MAILTO:preservingplaintwp@gmail.com
END:VEVENT
BEGIN:VEVENT
DTSTART;TZID=UTC:20210621T170000
DTEND;TZID=UTC:20210621T200000
DTSTAMP:20260424T160231
CREATED:20210605T005646Z
LAST-MODIFIED:20210605T005721Z
UID:1968-1624294800-1624305600@preservingplaintwp.org
SUMMARY:PTHS Free Monthly Meeting - Annual Picnic 5pm-8pm Veterans Park on Schneider Rd Bring a Covered Dish
DESCRIPTION:
URL:https://preservingplaintwp.org/event/pths-free-monthly-meeting/
LOCATION:Veterans Park\, 1714 Schneider St NE\, Canton\, OH\, 44721\, United States
ORGANIZER;CN="Plain Township Historical Society":MAILTO:preservingplaintwp@gmail.com
END:VEVENT
BEGIN:VEVENT
DTSTART;TZID=UTC:20210616T160000
DTEND;TZID=UTC:20210616T190000
DTSTAMP:20260424T160231
CREATED:20210318T145637Z
LAST-MODIFIED:20210517T014511Z
UID:1892-1623859200-1623870000@preservingplaintwp.org
SUMMARY:McDonald's Fundraiser - Part 2
DESCRIPTION:
URL:https://preservingplaintwp.org/event/mcdonalds-fundraiser-part-2/
LOCATION:McDonald’s\, 6302 Market Ave N\, Canton\, OH\, 44721\, United States
ORGANIZER;CN="Plain Township Historical Society":MAILTO:preservingplaintwp@gmail.com
END:VEVENT
BEGIN:VEVENT
DTSTART;TZID=UTC:20210606T100000
DTEND;TZID=UTC:20210606T150000
DTSTAMP:20260424T160231
CREATED:20210509T124356Z
LAST-MODIFIED:20210509T124742Z
UID:1932-1622973600-1622991600@preservingplaintwp.org
SUMMARY:PTHS at Side Street Market at the Square
DESCRIPTION:
URL:https://preservingplaintwp.org/event/pths-at-side-street-market-at-the-square/
LOCATION:Oakwood Square\, 2610 Easton St NE\, Canton\, OH\, 44721\, United States
END:VEVENT
BEGIN:VEVENT
DTSTART;TZID=UTC:20210524T180000
DTEND;TZID=UTC:20210524T200000
DTSTAMP:20260424T160231
CREATED:20210509T124041Z
LAST-MODIFIED:20210509T124041Z
UID:1930-1621879200-1621886400@preservingplaintwp.org
SUMMARY:PTHS May Monthly Meeting Free - Veterans Park
DESCRIPTION:
URL:https://preservingplaintwp.org/event/pths-may-monthly-meeting-free-veterans-park/
LOCATION:Veterans Park\, 1714 Schneider St NE\, Canton\, OH\, 44721\, United States
ORGANIZER;CN="Plain Township Historical Society":MAILTO:preservingplaintwp@gmail.com
END:VEVENT
BEGIN:VEVENT
DTSTART;VALUE=DATE:20201221
DTEND;VALUE=DATE:20201222
DTSTAMP:20260424T160231
CREATED:20191022T141933Z
LAST-MODIFIED:20200902T204214Z
UID:1526-1608508800-1608595199@preservingplaintwp.org
SUMMARY:Happy Holidays - NO PTHS Free Monthly Meeting
DESCRIPTION:The holidays are time of family and sharing.  Enjoy your holidays and be safe.  See you next year.  Happy Holidays!!!!!
URL:https://preservingplaintwp.org/event/happy-holidays-no-pths-free-montly-meeting/
END:VEVENT
BEGIN:VEVENT
DTSTART;TZID=UTC:20201216T160000
DTEND;TZID=UTC:20201216T190000
DTSTAMP:20260424T160231
CREATED:20201031T142914Z
LAST-MODIFIED:20201031T142914Z
UID:1755-1608134400-1608145200@preservingplaintwp.org
SUMMARY:Plain Township Historical Society McDonald's Fundraiser Part 2
DESCRIPTION:
URL:https://preservingplaintwp.org/event/plain-township-historical-society-mcdonalds-fundraiser-part-2/
LOCATION:McDonald’s\, 6302 Market Ave N\, Canton\, OH\, 44721\, United States
ORGANIZER;CN="Plain Township Historical Society":MAILTO:preservingplaintwp@gmail.com
END:VEVENT
BEGIN:VEVENT
DTSTART;TZID=UTC:20201201T140000
DTEND;TZID=UTC:20201201T160000
DTSTAMP:20260424T160231
CREATED:20191022T141759Z
LAST-MODIFIED:20191022T141759Z
UID:1524-1606831200-1606838400@preservingplaintwp.org
SUMMARY:PTHS Board of Directors Meeting
DESCRIPTION:
URL:https://preservingplaintwp.org/event/pths-board-of-directors-meeting-12/
ORGANIZER;CN="Plain Township Historical Society":MAILTO:preservingplaintwp@gmail.com
END:VEVENT
BEGIN:VEVENT
DTSTART;TZID=UTC:20201116T190000
DTEND;TZID=UTC:20201116T210000
DTSTAMP:20260424T160231
CREATED:20191022T141654Z
LAST-MODIFIED:20200825T023325Z
UID:1522-1605553200-1605560400@preservingplaintwp.org
SUMMARY:CANCELLED - Edgefield Grade School - PTHS Free Monthly Meeting
DESCRIPTION:Explore the history of Edgefield Grade school with Judy Pocock and Cindy Guest.
URL:https://preservingplaintwp.org/event/edgefield-grade-school-pths-free-monthly-meeting/
ORGANIZER;CN="Plain Township Historical Society":MAILTO:preservingplaintwp@gmail.com
END:VEVENT
BEGIN:VEVENT
DTSTART;TZID=UTC:20201103T140000
DTEND;TZID=UTC:20201103T160000
DTSTAMP:20260424T160231
CREATED:20191022T141536Z
LAST-MODIFIED:20201031T142004Z
UID:1520-1604412000-1604419200@preservingplaintwp.org
SUMMARY:CANCELLED - PTHS Board of Directors Meeting
DESCRIPTION:
URL:https://preservingplaintwp.org/event/pths-board-of-directors-meeting-11/
ORGANIZER;CN="Plain Township Historical Society":MAILTO:preservingplaintwp@gmail.com
END:VEVENT
BEGIN:VEVENT
DTSTART;TZID=UTC:20201019T190000
DTEND;TZID=UTC:20201019T210000
DTSTAMP:20260424T160231
CREATED:20191022T141321Z
LAST-MODIFIED:20200825T023257Z
UID:1518-1603134000-1603141200@preservingplaintwp.org
SUMMARY:CANCELLED - Extra\, Extra Read All About It - High School Newspapers - PTHS Free Monthly Meeting
DESCRIPTION:Take a look back at the newspapers from Middlebranch\, Glenwood\, Oakwood and GlenOak High Schools by Cindy Guest.
URL:https://preservingplaintwp.org/event/extra-extra-read-all-about-it-high-school-newspapers-pths-free-monthly-meeting/
ORGANIZER;CN="Plain Township Historical Society":MAILTO:preservingplaintwp@gmail.com
END:VEVENT
BEGIN:VEVENT
DTSTART;TZID=UTC:20201006T140000
DTEND;TZID=UTC:20201006T160000
DTSTAMP:20260424T160231
CREATED:20191022T141128Z
LAST-MODIFIED:20191022T141128Z
UID:1516-1601992800-1602000000@preservingplaintwp.org
SUMMARY:PTHS Board of Directors Meeting
DESCRIPTION:
URL:https://preservingplaintwp.org/event/pths-board-of-directors-meeting-10/
ORGANIZER;CN="Plain Township Historical Society":MAILTO:preservingplaintwp@gmail.com
END:VEVENT
BEGIN:VEVENT
DTSTART;TZID=UTC:20201003T100000
DTEND;TZID=UTC:20201003T140000
DTSTAMP:20260424T160231
CREATED:20200902T205024Z
LAST-MODIFIED:20200902T210248Z
UID:1717-1601719200-1601733600@preservingplaintwp.org
SUMMARY:Ridgewood Neighborhood Donation Day at the McKinley Presidential Library and Museum
DESCRIPTION:Preserving Our Past\, Present and Future \nThere is a project underway to update the History of the Ridgewood Neighborhood through a partnership with The McKinley Presidential Library and Museum/Stark County Historical Society\, The Plain\nTownship Historical Society and The Ridgewood Association. In order to help facilitate the collection of Ridgewood information\, we are planning a Historic Ridgewood Day at the McKinley Museum on Saturday\, October 3\, 2020. On that day we plan to collect any information you may wish to share to update our History. Given the current state of health considerations\, the information will be handled on a Drive-Thru basis from 10 am to 2 pm. \nIn order to best organize the day\, save you time and adhere to COVID guidelines\, simply\ndrive by the McKinley museum\, we will come to your car to retrieve your information and provide\nyou with the proper paperwork. Once items are brought to the museum\, they will be placed\nin a Que to be recorded. Your original items will be returned to you later once recorded\nor copied. You may also donate these items as appropriate to the Museum Archives. Past\nRidgewood residents and friends are welcome to participate as well. All information\ngathered from this event will be shared by Historic Ridgewood\, McKinley Presidential\nLibrary and Museum and the Plain Township Historical Society to help preserve and share\nthe history of Ridgewood. The contributions shared by our Ridgewood friends will be used\nin our updated History publication and become part of our on-line information archive\ndedicated to Ridgewood’s History.  \nThank you for your support on this project. Thomas Grove\, Historic Ridgewood Historian
URL:https://preservingplaintwp.org/event/ridgewood-neighborhood-donation-day-at-the-mckinley-presidential-library-and-museum/
LOCATION:McKinley Presidential Library and Museum\, 800 McKinley Monument Dr NW\, Canton\, OH\, 44708\, United States
END:VEVENT
BEGIN:VEVENT
DTSTART;TZID=UTC:20200930T160000
DTEND;TZID=UTC:20200930T190000
DTSTAMP:20260424T160231
CREATED:20200909T130758Z
LAST-MODIFIED:20200909T130758Z
UID:1738-1601481600-1601492400@preservingplaintwp.org
SUMMARY:Plain Township Historical Society McDonald's Fundraiser
DESCRIPTION:
URL:https://preservingplaintwp.org/event/plain-township-historical-society-mcdonalds-fundraiser/
LOCATION:McDonald’s\, 6302 Market Ave N\, Canton\, OH\, 44721\, United States
ORGANIZER;CN="Plain Township Historical Society":MAILTO:preservingplaintwp@gmail.com
END:VEVENT
BEGIN:VEVENT
DTSTART;TZID=UTC:20200921T190000
DTEND;TZID=UTC:20200921T210000
DTSTAMP:20260424T160231
CREATED:20191022T141028Z
LAST-MODIFIED:20200825T023204Z
UID:1514-1600714800-1600722000@preservingplaintwp.org
SUMMARY:CANCELLED - Canton as Little Chicago - PTHS Free Monthly Meeting
DESCRIPTION:A look at Canton during its time dubbed “Little Chicago” by Dick Haldi
URL:https://preservingplaintwp.org/event/canton-as-little-chicago-pths-free-monthly-meeting/
ORGANIZER;CN="Plain Township Historical Society":MAILTO:preservingplaintwp@gmail.com
END:VEVENT
BEGIN:VEVENT
DTSTART;TZID=UTC:20200901T140000
DTEND;TZID=UTC:20200901T160000
DTSTAMP:20260424T160231
CREATED:20191022T140857Z
LAST-MODIFIED:20191022T140857Z
UID:1512-1598968800-1598976000@preservingplaintwp.org
SUMMARY:PTHS Board of Directors Meeting
DESCRIPTION:
URL:https://preservingplaintwp.org/event/pths-board-of-directors-meeting-9/
ORGANIZER;CN="Plain Township Historical Society":MAILTO:preservingplaintwp@gmail.com
END:VEVENT
BEGIN:VEVENT
DTSTART;TZID=UTC:20200817T190000
DTEND;TZID=UTC:20200817T210000
DTSTAMP:20260424T160231
CREATED:20191022T140633Z
LAST-MODIFIED:20200711T194033Z
UID:1508-1597690800-1597698000@preservingplaintwp.org
SUMMARY:CANCELLED - Times a Tickin' - Clock Doctor - PTHS Free Monthly Meeting
DESCRIPTION:Explore the history and see examples of clocks.  Bring your clock if you have questions.  Our timekeeper is Gail Cousino.
URL:https://preservingplaintwp.org/event/times-a-tickin-clock-doctor-pths-free-monthly-meeting/
ORGANIZER;CN="Plain Township Historical Society":MAILTO:preservingplaintwp@gmail.com
END:VEVENT
BEGIN:VEVENT
DTSTART;TZID=UTC:20200804T140000
DTEND;TZID=UTC:20200804T160000
DTSTAMP:20260424T160231
CREATED:20191022T140806Z
LAST-MODIFIED:20191022T140806Z
UID:1510-1596549600-1596556800@preservingplaintwp.org
SUMMARY:PTHS Board of Directors Meeting
DESCRIPTION:
URL:https://preservingplaintwp.org/event/pths-board-of-directors-meeting-8/
ORGANIZER;CN="Plain Township Historical Society":MAILTO:preservingplaintwp@gmail.com
END:VEVENT
BEGIN:VEVENT
DTSTART;TZID=UTC:20200720T190000
DTEND;TZID=UTC:20200720T210000
DTSTAMP:20260424T160231
CREATED:20191022T140445Z
LAST-MODIFIED:20200604T130213Z
UID:1506-1595271600-1595278800@preservingplaintwp.org
SUMMARY:CANCELLED - Tales from the Jail - PTHS Free Monthly Meeting
DESCRIPTION:Highlights from historic newspapers about jail incidents by Jon Brunner.
URL:https://preservingplaintwp.org/event/tales-from-the-jail-pths-free-monthly-meeting/
ORGANIZER;CN="Plain Township Historical Society":MAILTO:preservingplaintwp@gmail.com
END:VEVENT
BEGIN:VEVENT
DTSTART;TZID=UTC:20200707T140000
DTEND;TZID=UTC:20200707T160000
DTSTAMP:20260424T160231
CREATED:20191022T140318Z
LAST-MODIFIED:20191022T140318Z
UID:1504-1594130400-1594137600@preservingplaintwp.org
SUMMARY:PTHS Board of Directors Meeting
DESCRIPTION:
URL:https://preservingplaintwp.org/event/pths-board-of-directors-meeting-7/
ORGANIZER;CN="Plain Township Historical Society":MAILTO:preservingplaintwp@gmail.com
END:VEVENT
BEGIN:VEVENT
DTSTART;TZID=UTC:20200615T180000
DTEND;TZID=UTC:20200615T200000
DTSTAMP:20260424T160231
CREATED:20191022T140216Z
LAST-MODIFIED:20200514T141935Z
UID:1502-1592244000-1592251200@preservingplaintwp.org
SUMMARY:CANCELLED - Annual Picnic - Bring Covered Dish - PTHS Free Monthly Meeting
DESCRIPTION:Join us in our annual covered dish dinner at Veterans Park.  Please not the location and time change from our regularly scheduled meetings.
URL:https://preservingplaintwp.org/event/annual-picnic-bring-covered-dish-pths-free-monthly-meeting/
LOCATION:Veterans Park\, 1714 Schneider St NE\, Canton\, OH\, 44721\, United States
ORGANIZER;CN="Plain Township Historical Society":MAILTO:preservingplaintwp@gmail.com
END:VEVENT
BEGIN:VEVENT
DTSTART;TZID=UTC:20200602T140000
DTEND;TZID=UTC:20200602T160000
DTSTAMP:20260424T160231
CREATED:20191022T140020Z
LAST-MODIFIED:20191022T140020Z
UID:1500-1591106400-1591113600@preservingplaintwp.org
SUMMARY:PTHS Board of Directors Meeting
DESCRIPTION:
URL:https://preservingplaintwp.org/event/pths-board-of-directors-meeting-6/
ORGANIZER;CN="Plain Township Historical Society":MAILTO:preservingplaintwp@gmail.com
END:VEVENT
BEGIN:VEVENT
DTSTART;TZID=UTC:20200518T190000
DTEND;TZID=UTC:20200518T210000
DTSTAMP:20260424T160231
CREATED:20191022T135735Z
LAST-MODIFIED:20200426T203012Z
UID:1498-1589828400-1589835600@preservingplaintwp.org
SUMMARY:CANCELLED - William McKinley in War and at War - PTHS Free Monthly Meeting
DESCRIPTION:A look at President McKinley’s time serving in the war and leading a country by Jeff Hissong.
URL:https://preservingplaintwp.org/event/william-mckinley-in-war-and-at-war-pths-free-monthly-meeting/
ORGANIZER;CN="Plain Township Historical Society":MAILTO:preservingplaintwp@gmail.com
END:VEVENT
BEGIN:VEVENT
DTSTART;TZID=UTC:20200505T140000
DTEND;TZID=UTC:20200505T160000
DTSTAMP:20260424T160231
CREATED:20191022T135600Z
LAST-MODIFIED:20191022T135600Z
UID:1496-1588687200-1588694400@preservingplaintwp.org
SUMMARY:PTHS Board of Directors Meeting
DESCRIPTION:
URL:https://preservingplaintwp.org/event/pths-board-of-directors-meeting-5/
ORGANIZER;CN="Plain Township Historical Society":MAILTO:preservingplaintwp@gmail.com
END:VEVENT
BEGIN:VEVENT
DTSTART;TZID=UTC:20200420T190000
DTEND;TZID=UTC:20200420T210000
DTSTAMP:20260424T160231
CREATED:20191022T135457Z
LAST-MODIFIED:20200404T002418Z
UID:1494-1587409200-1587416400@preservingplaintwp.org
SUMMARY:CANCELED - Inverted Intersections III - PTHS Free Monthly Meeting
DESCRIPTION:CANCELED due to the Govenor’s stay at home directive.  The third part in this series that takes a look at how the intersections in downtown Canton have changed by Mark Holland.
URL:https://preservingplaintwp.org/event/inverted-intersections-iii-pths-free-monthly-meeting/
ORGANIZER;CN="Plain Township Historical Society":MAILTO:preservingplaintwp@gmail.com
END:VEVENT
BEGIN:VEVENT
DTSTART;TZID=UTC:20200407T140000
DTEND;TZID=UTC:20200407T160000
DTSTAMP:20260424T160231
CREATED:20191022T135330Z
LAST-MODIFIED:20191022T135330Z
UID:1492-1586268000-1586275200@preservingplaintwp.org
SUMMARY:PTHS Board of Directors Meeting
DESCRIPTION:
URL:https://preservingplaintwp.org/event/pths-board-of-directors-meeting-4/
ORGANIZER;CN="Plain Township Historical Society":MAILTO:preservingplaintwp@gmail.com
END:VEVENT
BEGIN:VEVENT
DTSTART;TZID=UTC:20200316T190000
DTEND;TZID=UTC:20200316T210000
DTSTAMP:20260424T160231
CREATED:20191022T135234Z
LAST-MODIFIED:20200313T002627Z
UID:1490-1584385200-1584392400@preservingplaintwp.org
SUMMARY:CANCELLED - White Bronze Monuments\, the Other Tombstone - PTHS Free Monthly Meeting
DESCRIPTION:A look at an alternative tombstone material and its significance in cemeteries by Susan Henry.
URL:https://preservingplaintwp.org/event/white-bronze-monuments-the-other-tombstone-pths-free-monthly-meeting/
ORGANIZER;CN="Plain Township Historical Society":MAILTO:preservingplaintwp@gmail.com
END:VEVENT
END:VCALENDAR