BEGIN:VCALENDAR
VERSION:2.0
PRODID:-//Plain Township Historical Society - ECPv6.15.20//NONSGML v1.0//EN
CALSCALE:GREGORIAN
METHOD:PUBLISH
X-WR-CALNAME:Plain Township Historical Society
X-ORIGINAL-URL:https://preservingplaintwp.org
X-WR-CALDESC:Events for Plain Township Historical Society
REFRESH-INTERVAL;VALUE=DURATION:PT1H
X-Robots-Tag:noindex
X-PUBLISHED-TTL:PT1H
BEGIN:VTIMEZONE
TZID:UTC
BEGIN:STANDARD
TZOFFSETFROM:+0000
TZOFFSETTO:+0000
TZNAME:UTC
DTSTART:20180101T000000
END:STANDARD
END:VTIMEZONE
BEGIN:VEVENT
DTSTART;TZID=UTC:20190904T160000
DTEND;TZID=UTC:20190904T190000
DTSTAMP:20260425T123421
CREATED:20190309T185247Z
LAST-MODIFIED:20190309T185247Z
UID:757-1567612800-1567623600@preservingplaintwp.org
SUMMARY:Plain Township Farmers Market
DESCRIPTION:
URL:https://preservingplaintwp.org/event/plain-township-farmers-market-19/
LOCATION:Veterans Park\, 1714 Schneider St NE\, Canton\, OH\, 44721\, United States
END:VEVENT
BEGIN:VEVENT
DTSTART;TZID=UTC:20190901T140000
DTEND;TZID=UTC:20190901T170000
DTSTAMP:20260425T123421
CREATED:20190628T131001Z
LAST-MODIFIED:20190628T131001Z
UID:1392-1567346400-1567357200@preservingplaintwp.org
SUMMARY:Lake Township Historical Society - Museum Open
DESCRIPTION:
URL:https://preservingplaintwp.org/event/lake-township-historical-society-museum-open-4/
END:VEVENT
BEGIN:VEVENT
DTSTART;TZID=UTC:20190828T160000
DTEND;TZID=UTC:20190828T190000
DTSTAMP:20260425T123421
CREATED:20190309T185154Z
LAST-MODIFIED:20190309T185624Z
UID:755-1567008000-1567018800@preservingplaintwp.org
SUMMARY:Plain Township Farmers Market - Harvest Celebration
DESCRIPTION:
URL:https://preservingplaintwp.org/event/plain-township-farmers-market-18/
LOCATION:Veterans Park\, 1714 Schneider St NE\, Canton\, OH\, 44721\, United States
END:VEVENT
BEGIN:VEVENT
DTSTART;TZID=UTC:20190827T180000
DTEND;TZID=UTC:20190827T200000
DTSTAMP:20260425T123421
CREATED:20190307T195807Z
LAST-MODIFIED:20190307T202447Z
UID:608-1566928800-1566936000@preservingplaintwp.org
SUMMARY:Plain Township Trustees Meeting
DESCRIPTION:
URL:https://preservingplaintwp.org/event/plain-township-trustees-meeting-7/
END:VEVENT
BEGIN:VEVENT
DTSTART;TZID=UTC:20190827T121000
DTEND;TZID=UTC:20190827T125000
DTSTAMP:20260425T123421
CREATED:20190628T133454Z
LAST-MODIFIED:20190628T133454Z
UID:1413-1566907800-1566910200@preservingplaintwp.org
SUMMARY:Massillon Museum Brown Bag Lunch - The War Between Paul Brown and Art Modell
DESCRIPTION:
URL:https://preservingplaintwp.org/event/massillon-museum-brown-bag-lunch-the-war-between-paul-brown-and-art-modell/
END:VEVENT
BEGIN:VEVENT
DTSTART;TZID=UTC:20190825T140000
DTEND;TZID=UTC:20190825T170000
DTSTAMP:20260425T123421
CREATED:20190628T130314Z
LAST-MODIFIED:20190628T131604Z
UID:1374-1566741600-1566752400@preservingplaintwp.org
SUMMARY:Lake Township Historical Society - School House Open
DESCRIPTION:
URL:https://preservingplaintwp.org/event/lake-township-school-house-open-4/
END:VEVENT
BEGIN:VEVENT
DTSTART;TZID=UTC:20190825T140000
DTEND;TZID=UTC:20190825T150000
DTSTAMP:20260425T123421
CREATED:20190316T210422Z
LAST-MODIFIED:20190316T210422Z
UID:825-1566741600-1566745200@preservingplaintwp.org
SUMMARY:Alliance Historical Society - Olive Poisoning Centennial Commemoration Service
DESCRIPTION:On August 23\, 1919\, a dinner party was held for returning war hero Col. C. C. Weybrecht at the Lakeside Country Club in Canton. The hostess\, Mrs. Helen Sebring Gahris brought a jar of ripe olives to the dinner to decorate the table. Little did she know that the olives were tainted with botulism. As a result\, a total of 7 guests\, including Col. Weybrecht died over the next several days. Four of the victims are buried in the Alliance City Cemetery. This cemetery tour and commemoration will reflect on the lives of those who died in this tragic Alliance event.
URL:https://preservingplaintwp.org/event/alliance-historical-society-olive-poisoning-centennial-commemoration-service/
END:VEVENT
BEGIN:VEVENT
DTSTART;TZID=UTC:20190825T133000
DTEND;TZID=UTC:20190825T153000
DTSTAMP:20260425T123421
CREATED:20190510T014944Z
LAST-MODIFIED:20190510T014944Z
UID:968-1566739800-1566747000@preservingplaintwp.org
SUMMARY:Osnaburg Township Historical Society - Werner Inn Open
DESCRIPTION:
URL:https://preservingplaintwp.org/event/osnaburg-township-historical-society-werner-inn-open-3/
END:VEVENT
BEGIN:VEVENT
DTSTART;TZID=UTC:20190825T130000
DTEND;TZID=UTC:20190825T150000
DTSTAMP:20260425T123421
CREATED:20190609T135349Z
LAST-MODIFIED:20190609T135349Z
UID:1029-1566738000-1566745200@preservingplaintwp.org
SUMMARY:Quail Hollow Manor House Tour - 1\, 2\, and 3pm
DESCRIPTION:
URL:https://preservingplaintwp.org/event/quail-hollow-manor-house-tour-1-2-and-3pm-10/
END:VEVENT
BEGIN:VEVENT
DTSTART;TZID=UTC:20190822T160000
DTEND;TZID=UTC:20190822T190000
DTSTAMP:20260425T123421
CREATED:20190703T231001Z
LAST-MODIFIED:20190703T231001Z
UID:1429-1566489600-1566500400@preservingplaintwp.org
SUMMARY:PTHS Fundraiser at McDonald's 6302 Market Ave N
DESCRIPTION:
URL:https://preservingplaintwp.org/event/pths-fundraiser-at-mcdonalds-6302-market-ave-n/
LOCATION:McDonald’s\, 6302 Market Ave N\, Canton\, OH\, 44721\, United States
ORGANIZER;CN="Plain Township Historical Society":MAILTO:preservingplaintwp@gmail.com
END:VEVENT
BEGIN:VEVENT
DTSTART;TZID=UTC:20190821T160000
DTEND;TZID=UTC:20190821T190000
DTSTAMP:20260425T123421
CREATED:20190309T185101Z
LAST-MODIFIED:20190309T185101Z
UID:753-1566403200-1566414000@preservingplaintwp.org
SUMMARY:Plain Township Farmers Market
DESCRIPTION:
URL:https://preservingplaintwp.org/event/plain-township-farmers-market-17/
LOCATION:Veterans Park\, 1714 Schneider St NE\, Canton\, OH\, 44721\, United States
END:VEVENT
BEGIN:VEVENT
DTSTART;TZID=UTC:20190819T190000
DTEND;TZID=UTC:20190819T210000
DTSTAMP:20260425T123421
CREATED:20190117T211631Z
LAST-MODIFIED:20190307T202426Z
UID:213-1566241200-1566248400@preservingplaintwp.org
SUMMARY:History Comes to Life - PTHS Free Monthly Meeting
DESCRIPTION:Presenter: David Lasure\, caretaker of the Henry Warstler Cemetery and North Canton Cemetery\nJoin David as he looks as what information a cemetery can bring to life.  Explore interesting aspects of both cemeteries in this evenings talk.
URL:https://preservingplaintwp.org/event/history-comes-to-life-pths-free-monthly-meeting/
ORGANIZER;CN="Plain Township Historical Society":MAILTO:preservingplaintwp@gmail.com
END:VEVENT
BEGIN:VEVENT
DTSTART;TZID=UTC:20190818T140000
DTEND;TZID=UTC:20190818T170000
DTSTAMP:20260425T123421
CREATED:20190628T131036Z
LAST-MODIFIED:20190628T131036Z
UID:1394-1566136800-1566147600@preservingplaintwp.org
SUMMARY:Lake Township Historical Society - Museum Open
DESCRIPTION:
URL:https://preservingplaintwp.org/event/lake-township-historical-society-museum-open-5/
END:VEVENT
BEGIN:VEVENT
DTSTART;TZID=UTC:20190818T130000
DTEND;TZID=UTC:20190818T150000
DTSTAMP:20260425T123421
CREATED:20190609T135310Z
LAST-MODIFIED:20190609T135310Z
UID:1027-1566133200-1566140400@preservingplaintwp.org
SUMMARY:Quail Hollow Manor House Tour - 1\, 2\, and 3pm
DESCRIPTION:
URL:https://preservingplaintwp.org/event/quail-hollow-manor-house-tour-1-2-and-3pm-9/
END:VEVENT
BEGIN:VEVENT
DTSTART;TZID=UTC:20190817T190000
DTEND;TZID=UTC:20190817T203000
DTSTAMP:20260425T123421
CREATED:20190502T211004Z
LAST-MODIFIED:20190502T211004Z
UID:944-1566068400-1566073800@preservingplaintwp.org
SUMMARY:St. Helena III Canal Boat - Spirits and Spirits Cruise
DESCRIPTION:Contact the Canalway Center for reservations.  Must be 21.  $45 per person.
URL:https://preservingplaintwp.org/event/st-helena-iii-canal-boat-spirits-and-spirits-cruise-2/
END:VEVENT
BEGIN:VEVENT
DTSTART;TZID=UTC:20190817T100000
DTEND;TZID=UTC:20190817T170000
DTSTAMP:20260425T123421
CREATED:20190316T205501Z
LAST-MODIFIED:20190629T004946Z
UID:819-1566036000-1566061200@preservingplaintwp.org
SUMMARY:Spring Hill - Underground Railroad Experience
DESCRIPTION:Self-Guided tours of the home from 10:00am to 5:00pm – Admission $4 \nWalking performance at 10:00am\, 11:15am\, and 2:15pm.\nSeated performance at 1:00pm\nRSVP required\nTickets $10 for adults and $7 for students
URL:https://preservingplaintwp.org/event/spring-hill-underground-railroad-experience/
END:VEVENT
BEGIN:VEVENT
DTSTART;TZID=UTC:20190815T180000
DTEND;TZID=UTC:20190815T210000
DTSTAMP:20260425T123421
CREATED:20190609T134406Z
LAST-MODIFIED:20190609T134406Z
UID:1008-1565892000-1565902800@preservingplaintwp.org
SUMMARY:Quail Hollow - Traditional Music at the Manor - admission
DESCRIPTION:
URL:https://preservingplaintwp.org/event/quail-hollow-traditional-music-at-the-manor-admission-5/
END:VEVENT
BEGIN:VEVENT
DTSTART;TZID=UTC:20190815T180000
DTEND;TZID=UTC:20190815T190000
DTSTAMP:20260425T123421
CREATED:20190609T135817Z
LAST-MODIFIED:20190609T135817Z
UID:1037-1565892000-1565895600@preservingplaintwp.org
SUMMARY:Molly Stark Grounds Tour
DESCRIPTION:
URL:https://preservingplaintwp.org/event/molly-stark-grounds-tour-3/
END:VEVENT
BEGIN:VEVENT
DTSTART;TZID=UTC:20190814T160000
DTEND;TZID=UTC:20190814T190000
DTSTAMP:20260425T123421
CREATED:20190309T185024Z
LAST-MODIFIED:20190309T185024Z
UID:751-1565798400-1565809200@preservingplaintwp.org
SUMMARY:Plain Township Farmers Market
DESCRIPTION:
URL:https://preservingplaintwp.org/event/plain-township-farmers-market-16/
LOCATION:Veterans Park\, 1714 Schneider St NE\, Canton\, OH\, 44721\, United States
END:VEVENT
BEGIN:VEVENT
DTSTART;TZID=UTC:20190813T080000
DTEND;TZID=UTC:20190813T170000
DTSTAMP:20260425T123421
CREATED:20190307T195719Z
LAST-MODIFIED:20190307T202341Z
UID:606-1565683200-1565715600@preservingplaintwp.org
SUMMARY:Plain Township Trustees Meeting
DESCRIPTION:
URL:https://preservingplaintwp.org/event/plain-township-trustees-meeting-6/
END:VEVENT
BEGIN:VEVENT
DTSTART;TZID=UTC:20190811T170000
DTEND;TZID=UTC:20190811T190000
DTSTAMP:20260425T123421
CREATED:20190502T210828Z
LAST-MODIFIED:20190502T210828Z
UID:942-1565542800-1565550000@preservingplaintwp.org
SUMMARY:St. Helena III Canal Boat - Sanford and Sons Cruise
DESCRIPTION:Contact the Canalway Center for reservations. $23 per person.
URL:https://preservingplaintwp.org/event/st-helena-iii-canal-boat-sanford-and-sons-cruise/
END:VEVENT
BEGIN:VEVENT
DTSTART;TZID=UTC:20190811T143000
DTEND;TZID=UTC:20190811T170000
DTSTAMP:20260425T123421
CREATED:20190609T135639Z
LAST-MODIFIED:20190609T135639Z
UID:1035-1565533800-1565542800@preservingplaintwp.org
SUMMARY:Sandy and Beaver Canal Days Mill Tours
DESCRIPTION:
URL:https://preservingplaintwp.org/event/sandy-and-beaver-canal-days-mill-tours-3/
END:VEVENT
BEGIN:VEVENT
DTSTART;TZID=UTC:20190811T140000
DTEND;TZID=UTC:20190811T170000
DTSTAMP:20260425T123421
CREATED:20190628T130232Z
LAST-MODIFIED:20190628T131636Z
UID:1372-1565532000-1565542800@preservingplaintwp.org
SUMMARY:Lake Township Historical Society - School House Open
DESCRIPTION:
URL:https://preservingplaintwp.org/event/lake-township-school-house-open-3/
END:VEVENT
BEGIN:VEVENT
DTSTART;TZID=UTC:20190811T130000
DTEND;TZID=UTC:20190811T150000
DTSTAMP:20260425T123421
CREATED:20190609T135221Z
LAST-MODIFIED:20190609T135221Z
UID:1025-1565528400-1565535600@preservingplaintwp.org
SUMMARY:Quail Hollow Manor House Tour - 1\, 2\, and 3pm
DESCRIPTION:
URL:https://preservingplaintwp.org/event/quail-hollow-manor-house-tour-1-2-and-3pm-8/
END:VEVENT
BEGIN:VEVENT
DTSTART;TZID=UTC:20190810T160000
DTEND;TZID=UTC:20190810T210000
DTSTAMP:20260425T123421
CREATED:20190609T135540Z
LAST-MODIFIED:20190609T135540Z
UID:1033-1565452800-1565470800@preservingplaintwp.org
SUMMARY:Sandy and Beaver Canal Days Mill Tours
DESCRIPTION:
URL:https://preservingplaintwp.org/event/sandy-and-beaver-canal-days-mill-tours-2/
END:VEVENT
BEGIN:VEVENT
DTSTART;TZID=UTC:20190809T170000
DTEND;TZID=UTC:20190809T210000
DTSTAMP:20260425T123421
CREATED:20190609T135452Z
LAST-MODIFIED:20190609T135452Z
UID:1031-1565370000-1565384400@preservingplaintwp.org
SUMMARY:Sandy and Beaver Canal Days Mill Tours
DESCRIPTION:
URL:https://preservingplaintwp.org/event/sandy-and-beaver-canal-days-mill-tours/
END:VEVENT
BEGIN:VEVENT
DTSTART;TZID=UTC:20190808T190000
DTEND;TZID=UTC:20190808T203000
DTSTAMP:20260425T123421
CREATED:20190308T004815Z
LAST-MODIFIED:20190308T004815Z
UID:665-1565290800-1565296200@preservingplaintwp.org
SUMMARY:Jackson Township Historical Society Memory Lane - One Room Schools in Jackson Township
DESCRIPTION:
URL:https://preservingplaintwp.org/event/jackson-township-historical-society-memory-lane-one-room-schools-in-jackson-township/
END:VEVENT
BEGIN:VEVENT
DTSTART;TZID=UTC:20190807T160000
DTEND;TZID=UTC:20190807T190000
DTSTAMP:20260425T123421
CREATED:20190309T184943Z
LAST-MODIFIED:20190309T185730Z
UID:749-1565193600-1565204400@preservingplaintwp.org
SUMMARY:Plain Township Farmers Market - Farmers' Market Week
DESCRIPTION:
URL:https://preservingplaintwp.org/event/plain-township-farmers-market-15/
LOCATION:Veterans Park\, 1714 Schneider St NE\, Canton\, OH\, 44721\, United States
END:VEVENT
BEGIN:VEVENT
DTSTART;VALUE=DATE:20190806
DTEND;VALUE=DATE:20190807
DTSTAMP:20260425T123421
CREATED:20190307T201106Z
LAST-MODIFIED:20190307T201106Z
UID:632-1565049600-1565135999@preservingplaintwp.org
SUMMARY:Election Day
DESCRIPTION:
URL:https://preservingplaintwp.org/event/election-day-2/
END:VEVENT
BEGIN:VEVENT
DTSTART;TZID=UTC:20190804T140000
DTEND;TZID=UTC:20190804T170000
DTSTAMP:20260425T123421
CREATED:20190628T131110Z
LAST-MODIFIED:20190628T131110Z
UID:1396-1564927200-1564938000@preservingplaintwp.org
SUMMARY:Lake Township Historical Society - Museum Open
DESCRIPTION:
URL:https://preservingplaintwp.org/event/lake-township-historical-society-museum-open-6/
END:VEVENT
END:VCALENDAR