BEGIN:VCALENDAR
VERSION:2.0
PRODID:-//Plain Township Historical Society - ECPv6.15.20//NONSGML v1.0//EN
CALSCALE:GREGORIAN
METHOD:PUBLISH
X-WR-CALNAME:Plain Township Historical Society
X-ORIGINAL-URL:https://preservingplaintwp.org
X-WR-CALDESC:Events for Plain Township Historical Society
REFRESH-INTERVAL;VALUE=DURATION:PT1H
X-Robots-Tag:noindex
X-PUBLISHED-TTL:PT1H
BEGIN:VTIMEZONE
TZID:UTC
BEGIN:STANDARD
TZOFFSETFROM:+0000
TZOFFSETTO:+0000
TZNAME:UTC
DTSTART:20180101T000000
END:STANDARD
END:VTIMEZONE
BEGIN:VEVENT
DTSTART;TZID=UTC:20191107T180000
DTEND;TZID=UTC:20191107T210000
DTSTAMP:20260425T110055
CREATED:20190609T134902Z
LAST-MODIFIED:20190609T134902Z
UID:1019-1573149600-1573160400@preservingplaintwp.org
SUMMARY:Quail Hollow - Traditional Music at the Manor - admission
DESCRIPTION:
URL:https://preservingplaintwp.org/event/quail-hollow-traditional-music-at-the-manor-admission-10/
END:VEVENT
BEGIN:VEVENT
DTSTART;VALUE=DATE:20191105
DTEND;VALUE=DATE:20191106
DTSTAMP:20260425T110055
CREATED:20190307T201033Z
LAST-MODIFIED:20190307T201033Z
UID:630-1572912000-1572998399@preservingplaintwp.org
SUMMARY:Election Day
DESCRIPTION:
URL:https://preservingplaintwp.org/event/election-day/
END:VEVENT
BEGIN:VEVENT
DTSTART;VALUE=DATE:20191103
DTEND;VALUE=DATE:20191104
DTSTAMP:20260425T110055
CREATED:20190307T201232Z
LAST-MODIFIED:20190307T201232Z
UID:636-1572739200-1572825599@preservingplaintwp.org
SUMMARY:Daylight Savings Time Ends
DESCRIPTION:
URL:https://preservingplaintwp.org/event/daylight-savings-time-ends/
END:VEVENT
BEGIN:VEVENT
DTSTART;TZID=UTC:20191027T140000
DTEND;TZID=UTC:20191027T170000
DTSTAMP:20260425T110055
CREATED:20190628T130648Z
LAST-MODIFIED:20190628T131314Z
UID:1384-1572184800-1572195600@preservingplaintwp.org
SUMMARY:Lake Township Historical Society - Museum Open
DESCRIPTION:
URL:https://preservingplaintwp.org/event/lake-township-museum-open/
END:VEVENT
BEGIN:VEVENT
DTSTART;TZID=UTC:20191022T180000
DTEND;TZID=UTC:20191022T200000
DTSTAMP:20260425T110055
CREATED:20190307T200148Z
LAST-MODIFIED:20190307T202706Z
UID:616-1571767200-1571774400@preservingplaintwp.org
SUMMARY:Plain Township Trustees Meeting
DESCRIPTION:
URL:https://preservingplaintwp.org/event/plain-township-trustees-meeting-11/
END:VEVENT
BEGIN:VEVENT
DTSTART;TZID=UTC:20191021T190000
DTEND;TZID=UTC:20191021T210000
DTSTAMP:20260425T110055
CREATED:20190117T212140Z
LAST-MODIFIED:20190307T202647Z
UID:217-1571684400-1571691600@preservingplaintwp.org
SUMMARY:Pre-History/First Contact with People - PTHS Free Monthly Meeting
DESCRIPTION:Presenter: Thomas Grove\nThomas is an archaeologist and will explore the beginnings of man.  Join us as we take a look back on our early ancestors.
URL:https://preservingplaintwp.org/event/pre-hsitory-first-contact-with-people-pths-free-monthly-meeting/
ORGANIZER;CN="Plain Township Historical Society":MAILTO:preservingplaintwp@gmail.com
END:VEVENT
BEGIN:VEVENT
DTSTART;TZID=UTC:20191020T140000
DTEND;TZID=UTC:20191020T170000
DTSTAMP:20260425T110055
CREATED:20190628T130557Z
LAST-MODIFIED:20190628T131347Z
UID:1382-1571580000-1571590800@preservingplaintwp.org
SUMMARY:Lake Township Historical Society - School House Open
DESCRIPTION:
URL:https://preservingplaintwp.org/event/lake-township-school-house-open-8/
END:VEVENT
BEGIN:VEVENT
DTSTART;TZID=UTC:20191017T180000
DTEND;TZID=UTC:20191017T210000
DTSTAMP:20260425T110055
CREATED:20190609T134818Z
LAST-MODIFIED:20190609T134818Z
UID:1017-1571335200-1571346000@preservingplaintwp.org
SUMMARY:Quail Hollow - Traditional Music at the Manor - admission
DESCRIPTION:
URL:https://preservingplaintwp.org/event/quail-hollow-traditional-music-at-the-manor-admission-9/
END:VEVENT
BEGIN:VEVENT
DTSTART;TZID=UTC:20191013T140000
DTEND;TZID=UTC:20191013T170000
DTSTAMP:20260425T110055
CREATED:20190628T130747Z
LAST-MODIFIED:20190628T130747Z
UID:1386-1570975200-1570986000@preservingplaintwp.org
SUMMARY:Lake Township Historical Society - Museum Open
DESCRIPTION:
URL:https://preservingplaintwp.org/event/lake-township-historical-society-museum-open/
END:VEVENT
BEGIN:VEVENT
DTSTART;TZID=UTC:20191010T190000
DTEND;TZID=UTC:20191010T203000
DTSTAMP:20260425T110055
CREATED:20190308T005017Z
LAST-MODIFIED:20190308T005017Z
UID:669-1570734000-1570739400@preservingplaintwp.org
SUMMARY:Jackson Township Historical Society Memory Lane - Old Homes in Jackson Township
DESCRIPTION:
URL:https://preservingplaintwp.org/event/jackson-township-historical-society-memory-lane-old-homes-in-jackson-township/
END:VEVENT
BEGIN:VEVENT
DTSTART;TZID=UTC:20191008T180000
DTEND;TZID=UTC:20191008T200000
DTSTAMP:20260425T110055
CREATED:20190307T200044Z
LAST-MODIFIED:20190307T202624Z
UID:614-1570557600-1570564800@preservingplaintwp.org
SUMMARY:Plain Township Trustees Meeting
DESCRIPTION:
URL:https://preservingplaintwp.org/event/plain-township-trustees-meeting-10/
END:VEVENT
BEGIN:VEVENT
DTSTART;TZID=UTC:20191006T140000
DTEND;TZID=UTC:20191006T170000
DTSTAMP:20260425T110055
CREATED:20190628T130517Z
LAST-MODIFIED:20190628T131422Z
UID:1380-1570370400-1570381200@preservingplaintwp.org
SUMMARY:Lake Township Historical Society - School House Open
DESCRIPTION:
URL:https://preservingplaintwp.org/event/lake-township-school-house-open-7/
END:VEVENT
BEGIN:VEVENT
DTSTART;TZID=UTC:20191003T180000
DTEND;TZID=UTC:20191003T210000
DTSTAMP:20260425T110055
CREATED:20190609T134731Z
LAST-MODIFIED:20190609T134731Z
UID:1015-1570125600-1570136400@preservingplaintwp.org
SUMMARY:Quail Hollow - Traditional Music at the Manor - admission
DESCRIPTION:
URL:https://preservingplaintwp.org/event/quail-hollow-traditional-music-at-the-manor-admission-8/
END:VEVENT
BEGIN:VEVENT
DTSTART;TZID=UTC:20190929T140000
DTEND;TZID=UTC:20190929T170000
DTSTAMP:20260425T110055
CREATED:20190628T130831Z
LAST-MODIFIED:20190628T130831Z
UID:1388-1569765600-1569776400@preservingplaintwp.org
SUMMARY:Lake Township Historical Society - Museum Open
DESCRIPTION:
URL:https://preservingplaintwp.org/event/lake-township-historical-society-museum-open-2/
END:VEVENT
BEGIN:VEVENT
DTSTART;TZID=UTC:20190925T160000
DTEND;TZID=UTC:20190925T190000
DTSTAMP:20260425T110055
CREATED:20190309T185511Z
LAST-MODIFIED:20190309T185511Z
UID:763-1569427200-1569438000@preservingplaintwp.org
SUMMARY:Plain Township Farmers Market - Fall Fest/Closing Day
DESCRIPTION:
URL:https://preservingplaintwp.org/event/plain-township-farmers-market-fall-fest-closing-day/
LOCATION:Veterans Park\, 1714 Schneider St NE\, Canton\, OH\, 44721\, United States
END:VEVENT
BEGIN:VEVENT
DTSTART;TZID=UTC:20190924T180000
DTEND;TZID=UTC:20190924T200000
DTSTAMP:20260425T110055
CREATED:20190307T195947Z
LAST-MODIFIED:20190307T202559Z
UID:612-1569348000-1569355200@preservingplaintwp.org
SUMMARY:Plain Township Trustees Meeting
DESCRIPTION:
URL:https://preservingplaintwp.org/event/plain-township-trustees-meeting-9/
END:VEVENT
BEGIN:VEVENT
DTSTART;TZID=UTC:20190924T121000
DTEND;TZID=UTC:20190924T125000
DTSTAMP:20260425T110055
CREATED:20190628T133545Z
LAST-MODIFIED:20190628T133545Z
UID:1415-1569327000-1569329400@preservingplaintwp.org
SUMMARY:Massillon Museum Brown Bag Lunch - History of Board Games
DESCRIPTION:
URL:https://preservingplaintwp.org/event/massillon-museum-brown-bag-lunch-history-of-board-games/
END:VEVENT
BEGIN:VEVENT
DTSTART;TZID=UTC:20190922T140000
DTEND;TZID=UTC:20190922T170000
DTSTAMP:20260425T110055
CREATED:20190628T130438Z
LAST-MODIFIED:20190628T131449Z
UID:1378-1569160800-1569171600@preservingplaintwp.org
SUMMARY:Lake Township Historical Society - School House Open
DESCRIPTION:
URL:https://preservingplaintwp.org/event/lake-township-school-house-open-6/
END:VEVENT
BEGIN:VEVENT
DTSTART;TZID=UTC:20190922T133000
DTEND;TZID=UTC:20190922T153000
DTSTAMP:20260425T110055
CREATED:20190510T015041Z
LAST-MODIFIED:20190510T015041Z
UID:970-1569159000-1569166200@preservingplaintwp.org
SUMMARY:Osnaburg Township Historical Society - Werner Inn Open
DESCRIPTION:
URL:https://preservingplaintwp.org/event/osnaburg-township-historical-society-werner-inn-open-4/
END:VEVENT
BEGIN:VEVENT
DTSTART;TZID=UTC:20190922T121000
DTEND;TZID=UTC:20190922T125000
DTSTAMP:20260425T110055
CREATED:20190628T133654Z
LAST-MODIFIED:20190628T133654Z
UID:1417-1569154200-1569156600@preservingplaintwp.org
SUMMARY:Massillon Museum Brown Bag Lunch - Lost Circuses of Ohio
DESCRIPTION:
URL:https://preservingplaintwp.org/event/massillon-museum-brown-bag-lunch-lost-circuses-of-ohio/
END:VEVENT
BEGIN:VEVENT
DTSTART;TZID=UTC:20190919T180000
DTEND;TZID=UTC:20190919T210000
DTSTAMP:20260425T110055
CREATED:20190609T134639Z
LAST-MODIFIED:20190609T134639Z
UID:1013-1568916000-1568926800@preservingplaintwp.org
SUMMARY:Quail Hollow - Traditional Music at the Manor - admission
DESCRIPTION:
URL:https://preservingplaintwp.org/event/quail-hollow-traditional-music-at-the-manor-admission-7/
END:VEVENT
BEGIN:VEVENT
DTSTART;TZID=UTC:20190918T160000
DTEND;TZID=UTC:20190918T190000
DTSTAMP:20260425T110055
CREATED:20190309T185422Z
LAST-MODIFIED:20190309T185422Z
UID:761-1568822400-1568833200@preservingplaintwp.org
SUMMARY:Plain Township Farmers Market
DESCRIPTION:
URL:https://preservingplaintwp.org/event/plain-township-farmers-market-21/
LOCATION:Veterans Park\, 1714 Schneider St NE\, Canton\, OH\, 44721\, United States
END:VEVENT
BEGIN:VEVENT
DTSTART;TZID=UTC:20190916T190000
DTEND;TZID=UTC:20190916T210000
DTSTAMP:20260425T110055
CREATED:20190117T211920Z
LAST-MODIFIED:20190307T202529Z
UID:215-1568660400-1568667600@preservingplaintwp.org
SUMMARY:Architects Charles Firestone and Herman Albrecht - PTHS Free Monthly Meeting
DESCRIPTION:Presenter: Dick Haldi\nThis is the next series on area architects that shaped building in Plain Township and surrounding area.  Join Dick has he enlightens us on the buildings we drive by or that are lost created by these two men.
URL:https://preservingplaintwp.org/event/architects-charles-firestone-and-herman-albrecht-pths-free-monthly-meeting/
ORGANIZER;CN="Plain Township Historical Society":MAILTO:preservingplaintwp@gmail.com
END:VEVENT
BEGIN:VEVENT
DTSTART;TZID=UTC:20190915T140000
DTEND;TZID=UTC:20190915T170000
DTSTAMP:20260425T110055
CREATED:20190628T130919Z
LAST-MODIFIED:20190628T130919Z
UID:1390-1568556000-1568566800@preservingplaintwp.org
SUMMARY:Lake Township Historical Society - Museum Open
DESCRIPTION:
URL:https://preservingplaintwp.org/event/lake-township-historical-society-museum-open-3/
END:VEVENT
BEGIN:VEVENT
DTSTART;TZID=UTC:20190912T190000
DTEND;TZID=UTC:20190912T203000
DTSTAMP:20260425T110055
CREATED:20190308T004916Z
LAST-MODIFIED:20190308T004916Z
UID:667-1568314800-1568320200@preservingplaintwp.org
SUMMARY:Jackson Township Historical Society Memory Lane - Allotments in Jackson Township
DESCRIPTION:
URL:https://preservingplaintwp.org/event/jackson-township-historical-society-memory-lane-allotments-in-jackson-township/
END:VEVENT
BEGIN:VEVENT
DTSTART;TZID=UTC:20190911T160000
DTEND;TZID=UTC:20190911T190000
DTSTAMP:20260425T110055
CREATED:20190309T185340Z
LAST-MODIFIED:20190309T185340Z
UID:759-1568217600-1568228400@preservingplaintwp.org
SUMMARY:Plain Township Farmers Market
DESCRIPTION:
URL:https://preservingplaintwp.org/event/plain-township-farmers-market-20/
LOCATION:Veterans Park\, 1714 Schneider St NE\, Canton\, OH\, 44721\, United States
END:VEVENT
BEGIN:VEVENT
DTSTART;TZID=UTC:20190911T130000
DTEND;TZID=UTC:20190911T140000
DTSTAMP:20260425T110055
CREATED:20190404T143941Z
LAST-MODIFIED:20190404T143941Z
UID:869-1568206800-1568210400@preservingplaintwp.org
SUMMARY:North Canton Heritage Society - Genealogy Workshop - Archives and Other Means of Finding Info
DESCRIPTION:DNA testing and genealogical information in local archives are just two of the things covered in this workshop.
URL:https://preservingplaintwp.org/event/north-canton-heritage-society-genealogy-workshop-archives-and-other-means-of-finding-info-2/
END:VEVENT
BEGIN:VEVENT
DTSTART;TZID=UTC:20190910T180000
DTEND;TZID=UTC:20190910T200000
DTSTAMP:20260425T110055
CREATED:20190307T195900Z
LAST-MODIFIED:20190307T202506Z
UID:610-1568138400-1568145600@preservingplaintwp.org
SUMMARY:Plain Township Trustees Meeting
DESCRIPTION:
URL:https://preservingplaintwp.org/event/plain-township-trustees-meeting-8/
END:VEVENT
BEGIN:VEVENT
DTSTART;TZID=UTC:20190908T140000
DTEND;TZID=UTC:20190908T170000
DTSTAMP:20260425T110055
CREATED:20190628T130358Z
LAST-MODIFIED:20190628T131527Z
UID:1376-1567951200-1567962000@preservingplaintwp.org
SUMMARY:Lake Township Historical Society - School House Open
DESCRIPTION:
URL:https://preservingplaintwp.org/event/lake-township-school-house-open-5/
END:VEVENT
BEGIN:VEVENT
DTSTART;TZID=UTC:20190907T110000
DTEND;TZID=UTC:20190907T120000
DTSTAMP:20260425T110055
CREATED:20190404T143825Z
LAST-MODIFIED:20190404T143825Z
UID:867-1567854000-1567857600@preservingplaintwp.org
SUMMARY:North Canton Heritage Society - Genealogy Workshop - Archives and Other Means of Finding Info
DESCRIPTION:DNA testing and genealogical information in local archives are just two of the things covered in this workshop.
URL:https://preservingplaintwp.org/event/north-canton-heritage-society-genealogy-workshop-archives-and-other-means-of-finding-info/
END:VEVENT
END:VCALENDAR