BEGIN:VCALENDAR
VERSION:2.0
PRODID:-//Plain Township Historical Society - ECPv6.15.20//NONSGML v1.0//EN
CALSCALE:GREGORIAN
METHOD:PUBLISH
X-WR-CALNAME:Plain Township Historical Society
X-ORIGINAL-URL:https://preservingplaintwp.org
X-WR-CALDESC:Events for Plain Township Historical Society
REFRESH-INTERVAL;VALUE=DURATION:PT1H
X-Robots-Tag:noindex
X-PUBLISHED-TTL:PT1H
BEGIN:VTIMEZONE
TZID:UTC
BEGIN:STANDARD
TZOFFSETFROM:+0000
TZOFFSETTO:+0000
TZNAME:UTC
DTSTART:20180101T000000
END:STANDARD
END:VTIMEZONE
BEGIN:VEVENT
DTSTART;TZID=UTC:20190728T133000
DTEND;TZID=UTC:20190728T153000
DTSTAMP:20260425T150958
CREATED:20190510T014856Z
LAST-MODIFIED:20190510T014856Z
UID:966-1564320600-1564327800@preservingplaintwp.org
SUMMARY:Osnaburg Township Historical Society - Werner Inn Open
DESCRIPTION:
URL:https://preservingplaintwp.org/event/osnaburg-township-historical-society-werner-inn-open-2/
END:VEVENT
BEGIN:VEVENT
DTSTART;TZID=UTC:20190728T130000
DTEND;TZID=UTC:20190728T150000
DTSTAMP:20260425T150958
CREATED:20190609T133714Z
LAST-MODIFIED:20190609T133714Z
UID:998-1564318800-1564326000@preservingplaintwp.org
SUMMARY:Quail Hollow Manor House Tour - 1\, 2\, and 3pm
DESCRIPTION:
URL:https://preservingplaintwp.org/event/quail-hollow-manor-house-tour-1-2-and-3pm-6/
END:VEVENT
BEGIN:VEVENT
DTSTART;TZID=UTC:20190725T180000
DTEND;TZID=UTC:20190725T210000
DTSTAMP:20260425T150958
CREATED:20190609T133841Z
LAST-MODIFIED:20190609T133841Z
UID:1000-1564077600-1564088400@preservingplaintwp.org
SUMMARY:Quail Hollow - Traditional Music at the Manor - admission
DESCRIPTION:
URL:https://preservingplaintwp.org/event/quail-hollow-traditional-music-at-the-manor-admission/
END:VEVENT
BEGIN:VEVENT
DTSTART;TZID=UTC:20190724T160000
DTEND;TZID=UTC:20190724T190000
DTSTAMP:20260425T150958
CREATED:20190309T184748Z
LAST-MODIFIED:20190309T185837Z
UID:745-1563984000-1563994800@preservingplaintwp.org
SUMMARY:Plain Township Farmers Market - Children's Market
DESCRIPTION:
URL:https://preservingplaintwp.org/event/plain-township-farmers-market-13/
LOCATION:Veterans Park\, 1714 Schneider St NE\, Canton\, OH\, 44721\, United States
END:VEVENT
BEGIN:VEVENT
DTSTART;TZID=UTC:20190723T180000
DTEND;TZID=UTC:20190723T200000
DTSTAMP:20260425T150958
CREATED:20190307T195629Z
LAST-MODIFIED:20190307T202321Z
UID:604-1563904800-1563912000@preservingplaintwp.org
SUMMARY:Plain Township Trustee Meeting
DESCRIPTION:
URL:https://preservingplaintwp.org/event/plain-township-trustee-meeting/
END:VEVENT
BEGIN:VEVENT
DTSTART;TZID=UTC:20190723T121000
DTEND;TZID=UTC:20190723T125000
DTSTAMP:20260425T150958
CREATED:20190628T133141Z
LAST-MODIFIED:20190628T133141Z
UID:1411-1563883800-1563886200@preservingplaintwp.org
SUMMARY:Massillon Museum Brown Bag Lunch - Let's Build a Barn Together
DESCRIPTION:
URL:https://preservingplaintwp.org/event/massillon-museum-brown-bag-lunch-lets-build-a-barn-together/
END:VEVENT
BEGIN:VEVENT
DTSTART;TZID=UTC:20190721T140000
DTEND;TZID=UTC:20190721T170000
DTSTAMP:20260425T150958
CREATED:20190628T131150Z
LAST-MODIFIED:20190628T131150Z
UID:1398-1563717600-1563728400@preservingplaintwp.org
SUMMARY:Lake Township Historical Society - Museum Open
DESCRIPTION:
URL:https://preservingplaintwp.org/event/lake-township-historical-society-museum-open-7/
END:VEVENT
BEGIN:VEVENT
DTSTART;TZID=UTC:20190721T130000
DTEND;TZID=UTC:20190721T150000
DTSTAMP:20260425T150958
CREATED:20190609T133619Z
LAST-MODIFIED:20190609T133619Z
UID:996-1563714000-1563721200@preservingplaintwp.org
SUMMARY:Quail Hollow Manor House Tour - 1\, 2\, and 3pm
DESCRIPTION:
URL:https://preservingplaintwp.org/event/quail-hollow-manor-house-tour-1-2-and-3pm-5/
END:VEVENT
BEGIN:VEVENT
DTSTART;TZID=UTC:20190720T193000
DTEND;TZID=UTC:20190720T210000
DTSTAMP:20260425T150958
CREATED:20190502T210455Z
LAST-MODIFIED:20190502T210455Z
UID:938-1563651000-1563656400@preservingplaintwp.org
SUMMARY:St. Helena III Canal Boat - Spirits and Spirits Cruise
DESCRIPTION:Contact the Canalway Center in Canal Fulton to make reservations.  Must be over 21.  $45 per person.
URL:https://preservingplaintwp.org/event/st-helena-iii-canal-boat-spirits-and-spirits-cruise/
END:VEVENT
BEGIN:VEVENT
DTSTART;TZID=UTC:20190717T160000
DTEND;TZID=UTC:20190717T190000
DTSTAMP:20260425T150958
CREATED:20190309T184706Z
LAST-MODIFIED:20190309T184706Z
UID:743-1563379200-1563390000@preservingplaintwp.org
SUMMARY:Plain Township Farmers Market
DESCRIPTION:
URL:https://preservingplaintwp.org/event/plain-township-farmers-market-12/
LOCATION:Veterans Park\, 1714 Schneider St NE\, Canton\, OH\, 44721\, United States
END:VEVENT
BEGIN:VEVENT
DTSTART;TZID=UTC:20190715T190000
DTEND;TZID=UTC:20190715T210000
DTSTAMP:20260425T150958
CREATED:20190117T211424Z
LAST-MODIFIED:20190307T202256Z
UID:211-1563217200-1563224400@preservingplaintwp.org
SUMMARY:James McDowell and Merino Sheep - PTHS Free Monthly Meeting
DESCRIPTION:Presenter: Cindy Guest\nJoin as we take a look at the importance of Merino Sheep to Plain Township life and James McDowell\, the man who brought the sheep to the area.  Even today you see wool products that carry the Merino name.  This is a continuation of the 2018 program on coverlets.
URL:https://preservingplaintwp.org/event/james-mcdowell-and-merino-sheep-pths-free-monthly-meeting/
ORGANIZER;CN="Plain Township Historical Society":MAILTO:preservingplaintwp@gmail.com
END:VEVENT
BEGIN:VEVENT
DTSTART;TZID=UTC:20190714T140000
DTEND;TZID=UTC:20190714T170000
DTSTAMP:20260425T150958
CREATED:20190628T130102Z
LAST-MODIFIED:20190628T131823Z
UID:1367-1563112800-1563123600@preservingplaintwp.org
SUMMARY:Lake Township Historical Society - School House Open
DESCRIPTION:
URL:https://preservingplaintwp.org/event/lake-township-school-house-open/
END:VEVENT
BEGIN:VEVENT
DTSTART;TZID=UTC:20190714T130000
DTEND;TZID=UTC:20190714T150000
DTSTAMP:20260425T150958
CREATED:20190609T133521Z
LAST-MODIFIED:20190609T133521Z
UID:994-1563109200-1563116400@preservingplaintwp.org
SUMMARY:Quail Hollow Manor House Tour - 1\, 2\, and 3pm
DESCRIPTION:
URL:https://preservingplaintwp.org/event/quail-hollow-manor-house-tour-1-2-and-3pm-4/
END:VEVENT
BEGIN:VEVENT
DTSTART;TZID=UTC:20190714T130000
DTEND;TZID=UTC:20190714T140000
DTSTAMP:20260425T150958
CREATED:20190404T143658Z
LAST-MODIFIED:20190404T143658Z
UID:865-1563109200-1563112800@preservingplaintwp.org
SUMMARY:North Canton Heritage Society - Genealogy Workshop - Immigration and Military Records
DESCRIPTION:Learn how to locate immigration records (there’s more to the “story” than Ellis Island!) and find out more about your ancestors’ military service.
URL:https://preservingplaintwp.org/event/north-canton-heritage-society-genealogy-workshop-immigration-and-military-records-2/
END:VEVENT
BEGIN:VEVENT
DTSTART;TZID=UTC:20190713T110000
DTEND;TZID=UTC:20190713T230000
DTSTAMP:20260425T150958
CREATED:20190609T140152Z
LAST-MODIFIED:20190609T140152Z
UID:1043-1563015600-1563058800@preservingplaintwp.org
SUMMARY:Olde Canal Days Festival - Canal Fulton
DESCRIPTION:
URL:https://preservingplaintwp.org/event/olde-canal-days-festival-canal-fulton-3/
END:VEVENT
BEGIN:VEVENT
DTSTART;TZID=UTC:20190712T170000
DTEND;TZID=UTC:20190712T230000
DTSTAMP:20260425T150958
CREATED:20190609T140115Z
LAST-MODIFIED:20190609T140115Z
UID:1041-1562950800-1562972400@preservingplaintwp.org
SUMMARY:Olde Canal Days Festival - Canal Fulton
DESCRIPTION:
URL:https://preservingplaintwp.org/event/olde-canal-days-festival-canal-fulton-2/
END:VEVENT
BEGIN:VEVENT
DTSTART;TZID=UTC:20190711T190000
DTEND;TZID=UTC:20190711T203000
DTSTAMP:20260425T150958
CREATED:20190308T004723Z
LAST-MODIFIED:20190308T004723Z
UID:663-1562871600-1562877000@preservingplaintwp.org
SUMMARY:Jackson Township Historical Society Memory Lane - Golf Courses and Miniature Golf Courses
DESCRIPTION:
URL:https://preservingplaintwp.org/event/jackson-township-historical-society-memory-lane-golf-courses-and-miniature-golf-courses/
END:VEVENT
BEGIN:VEVENT
DTSTART;TZID=UTC:20190711T190000
DTEND;TZID=UTC:20190711T200000
DTSTAMP:20260425T150958
CREATED:20190502T205354Z
LAST-MODIFIED:20190502T205354Z
UID:930-1562871600-1562875200@preservingplaintwp.org
SUMMARY:Salem Preservation Society - Recognition for Your Historic Home
DESCRIPTION:
URL:https://preservingplaintwp.org/event/salem-preservation-society-recognition-for-your-historic-home/
END:VEVENT
BEGIN:VEVENT
DTSTART;TZID=UTC:20190711T180000
DTEND;TZID=UTC:20190711T210000
DTSTAMP:20260425T150958
CREATED:20190609T134223Z
LAST-MODIFIED:20190609T134223Z
UID:1004-1562868000-1562878800@preservingplaintwp.org
SUMMARY:Quail Hollow - Traditional Music at the Manor - admission
DESCRIPTION:
URL:https://preservingplaintwp.org/event/quail-hollow-traditional-music-at-the-manor-admission-3/
END:VEVENT
BEGIN:VEVENT
DTSTART;TZID=UTC:20190711T180000
DTEND;TZID=UTC:20190711T190000
DTSTAMP:20260425T150958
CREATED:20190609T133426Z
LAST-MODIFIED:20190609T133426Z
UID:991-1562868000-1562871600@preservingplaintwp.org
SUMMARY:Magnolia Mill Tour
DESCRIPTION:
URL:https://preservingplaintwp.org/event/magnolia-mill-tour/
END:VEVENT
BEGIN:VEVENT
DTSTART;TZID=UTC:20190711T170000
DTEND;TZID=UTC:20190711T230000
DTSTAMP:20260425T150958
CREATED:20190609T135951Z
LAST-MODIFIED:20190609T135951Z
UID:1039-1562864400-1562886000@preservingplaintwp.org
SUMMARY:Olde Canal Days Festival - Canal Fulton
DESCRIPTION:
URL:https://preservingplaintwp.org/event/olde-canal-days-festival-canal-fulton/
END:VEVENT
BEGIN:VEVENT
DTSTART;TZID=UTC:20190710T180000
DTEND;TZID=UTC:20190710T190000
DTSTAMP:20260425T150958
CREATED:20190609T133203Z
LAST-MODIFIED:20190609T133203Z
UID:989-1562781600-1562785200@preservingplaintwp.org
SUMMARY:Molly Stark Grounds Tour
DESCRIPTION:
URL:https://preservingplaintwp.org/event/molly-stark-grounds-tour-2/
END:VEVENT
BEGIN:VEVENT
DTSTART;TZID=UTC:20190710T160000
DTEND;TZID=UTC:20190710T190000
DTSTAMP:20260425T150958
CREATED:20190309T184623Z
LAST-MODIFIED:20190309T184623Z
UID:741-1562774400-1562785200@preservingplaintwp.org
SUMMARY:Plain Township Farmers Market
DESCRIPTION:
URL:https://preservingplaintwp.org/event/plain-township-farmers-market-11/
LOCATION:Veterans Park\, 1714 Schneider St NE\, Canton\, OH\, 44721\, United States
END:VEVENT
BEGIN:VEVENT
DTSTART;TZID=UTC:20190710T130000
DTEND;TZID=UTC:20190710T140000
DTSTAMP:20260425T150958
CREATED:20190404T143408Z
LAST-MODIFIED:20190404T143408Z
UID:860-1562763600-1562767200@preservingplaintwp.org
SUMMARY:North Canton Heritage Society - Genealogy Workshop - Published Sources and Vital Records
DESCRIPTION:Did you know that there are vital records that haven’t been included in any of the many genealogy databases? Learn how to find those records\, as well as the role that old newspapers play in finding out more about your ancestors.
URL:https://preservingplaintwp.org/event/north-canton-heritage-society-genealogy-workshop-published-sources-and-vital-records-2/
END:VEVENT
BEGIN:VEVENT
DTSTART;TZID=UTC:20190709T180000
DTEND;TZID=UTC:20190709T200000
DTSTAMP:20260425T150958
CREATED:20190307T195527Z
LAST-MODIFIED:20190307T202233Z
UID:602-1562695200-1562702400@preservingplaintwp.org
SUMMARY:Plain Township Trustees Meeting
DESCRIPTION:
URL:https://preservingplaintwp.org/event/plain-township-trustees-meeting-5/
END:VEVENT
BEGIN:VEVENT
DTSTART;TZID=UTC:20190707T140000
DTEND;TZID=UTC:20190707T170000
DTSTAMP:20260425T150958
CREATED:20190628T131228Z
LAST-MODIFIED:20190628T131228Z
UID:1400-1562508000-1562518800@preservingplaintwp.org
SUMMARY:Lake Township Historical Society - Museum Open
DESCRIPTION:
URL:https://preservingplaintwp.org/event/lake-township-historical-society-museum-open-8/
END:VEVENT
BEGIN:VEVENT
DTSTART;TZID=UTC:20190707T130000
DTEND;TZID=UTC:20190707T150000
DTSTAMP:20260425T150958
CREATED:20190609T133104Z
LAST-MODIFIED:20190609T133104Z
UID:987-1562504400-1562511600@preservingplaintwp.org
SUMMARY:Quail Hollow Manor House Tour - 1\, 2\, and 3pm
DESCRIPTION:
URL:https://preservingplaintwp.org/event/quail-hollow-manor-house-tour-1-2-and-3pm-3/
END:VEVENT
BEGIN:VEVENT
DTSTART;TZID=UTC:20190706T110000
DTEND;TZID=UTC:20190706T120000
DTSTAMP:20260425T150958
CREATED:20190404T143310Z
LAST-MODIFIED:20190404T143310Z
UID:858-1562410800-1562414400@preservingplaintwp.org
SUMMARY:North Canton Heritage Society - Genealogy Workshop - Published Sources and Vital Records
DESCRIPTION:Did you know that there are vital records that haven’t been included in any of the many genealogy databases? Learn how to find those records\, as well as the role that old newspapers play in finding out more about your ancestors.
URL:https://preservingplaintwp.org/event/north-canton-heritage-society-genealogy-workshop-published-sources-and-vital-records/
END:VEVENT
BEGIN:VEVENT
DTSTART;TZID=UTC:20190703T160000
DTEND;TZID=UTC:20190703T190000
DTSTAMP:20260425T150958
CREATED:20190309T184545Z
LAST-MODIFIED:20190309T185939Z
UID:739-1562169600-1562180400@preservingplaintwp.org
SUMMARY:Plain Township Farmers Market - Summer Fest
DESCRIPTION:
URL:https://preservingplaintwp.org/event/plain-township-farmers-market-10/
LOCATION:Veterans Park\, 1714 Schneider St NE\, Canton\, OH\, 44721\, United States
END:VEVENT
BEGIN:VEVENT
DTSTART;TZID=UTC:20190630T130000
DTEND;TZID=UTC:20190630T150000
DTSTAMP:20260425T150958
CREATED:20190609T132625Z
LAST-MODIFIED:20190609T132625Z
UID:982-1561899600-1561906800@preservingplaintwp.org
SUMMARY:Quail Hollow Manor House Tours - 1\, 2\, and 3pm
DESCRIPTION:
URL:https://preservingplaintwp.org/event/quail-hollow-manor-house-tours-1-2-and-3pm-2/
END:VEVENT
END:VCALENDAR