BEGIN:VCALENDAR
VERSION:2.0
PRODID:-//Plain Township Historical Society - ECPv6.15.20//NONSGML v1.0//EN
CALSCALE:GREGORIAN
METHOD:PUBLISH
X-WR-CALNAME:Plain Township Historical Society
X-ORIGINAL-URL:https://preservingplaintwp.org
X-WR-CALDESC:Events for Plain Township Historical Society
REFRESH-INTERVAL;VALUE=DURATION:PT1H
X-Robots-Tag:noindex
X-PUBLISHED-TTL:PT1H
BEGIN:VTIMEZONE
TZID:UTC
BEGIN:STANDARD
TZOFFSETFROM:+0000
TZOFFSETTO:+0000
TZNAME:UTC
DTSTART:20180101T000000
END:STANDARD
END:VTIMEZONE
BEGIN:VEVENT
DTSTART;TZID=UTC:20190711T170000
DTEND;TZID=UTC:20190711T230000
DTSTAMP:20260425T105620
CREATED:20190609T135951Z
LAST-MODIFIED:20190609T135951Z
UID:1039-1562864400-1562886000@preservingplaintwp.org
SUMMARY:Olde Canal Days Festival - Canal Fulton
DESCRIPTION:
URL:https://preservingplaintwp.org/event/olde-canal-days-festival-canal-fulton/
END:VEVENT
BEGIN:VEVENT
DTSTART;TZID=UTC:20190710T180000
DTEND;TZID=UTC:20190710T190000
DTSTAMP:20260425T105620
CREATED:20190609T133203Z
LAST-MODIFIED:20190609T133203Z
UID:989-1562781600-1562785200@preservingplaintwp.org
SUMMARY:Molly Stark Grounds Tour
DESCRIPTION:
URL:https://preservingplaintwp.org/event/molly-stark-grounds-tour-2/
END:VEVENT
BEGIN:VEVENT
DTSTART;TZID=UTC:20190710T160000
DTEND;TZID=UTC:20190710T190000
DTSTAMP:20260425T105620
CREATED:20190309T184623Z
LAST-MODIFIED:20190309T184623Z
UID:741-1562774400-1562785200@preservingplaintwp.org
SUMMARY:Plain Township Farmers Market
DESCRIPTION:
URL:https://preservingplaintwp.org/event/plain-township-farmers-market-11/
LOCATION:Veterans Park\, 1714 Schneider St NE\, Canton\, OH\, 44721\, United States
END:VEVENT
BEGIN:VEVENT
DTSTART;TZID=UTC:20190710T130000
DTEND;TZID=UTC:20190710T140000
DTSTAMP:20260425T105620
CREATED:20190404T143408Z
LAST-MODIFIED:20190404T143408Z
UID:860-1562763600-1562767200@preservingplaintwp.org
SUMMARY:North Canton Heritage Society - Genealogy Workshop - Published Sources and Vital Records
DESCRIPTION:Did you know that there are vital records that haven’t been included in any of the many genealogy databases? Learn how to find those records\, as well as the role that old newspapers play in finding out more about your ancestors.
URL:https://preservingplaintwp.org/event/north-canton-heritage-society-genealogy-workshop-published-sources-and-vital-records-2/
END:VEVENT
BEGIN:VEVENT
DTSTART;TZID=UTC:20190709T180000
DTEND;TZID=UTC:20190709T200000
DTSTAMP:20260425T105620
CREATED:20190307T195527Z
LAST-MODIFIED:20190307T202233Z
UID:602-1562695200-1562702400@preservingplaintwp.org
SUMMARY:Plain Township Trustees Meeting
DESCRIPTION:
URL:https://preservingplaintwp.org/event/plain-township-trustees-meeting-5/
END:VEVENT
BEGIN:VEVENT
DTSTART;TZID=UTC:20190707T140000
DTEND;TZID=UTC:20190707T170000
DTSTAMP:20260425T105620
CREATED:20190628T131228Z
LAST-MODIFIED:20190628T131228Z
UID:1400-1562508000-1562518800@preservingplaintwp.org
SUMMARY:Lake Township Historical Society - Museum Open
DESCRIPTION:
URL:https://preservingplaintwp.org/event/lake-township-historical-society-museum-open-8/
END:VEVENT
BEGIN:VEVENT
DTSTART;TZID=UTC:20190707T130000
DTEND;TZID=UTC:20190707T150000
DTSTAMP:20260425T105620
CREATED:20190609T133104Z
LAST-MODIFIED:20190609T133104Z
UID:987-1562504400-1562511600@preservingplaintwp.org
SUMMARY:Quail Hollow Manor House Tour - 1\, 2\, and 3pm
DESCRIPTION:
URL:https://preservingplaintwp.org/event/quail-hollow-manor-house-tour-1-2-and-3pm-3/
END:VEVENT
BEGIN:VEVENT
DTSTART;TZID=UTC:20190706T110000
DTEND;TZID=UTC:20190706T120000
DTSTAMP:20260425T105620
CREATED:20190404T143310Z
LAST-MODIFIED:20190404T143310Z
UID:858-1562410800-1562414400@preservingplaintwp.org
SUMMARY:North Canton Heritage Society - Genealogy Workshop - Published Sources and Vital Records
DESCRIPTION:Did you know that there are vital records that haven’t been included in any of the many genealogy databases? Learn how to find those records\, as well as the role that old newspapers play in finding out more about your ancestors.
URL:https://preservingplaintwp.org/event/north-canton-heritage-society-genealogy-workshop-published-sources-and-vital-records/
END:VEVENT
BEGIN:VEVENT
DTSTART;TZID=UTC:20190703T160000
DTEND;TZID=UTC:20190703T190000
DTSTAMP:20260425T105620
CREATED:20190309T184545Z
LAST-MODIFIED:20190309T185939Z
UID:739-1562169600-1562180400@preservingplaintwp.org
SUMMARY:Plain Township Farmers Market - Summer Fest
DESCRIPTION:
URL:https://preservingplaintwp.org/event/plain-township-farmers-market-10/
LOCATION:Veterans Park\, 1714 Schneider St NE\, Canton\, OH\, 44721\, United States
END:VEVENT
BEGIN:VEVENT
DTSTART;TZID=UTC:20190630T130000
DTEND;TZID=UTC:20190630T150000
DTSTAMP:20260425T105620
CREATED:20190609T132625Z
LAST-MODIFIED:20190609T132625Z
UID:982-1561899600-1561906800@preservingplaintwp.org
SUMMARY:Quail Hollow Manor House Tours - 1\, 2\, and 3pm
DESCRIPTION:
URL:https://preservingplaintwp.org/event/quail-hollow-manor-house-tours-1-2-and-3pm-2/
END:VEVENT
BEGIN:VEVENT
DTSTART;TZID=UTC:20190629T080000
DTEND;TZID=UTC:20190629T170000
DTSTAMP:20260425T105620
CREATED:20190629T005124Z
LAST-MODIFIED:20190629T005124Z
UID:1422-1561795200-1561827600@preservingplaintwp.org
SUMMARY:Spring Hill Historic Home - Underground Railroad Experience
DESCRIPTION:Walking performance at 7:45pm.\nSeated performance at 6:30pm\nRSVP required\nTickets $10 for adults and $7 for students
URL:https://preservingplaintwp.org/event/spring-hill-historic-home-underground-railroad-experience/
END:VEVENT
BEGIN:VEVENT
DTSTART;TZID=UTC:20190626T160000
DTEND;TZID=UTC:20190626T190000
DTSTAMP:20260425T105620
CREATED:20190309T184505Z
LAST-MODIFIED:20190309T184505Z
UID:737-1561564800-1561575600@preservingplaintwp.org
SUMMARY:Plain Township Farmers Market
DESCRIPTION:
URL:https://preservingplaintwp.org/event/plain-township-farmers-market-9/
LOCATION:Veterans Park\, 1714 Schneider St NE\, Canton\, OH\, 44721\, United States
END:VEVENT
BEGIN:VEVENT
DTSTART;TZID=UTC:20190625T180000
DTEND;TZID=UTC:20190625T200000
DTSTAMP:20260425T105620
CREATED:20190307T195428Z
LAST-MODIFIED:20190307T202206Z
UID:600-1561485600-1561492800@preservingplaintwp.org
SUMMARY:Plain Township Trustees Meeting
DESCRIPTION:
URL:https://preservingplaintwp.org/event/plain-township-trustees-meeting-4/
END:VEVENT
BEGIN:VEVENT
DTSTART;TZID=UTC:20190625T121000
DTEND;TZID=UTC:20190625T125000
DTSTAMP:20260425T105620
CREATED:20190502T211509Z
LAST-MODIFIED:20190502T211509Z
UID:950-1561464600-1561467000@preservingplaintwp.org
SUMMARY:Massillon Museum - Brown Bag Lunch - "Welcome to Massillon!  Now What?"
DESCRIPTION:
URL:https://preservingplaintwp.org/event/massillon-museum-brown-bag-lunch-welcome-to-massillon-now-what/
END:VEVENT
BEGIN:VEVENT
DTSTART;TZID=UTC:20190623T180000
DTEND;TZID=UTC:20190623T190000
DTSTAMP:20260425T105620
CREATED:20190609T132919Z
LAST-MODIFIED:20190609T132919Z
UID:984-1561312800-1561316400@preservingplaintwp.org
SUMMARY:Molly Stark Grounds Tour
DESCRIPTION:
URL:https://preservingplaintwp.org/event/molly-stark-grounds-tour/
END:VEVENT
BEGIN:VEVENT
DTSTART;TZID=UTC:20190623T133000
DTEND;TZID=UTC:20190623T153000
DTSTAMP:20260425T105620
CREATED:20190510T014754Z
LAST-MODIFIED:20190510T014754Z
UID:963-1561296600-1561303800@preservingplaintwp.org
SUMMARY:Osnaburg Township Historical Society - Werner Inn Open
DESCRIPTION:
URL:https://preservingplaintwp.org/event/osnaburg-township-historical-society-werner-inn-open/
END:VEVENT
BEGIN:VEVENT
DTSTART;TZID=UTC:20190623T130000
DTEND;TZID=UTC:20190623T150000
DTSTAMP:20260425T105620
CREATED:20190609T132511Z
LAST-MODIFIED:20190609T132511Z
UID:980-1561294800-1561302000@preservingplaintwp.org
SUMMARY:Quail Hollow Manor House Tour - 1\, 2\, and 3pm
DESCRIPTION:
URL:https://preservingplaintwp.org/event/quail-hollow-manor-house-tour-1-2-and-3pm-2/
END:VEVENT
BEGIN:VEVENT
DTSTART;TZID=UTC:20190622T170000
DTEND;TZID=UTC:20190622T193000
DTSTAMP:20260425T105620
CREATED:20190502T210219Z
LAST-MODIFIED:20190502T210219Z
UID:934-1561222800-1561231800@preservingplaintwp.org
SUMMARY:St. Helena III Canal Boat - Hey Mavis Cruise
DESCRIPTION:There are two cruises scheduled 5:00pm and 6:30pm.  Contact the Canalway Center for reservations.  $19 per show.
URL:https://preservingplaintwp.org/event/st-helena-iii-canal-boat-hey-mavis-cruise/
END:VEVENT
BEGIN:VEVENT
DTSTART;TZID=UTC:20190622T160000
DTEND;TZID=UTC:20190622T200000
DTSTAMP:20260425T105620
CREATED:20190510T011905Z
LAST-MODIFIED:20190510T011905Z
UID:959-1561219200-1561233600@preservingplaintwp.org
SUMMARY:Magnolia Area Historical Society - Kemp Blacksmith Shop Grand Opening
DESCRIPTION:
URL:https://preservingplaintwp.org/event/magnolia-area-historical-society-kemp-blacksmith-shop-grand-opening/
END:VEVENT
BEGIN:VEVENT
DTSTART;TZID=UTC:20190622T090000
DTEND;TZID=UTC:20190622T150000
DTSTAMP:20260425T105620
CREATED:20190509T234701Z
LAST-MODIFIED:20190509T234701Z
UID:955-1561194000-1561215600@preservingplaintwp.org
SUMMARY:Perry History Club - Rummage Sale
DESCRIPTION:
URL:https://preservingplaintwp.org/event/perry-history-club-rummage-sale-2/
END:VEVENT
BEGIN:VEVENT
DTSTART;TZID=UTC:20190622T090000
DTEND;TZID=UTC:20190622T150000
DTSTAMP:20260425T105620
CREATED:20190327T141318Z
LAST-MODIFIED:20190327T141318Z
UID:835-1561194000-1561215600@preservingplaintwp.org
SUMMARY:McKinley Museum - 18th Annual Cruisin' Thru History Car Show
DESCRIPTION:
URL:https://preservingplaintwp.org/event/mckinley-museum-18th-annual-cruisin-thru-history-car-show/
LOCATION:McKinley Presidential Library and Museum\, 800 McKinley Monument Dr NW\, Canton\, OH\, 44708\, United States
END:VEVENT
BEGIN:VEVENT
DTSTART;TZID=UTC:20190621T090000
DTEND;TZID=UTC:20190621T150000
DTSTAMP:20260425T105620
CREATED:20190509T234628Z
LAST-MODIFIED:20190509T234628Z
UID:953-1561107600-1561129200@preservingplaintwp.org
SUMMARY:Perry History Club - Rummage Sale
DESCRIPTION:
URL:https://preservingplaintwp.org/event/perry-history-club-rummage-sale/
END:VEVENT
BEGIN:VEVENT
DTSTART;TZID=UTC:20190620T180000
DTEND;TZID=UTC:20190620T210000
DTSTAMP:20260425T105620
CREATED:20190609T134108Z
LAST-MODIFIED:20190609T134108Z
UID:1002-1561053600-1561064400@preservingplaintwp.org
SUMMARY:Quail Hollow - Traditional Music at the Manor - admission
DESCRIPTION:
URL:https://preservingplaintwp.org/event/quail-hollow-traditional-music-at-the-manor-admission-2/
END:VEVENT
BEGIN:VEVENT
DTSTART;TZID=UTC:20190619T160000
DTEND;TZID=UTC:20190619T190000
DTSTAMP:20260425T105620
CREATED:20190309T184348Z
LAST-MODIFIED:20190309T190033Z
UID:735-1560960000-1560970800@preservingplaintwp.org
SUMMARY:Plain Township Farmers Market - Children's Market
DESCRIPTION:
URL:https://preservingplaintwp.org/event/plain-township-farmers-market-8/
LOCATION:Veterans Park\, 1714 Schneider St NE\, Canton\, OH\, 44721\, United States
END:VEVENT
BEGIN:VEVENT
DTSTART;TZID=UTC:20190617T183000
DTEND;TZID=UTC:20190617T203000
DTSTAMP:20260425T105620
CREATED:20190404T141805Z
LAST-MODIFIED:20190404T141805Z
UID:843-1560796200-1560803400@preservingplaintwp.org
SUMMARY:Canal Fulton Heritage Society - Vintage Clothing Care
DESCRIPTION:Speaker is Carman Kulgoski.  Location Heritage House Museum
URL:https://preservingplaintwp.org/event/canal-fulton-heritage-society-vintage-clothing-care/
END:VEVENT
BEGIN:VEVENT
DTSTART;TZID=UTC:20190617T180000
DTEND;TZID=UTC:20190617T200000
DTSTAMP:20260425T105620
CREATED:20190117T210439Z
LAST-MODIFIED:20190307T202138Z
UID:208-1560794400-1560801600@preservingplaintwp.org
SUMMARY:Covered Dish Picnic - PTHS Free Monthly Meeting
DESCRIPTION:Come join us as we celebrate the summer.  Bring your favorite covered dish and break bread with members of the community.  This is a chance to relax outside (weather permitting) at Veterans Park and share stories about family and growing up.  Veterans Park is equipped with a dog park\, play area\, water play area\, walking/bike path\, and bathrooms.  So come join us and maybe we will even get some homemade ice cream!!!!! \nPlease note time and location change.
URL:https://preservingplaintwp.org/event/covered-dish-picnic-pths-free-monthly-meeting/
LOCATION:Veterans Park\, 1714 Schneider St NE\, Canton\, OH\, 44721\, United States
ORGANIZER;CN="Plain Township Historical Society":MAILTO:preservingplaintwp@gmail.com
END:VEVENT
BEGIN:VEVENT
DTSTART;TZID=UTC:20190616T130000
DTEND;TZID=UTC:20190616T150000
DTSTAMP:20260425T105620
CREATED:20190609T132316Z
LAST-MODIFIED:20190609T132316Z
UID:978-1560690000-1560697200@preservingplaintwp.org
SUMMARY:Quail Hollow Manor House Tours - 1\, 2 and 3pm
DESCRIPTION:
URL:https://preservingplaintwp.org/event/quail-hollow-manor-house-tours-1-2-and-3pm/
END:VEVENT
BEGIN:VEVENT
DTSTART;TZID=UTC:20190613T190000
DTEND;TZID=UTC:20190613T203000
DTSTAMP:20260425T105620
CREATED:20190308T004624Z
LAST-MODIFIED:20190308T004624Z
UID:661-1560452400-1560457800@preservingplaintwp.org
SUMMARY:Jackson Township Historical Society Memory Lane - Farms and Farmers in Jackson Township
DESCRIPTION:
URL:https://preservingplaintwp.org/event/jackson-township-historical-society-memory-lane-farms-and-farmers-in-jackson-township/
END:VEVENT
BEGIN:VEVENT
DTSTART;TZID=UTC:20190612T160000
DTEND;TZID=UTC:20190612T190000
DTSTAMP:20260425T105620
CREATED:20190309T184300Z
LAST-MODIFIED:20190309T184300Z
UID:733-1560355200-1560366000@preservingplaintwp.org
SUMMARY:Plain Township Farmers Market
DESCRIPTION:
URL:https://preservingplaintwp.org/event/plain-township-farmers-market-7/
LOCATION:Veterans Park\, 1714 Schneider St NE\, Canton\, OH\, 44721\, United States
END:VEVENT
BEGIN:VEVENT
DTSTART;TZID=UTC:20190612T130000
DTEND;TZID=UTC:20190612T140000
DTSTAMP:20260425T105620
CREATED:20190404T143151Z
LAST-MODIFIED:20190404T143151Z
UID:856-1560344400-1560348000@preservingplaintwp.org
SUMMARY:North Canton Heritage Society - Genealogy Workshop - Understanding Census Records
DESCRIPTION:How much do you know about census records? We’ll cover the history of them\, how to find them\, and most important – how to read them.
URL:https://preservingplaintwp.org/event/north-canton-heritage-society-genealogy-workshop-understanding-census-records-2/
END:VEVENT
END:VCALENDAR