BEGIN:VCALENDAR
VERSION:2.0
PRODID:-//Plain Township Historical Society - ECPv6.15.20//NONSGML v1.0//EN
CALSCALE:GREGORIAN
METHOD:PUBLISH
X-WR-CALNAME:Plain Township Historical Society
X-ORIGINAL-URL:https://preservingplaintwp.org
X-WR-CALDESC:Events for Plain Township Historical Society
REFRESH-INTERVAL;VALUE=DURATION:PT1H
X-Robots-Tag:noindex
X-PUBLISHED-TTL:PT1H
BEGIN:VTIMEZONE
TZID:UTC
BEGIN:STANDARD
TZOFFSETFROM:+0000
TZOFFSETTO:+0000
TZNAME:UTC
DTSTART:20180101T000000
END:STANDARD
END:VTIMEZONE
BEGIN:VEVENT
DTSTART;TZID=UTC:20190620T180000
DTEND;TZID=UTC:20190620T210000
DTSTAMP:20260425T163526
CREATED:20190609T134108Z
LAST-MODIFIED:20190609T134108Z
UID:1002-1561053600-1561064400@preservingplaintwp.org
SUMMARY:Quail Hollow - Traditional Music at the Manor - admission
DESCRIPTION:
URL:https://preservingplaintwp.org/event/quail-hollow-traditional-music-at-the-manor-admission-2/
END:VEVENT
BEGIN:VEVENT
DTSTART;TZID=UTC:20190619T160000
DTEND;TZID=UTC:20190619T190000
DTSTAMP:20260425T163526
CREATED:20190309T184348Z
LAST-MODIFIED:20190309T190033Z
UID:735-1560960000-1560970800@preservingplaintwp.org
SUMMARY:Plain Township Farmers Market - Children's Market
DESCRIPTION:
URL:https://preservingplaintwp.org/event/plain-township-farmers-market-8/
LOCATION:Veterans Park\, 1714 Schneider St NE\, Canton\, OH\, 44721\, United States
END:VEVENT
BEGIN:VEVENT
DTSTART;TZID=UTC:20190617T183000
DTEND;TZID=UTC:20190617T203000
DTSTAMP:20260425T163526
CREATED:20190404T141805Z
LAST-MODIFIED:20190404T141805Z
UID:843-1560796200-1560803400@preservingplaintwp.org
SUMMARY:Canal Fulton Heritage Society - Vintage Clothing Care
DESCRIPTION:Speaker is Carman Kulgoski.  Location Heritage House Museum
URL:https://preservingplaintwp.org/event/canal-fulton-heritage-society-vintage-clothing-care/
END:VEVENT
BEGIN:VEVENT
DTSTART;TZID=UTC:20190617T180000
DTEND;TZID=UTC:20190617T200000
DTSTAMP:20260425T163526
CREATED:20190117T210439Z
LAST-MODIFIED:20190307T202138Z
UID:208-1560794400-1560801600@preservingplaintwp.org
SUMMARY:Covered Dish Picnic - PTHS Free Monthly Meeting
DESCRIPTION:Come join us as we celebrate the summer.  Bring your favorite covered dish and break bread with members of the community.  This is a chance to relax outside (weather permitting) at Veterans Park and share stories about family and growing up.  Veterans Park is equipped with a dog park\, play area\, water play area\, walking/bike path\, and bathrooms.  So come join us and maybe we will even get some homemade ice cream!!!!! \nPlease note time and location change.
URL:https://preservingplaintwp.org/event/covered-dish-picnic-pths-free-monthly-meeting/
LOCATION:Veterans Park\, 1714 Schneider St NE\, Canton\, OH\, 44721\, United States
ORGANIZER;CN="Plain Township Historical Society":MAILTO:preservingplaintwp@gmail.com
END:VEVENT
BEGIN:VEVENT
DTSTART;TZID=UTC:20190616T130000
DTEND;TZID=UTC:20190616T150000
DTSTAMP:20260425T163526
CREATED:20190609T132316Z
LAST-MODIFIED:20190609T132316Z
UID:978-1560690000-1560697200@preservingplaintwp.org
SUMMARY:Quail Hollow Manor House Tours - 1\, 2 and 3pm
DESCRIPTION:
URL:https://preservingplaintwp.org/event/quail-hollow-manor-house-tours-1-2-and-3pm/
END:VEVENT
BEGIN:VEVENT
DTSTART;TZID=UTC:20190613T190000
DTEND;TZID=UTC:20190613T203000
DTSTAMP:20260425T163526
CREATED:20190308T004624Z
LAST-MODIFIED:20190308T004624Z
UID:661-1560452400-1560457800@preservingplaintwp.org
SUMMARY:Jackson Township Historical Society Memory Lane - Farms and Farmers in Jackson Township
DESCRIPTION:
URL:https://preservingplaintwp.org/event/jackson-township-historical-society-memory-lane-farms-and-farmers-in-jackson-township/
END:VEVENT
BEGIN:VEVENT
DTSTART;TZID=UTC:20190612T160000
DTEND;TZID=UTC:20190612T190000
DTSTAMP:20260425T163526
CREATED:20190309T184300Z
LAST-MODIFIED:20190309T184300Z
UID:733-1560355200-1560366000@preservingplaintwp.org
SUMMARY:Plain Township Farmers Market
DESCRIPTION:
URL:https://preservingplaintwp.org/event/plain-township-farmers-market-7/
LOCATION:Veterans Park\, 1714 Schneider St NE\, Canton\, OH\, 44721\, United States
END:VEVENT
BEGIN:VEVENT
DTSTART;TZID=UTC:20190612T130000
DTEND;TZID=UTC:20190612T140000
DTSTAMP:20260425T163526
CREATED:20190404T143151Z
LAST-MODIFIED:20190404T143151Z
UID:856-1560344400-1560348000@preservingplaintwp.org
SUMMARY:North Canton Heritage Society - Genealogy Workshop - Understanding Census Records
DESCRIPTION:How much do you know about census records? We’ll cover the history of them\, how to find them\, and most important – how to read them.
URL:https://preservingplaintwp.org/event/north-canton-heritage-society-genealogy-workshop-understanding-census-records-2/
END:VEVENT
BEGIN:VEVENT
DTSTART;TZID=UTC:20190611T180000
DTEND;TZID=UTC:20190611T200000
DTSTAMP:20260425T163526
CREATED:20190307T195337Z
LAST-MODIFIED:20190307T202103Z
UID:598-1560276000-1560283200@preservingplaintwp.org
SUMMARY:Plain Township Trustees Meeting
DESCRIPTION:
URL:https://preservingplaintwp.org/event/plain-township-trustees-meeting-3/
END:VEVENT
BEGIN:VEVENT
DTSTART;TZID=UTC:20190606T190000
DTEND;TZID=UTC:20190606T200000
DTSTAMP:20260425T163526
CREATED:20190502T205240Z
LAST-MODIFIED:20190502T205240Z
UID:926-1559847600-1559851200@preservingplaintwp.org
SUMMARY:Salem Preservation Society - Window Restoration vs Replacement
DESCRIPTION:
URL:https://preservingplaintwp.org/event/salem-preservation-society-window-restoration-vs-replacement/
END:VEVENT
BEGIN:VEVENT
DTSTART;TZID=UTC:20190605T160000
DTEND;TZID=UTC:20190605T190000
DTSTAMP:20260425T163526
CREATED:20190309T184216Z
LAST-MODIFIED:20190309T190115Z
UID:731-1559750400-1559761200@preservingplaintwp.org
SUMMARY:Plain Township Farmers Market - Paws in the Park
DESCRIPTION:
URL:https://preservingplaintwp.org/event/plain-township-farmers-market-6/
LOCATION:Veterans Park\, 1714 Schneider St NE\, Canton\, OH\, 44721\, United States
END:VEVENT
BEGIN:VEVENT
DTSTART;TZID=UTC:20190601T110000
DTEND;TZID=UTC:20190601T120000
DTSTAMP:20260425T163526
CREATED:20190404T143053Z
LAST-MODIFIED:20190404T143053Z
UID:854-1559386800-1559390400@preservingplaintwp.org
SUMMARY:North Canton Heritage Society - Genealogy Workshop - Understanding Census Records
DESCRIPTION:How much do you know about census records? We’ll cover the history of them\, how to find them\, and most important – how to read them.
URL:https://preservingplaintwp.org/event/north-canton-heritage-society-genealogy-workshop-understanding-census-records/
END:VEVENT
BEGIN:VEVENT
DTSTART;TZID=UTC:20190529T160000
DTEND;TZID=UTC:20190529T190000
DTSTAMP:20260425T163526
CREATED:20190309T184131Z
LAST-MODIFIED:20190309T184131Z
UID:729-1559145600-1559156400@preservingplaintwp.org
SUMMARY:Plain Township Farmers Market
DESCRIPTION:
URL:https://preservingplaintwp.org/event/plain-township-farmers-market-5/
LOCATION:Veterans Park\, 1714 Schneider St NE\, Canton\, OH\, 44721\, United States
END:VEVENT
BEGIN:VEVENT
DTSTART;TZID=UTC:20190529T090000
DTEND;TZID=UTC:20190529T110000
DTSTAMP:20260425T163526
CREATED:20190308T004004Z
LAST-MODIFIED:20190308T004004Z
UID:651-1559120400-1559127600@preservingplaintwp.org
SUMMARY:History Walk on Hoover Trail - Hoover Historical Center & Stark Parks
DESCRIPTION:Partnering with Stark Parks\, enjoy nature and the history of local industry on this hike along the Hoover trail. During the hike\, we will stop at the Hoover Historical Center to take a tour of the museum. Please meet at the East Maple Ballfields trailhead at 9:00 a.m. to begin.
URL:https://preservingplaintwp.org/event/history-walk-on-hoover-trail-hoover-historical-center-stark-parks/
END:VEVENT
BEGIN:VEVENT
DTSTART;TZID=UTC:20190528T180000
DTEND;TZID=UTC:20190528T200000
DTSTAMP:20260425T163526
CREATED:20190307T195245Z
LAST-MODIFIED:20190307T202027Z
UID:596-1559066400-1559073600@preservingplaintwp.org
SUMMARY:Plain Township Trustees Meeting
DESCRIPTION:
URL:https://preservingplaintwp.org/event/plain-township-trustees-meeting-2/
END:VEVENT
BEGIN:VEVENT
DTSTART;TZID=UTC:20190528T121000
DTEND;TZID=UTC:20190528T125000
DTSTAMP:20260425T163526
CREATED:20190502T211348Z
LAST-MODIFIED:20190502T211348Z
UID:946-1559045400-1559047800@preservingplaintwp.org
SUMMARY:Massillon Museum - Brown Bag Lunch - Zoar
DESCRIPTION:
URL:https://preservingplaintwp.org/event/massillon-museum-brown-bag-lunch-zoar/
END:VEVENT
BEGIN:VEVENT
DTSTART;TZID=UTC:20190526T133000
DTEND;TZID=UTC:20190526T153000
DTSTAMP:20260425T163526
CREATED:20190316T205036Z
LAST-MODIFIED:20190316T205036Z
UID:816-1558877400-1558884600@preservingplaintwp.org
SUMMARY:Osnaburg Historical Society - Mapleton Museum Open House
DESCRIPTION:
URL:https://preservingplaintwp.org/event/osnaburg-historical-society-mapleton-museum-open-house/
END:VEVENT
BEGIN:VEVENT
DTSTART;TZID=UTC:20190526T130000
DTEND;TZID=UTC:20190526T150000
DTSTAMP:20260425T163526
CREATED:20190316T202558Z
LAST-MODIFIED:20190316T202558Z
UID:803-1558875600-1558882800@preservingplaintwp.org
SUMMARY:Quail Hollow Manor House Tour - 1\, 2\, and 3PM
DESCRIPTION:
URL:https://preservingplaintwp.org/event/quail-hollow-manor-house-tour-1-2-and-3pm/
END:VEVENT
BEGIN:VEVENT
DTSTART;VALUE=DATE:20190525
DTEND;VALUE=DATE:20190526
DTSTAMP:20260425T163526
CREATED:20190308T010325Z
LAST-MODIFIED:20190308T010325Z
UID:688-1558742400-1558828799@preservingplaintwp.org
SUMMARY:Lake Township Historical Society - Parking Lot Sale
DESCRIPTION:
URL:https://preservingplaintwp.org/event/lake-township-historical-society-parking-lot-sale-3/
END:VEVENT
BEGIN:VEVENT
DTSTART;TZID=UTC:20190522T160000
DTEND;TZID=UTC:20190522T190000
DTSTAMP:20260425T163526
CREATED:20190309T184015Z
LAST-MODIFIED:20190309T190152Z
UID:727-1558540800-1558551600@preservingplaintwp.org
SUMMARY:Plain Township Farmers Market - Spring Fest
DESCRIPTION:
URL:https://preservingplaintwp.org/event/plain-township-farmers-market-4/
LOCATION:Veterans Park\, 1714 Schneider St NE\, Canton\, OH\, 44721\, United States
END:VEVENT
BEGIN:VEVENT
DTSTART;TZID=UTC:20190520T190000
DTEND;TZID=UTC:20190520T210000
DTSTAMP:20260425T163526
CREATED:20190117T205830Z
LAST-MODIFIED:20190307T201956Z
UID:206-1558378800-1558386000@preservingplaintwp.org
SUMMARY:Middlebranch High School - PTHS Free Monthly Meeting
DESCRIPTION:Presenter: Judy Pocock and Cindy Guest\nTake a look back in time to the first high school in Plain Township.  Here is a chance to see where at lot of the activities and structures of high school started.  Join us and share your memories of Middlebranch.
URL:https://preservingplaintwp.org/event/middlebranch-high-school-pths-free-monthly-meeting/
ORGANIZER;CN="Plain Township Historical Society":MAILTO:preservingplaintwp@gmail.com
END:VEVENT
BEGIN:VEVENT
DTSTART;TZID=UTC:20190519T130000
DTEND;TZID=UTC:20190519T150000
DTSTAMP:20260425T163526
CREATED:20190316T202510Z
LAST-MODIFIED:20190316T202510Z
UID:801-1558270800-1558278000@preservingplaintwp.org
SUMMARY:Quail Hollow Manor Tour - 1\, 2\, and 3PM
DESCRIPTION:
URL:https://preservingplaintwp.org/event/quail-hollow-manor-tour-1-2-and-3pm/
END:VEVENT
BEGIN:VEVENT
DTSTART;TZID=UTC:20190518T110000
DTEND;TZID=UTC:20190518T140000
DTSTAMP:20260425T163526
CREATED:20190307T203547Z
LAST-MODIFIED:20190316T210208Z
UID:641-1558177200-1558188000@preservingplaintwp.org
SUMMARY:Alliance Historical Society - Antique and Collectible Auction
DESCRIPTION:This is a benefit antique and collectibles auction.  Items include steamer trunks\, milk cans\, cheese boxes\, Budweiser\, Stroh’s\, Joe Camel\, Schlitz\, and Seagrams collectibles and signs\, crank telephone\, large mirrors\, movie posters\, and more!
URL:https://preservingplaintwp.org/event/alliance-historical-society-antique-and-collectible-auction/
END:VEVENT
BEGIN:VEVENT
DTSTART;VALUE=DATE:20190518
DTEND;VALUE=DATE:20190519
DTSTAMP:20260425T163526
CREATED:20190308T010227Z
LAST-MODIFIED:20190308T010227Z
UID:686-1558137600-1558223999@preservingplaintwp.org
SUMMARY:Lake Township Historical Society - Parking Lot Sale
DESCRIPTION:
URL:https://preservingplaintwp.org/event/lake-township-historical-society-parking-lot-sale-2/
END:VEVENT
BEGIN:VEVENT
DTSTART;TZID=UTC:20190515T160000
DTEND;TZID=UTC:20190515T190000
DTSTAMP:20260425T163526
CREATED:20190309T183932Z
LAST-MODIFIED:20190309T183932Z
UID:725-1557936000-1557946800@preservingplaintwp.org
SUMMARY:Plain Township Farmers Market
DESCRIPTION:
URL:https://preservingplaintwp.org/event/plain-township-farmers-market-3/
LOCATION:Veterans Park\, 1714 Schneider St NE\, Canton\, OH\, 44721\, United States
END:VEVENT
BEGIN:VEVENT
DTSTART;TZID=UTC:20190514T180000
DTEND;TZID=UTC:20190514T200000
DTSTAMP:20260425T163526
CREATED:20190307T195131Z
LAST-MODIFIED:20190307T201923Z
UID:594-1557856800-1557864000@preservingplaintwp.org
SUMMARY:Plain Township Trustees Meeting
DESCRIPTION:
URL:https://preservingplaintwp.org/event/plain-township-trustees-meeting/
END:VEVENT
BEGIN:VEVENT
DTSTART;TZID=UTC:20190514T173000
DTEND;TZID=UTC:20190514T210000
DTSTAMP:20260425T163526
CREATED:20190308T010843Z
LAST-MODIFIED:20190308T010843Z
UID:690-1557855000-1557867600@preservingplaintwp.org
SUMMARY:Louisville-Nimishillen Historical Society - Annual Fundraiser Dinner & Social
DESCRIPTION:Join us for an evening of entertainment\, raffles\, and silent auction.  For $30\, there will be appetizers\, Wine/Beer\, Dinner\, dessert. Come and support LNHS with raffles and the silent auction bids. This will be fun night for all.
URL:https://preservingplaintwp.org/event/louisville-nimishillen-historical-society-annual-fundraiser-dinner-social/
END:VEVENT
BEGIN:VEVENT
DTSTART;TZID=UTC:20190512T130000
DTEND;TZID=UTC:20190512T150000
DTSTAMP:20260425T163526
CREATED:20190316T202408Z
LAST-MODIFIED:20190316T202408Z
UID:799-1557666000-1557673200@preservingplaintwp.org
SUMMARY:Quail Hollow Manor House Tour - 1\, 2\, and 3 PM
DESCRIPTION:
URL:https://preservingplaintwp.org/event/quail-hollow-manor-house-tour-1-2-and-3-pm/
END:VEVENT
BEGIN:VEVENT
DTSTART;TZID=UTC:20190511T150000
DTEND;TZID=UTC:20190511T160000
DTSTAMP:20260425T163526
CREATED:20190318T140939Z
LAST-MODIFIED:20190326T151410Z
UID:832-1557586800-1557590400@preservingplaintwp.org
SUMMARY:North Canton Heritage Society - Civil War Soliders Cemetery Walking Tour
DESCRIPTION:
URL:https://preservingplaintwp.org/event/north-canton-heritage-society-civil-war-soliders-cemetery-walking-tour/
END:VEVENT
BEGIN:VEVENT
DTSTART;VALUE=DATE:20190511
DTEND;VALUE=DATE:20190512
DTSTAMP:20260425T163526
CREATED:20190308T010145Z
LAST-MODIFIED:20190308T010145Z
UID:684-1557532800-1557619199@preservingplaintwp.org
SUMMARY:Lake Township Historical Society - Parking Lot Sale
DESCRIPTION:
URL:https://preservingplaintwp.org/event/lake-township-historical-society-parking-lot-sale/
END:VEVENT
END:VCALENDAR