BEGIN:VCALENDAR
VERSION:2.0
PRODID:-//Plain Township Historical Society - ECPv6.15.20//NONSGML v1.0//EN
CALSCALE:GREGORIAN
METHOD:PUBLISH
X-WR-CALNAME:Plain Township Historical Society
X-ORIGINAL-URL:https://preservingplaintwp.org
X-WR-CALDESC:Events for Plain Township Historical Society
REFRESH-INTERVAL;VALUE=DURATION:PT1H
X-Robots-Tag:noindex
X-PUBLISHED-TTL:PT1H
BEGIN:VTIMEZONE
TZID:UTC
BEGIN:STANDARD
TZOFFSETFROM:+0000
TZOFFSETTO:+0000
TZNAME:UTC
DTSTART:20230101T000000
END:STANDARD
END:VTIMEZONE
BEGIN:VEVENT
DTSTART;TZID=UTC:20250913T100000
DTEND;TZID=UTC:20250913T150000
DTSTAMP:20260423T233521
CREATED:20241226T163657Z
LAST-MODIFIED:20250404T232715Z
UID:4494-1757757600-1757775600@preservingplaintwp.org
SUMMARY:720 Side Street Market - Happy Birthday Plain Township Fire Dept
DESCRIPTION:
URL:https://preservingplaintwp.org/event/720-side-street-market-happy-birthday-plain-township-fire-dept/
LOCATION:Oakwood Square Plaza\, 2610 Easton St NE\, Canton\, OH\, 44721\, United States
END:VEVENT
BEGIN:VEVENT
DTSTART;TZID=UTC:20250818T190000
DTEND;TZID=UTC:20250818T210000
DTSTAMP:20260423T233521
CREATED:20241226T162421Z
LAST-MODIFIED:20241226T162421Z
UID:4476-1755543600-1755550800@preservingplaintwp.org
SUMMARY:PTHS Free Monthly Meeting - Brooke and Anna Martin Home A Guy Tilden Design - Presented by the Stark History Collaborative
DESCRIPTION:
URL:https://preservingplaintwp.org/event/pths-free-monthly-meeting-brooke-and-anna-martin-home-a-guy-tilden-design-presented-by-the-stark-history-collaborative/
LOCATION:Plain Township Hall\, 2600 Easton St NE\, Canton\, OH\, 44721\, United States
ORGANIZER;CN="Plain Township Historical Society":MAILTO:preservingplaintwp@gmail.com
END:VEVENT
BEGIN:VEVENT
DTSTART;TZID=UTC:20250813T140000
DTEND;TZID=UTC:20250813T160000
DTSTAMP:20260423T233521
CREATED:20250720T012249Z
LAST-MODIFIED:20250720T012249Z
UID:4701-1755093600-1755100800@preservingplaintwp.org
SUMMARY:Tech It Out: Smarter Research with Digital Tools in Collaboration with the Massillon Public Library
DESCRIPTION:This event is hosted by the Massillon Public Library in the Duncan Room.  RSVP through the Massillon Public Library link below. \nReady to level up your research skills? Join us for a hands-on workshop designed to help you make the most of modern technology in your research process. Whether you’re working on genealogy\, academic research\, a school project\, or personal interests\, this session will introduce you to tech tools that make researching faster\, easier\, and more effective.
URL:https://preservingplaintwp.org/event/tech-it-out-smarter-research-with-digital-tools-in-collaboration-with-the-massillon-public-library/
LOCATION:Massillon Public Library\, 208 Lincoln Way East\, Massillon\, OH\, 44646\, United States
END:VEVENT
BEGIN:VEVENT
DTSTART;TZID=UTC:20250721T190000
DTEND;TZID=UTC:20250721T210000
DTSTAMP:20260423T233521
CREATED:20241226T162307Z
LAST-MODIFIED:20241226T162307Z
UID:4474-1753124400-1753131600@preservingplaintwp.org
SUMMARY:PTHS Free Monthly Meeting - Edgewood Estate and the Raff Family - Presented by John Werren
DESCRIPTION:
URL:https://preservingplaintwp.org/event/pths-free-monthly-meeting-edgewood-estate-and-the-raff-family-presented-by-john-werren/
LOCATION:Plain Township Hall\, 2600 Easton St NE\, Canton\, OH\, 44721\, United States
ORGANIZER;CN="Plain Township Historical Society":MAILTO:preservingplaintwp@gmail.com
END:VEVENT
BEGIN:VEVENT
DTSTART;TZID=UTC:20250616T170000
DTEND;TZID=UTC:20250616T200000
DTSTAMP:20260423T233521
CREATED:20241226T162205Z
LAST-MODIFIED:20241226T163455Z
UID:4472-1750093200-1750104000@preservingplaintwp.org
SUMMARY:PTHS 8th Annual Covered Dish Picnic - New Location - Diamond Park - Dinner 6 PM
DESCRIPTION:
URL:https://preservingplaintwp.org/event/pths-8th-annual-covered-dish-picnic-new-location-diamond-park-dinner-6-pm/
LOCATION:Diamond Community Park\, 2782 Diamond St NE\, Canton\, OH\, 44721\, United States
ORGANIZER;CN="Plain Township Historical Society":MAILTO:preservingplaintwp@gmail.com
END:VEVENT
BEGIN:VEVENT
DTSTART;TZID=UTC:20250614T100000
DTEND;TZID=UTC:20250614T150000
DTSTAMP:20260423T233521
CREATED:20241226T163757Z
LAST-MODIFIED:20250612T124103Z
UID:4496-1749895200-1749913200@preservingplaintwp.org
SUMMARY:720 Side Street Market - Unable to Attend
DESCRIPTION:
URL:https://preservingplaintwp.org/event/720-side-street-market-happy-birthday-pths/
LOCATION:Oakwood Square Plaza\, 2610 Easton St NE\, Canton\, OH\, 44721\, United States
END:VEVENT
BEGIN:VEVENT
DTSTART;TZID=UTC:20250605T180000
DTEND;TZID=UTC:20250605T190000
DTSTAMP:20260423T233521
CREATED:20250209T020525Z
LAST-MODIFIED:20250404T232601Z
UID:4549-1749146400-1749150000@preservingplaintwp.org
SUMMARY:Jackson Township Historical Society - PTHS Presenting on Early Boundaries of Plain Township which included Jackson Township
DESCRIPTION:
URL:https://preservingplaintwp.org/event/jackson-township-historical-society-pths-presenting-on-early-boundaries-of-plain-township-which-included-jackson-township/
LOCATION:Jackson Township Historical Society\, 7756Fulton Rd NW\, Massillon\, 44646\, United States
END:VEVENT
BEGIN:VEVENT
DTSTART;TZID=UTC:20250519T190000
DTEND;TZID=UTC:20250519T210000
DTSTAMP:20260423T233521
CREATED:20241226T162031Z
LAST-MODIFIED:20241226T162031Z
UID:4470-1747681200-1747688400@preservingplaintwp.org
SUMMARY:PTHS Free Monthly Meeting - Ralph Regula - Presented by Richard Regula
DESCRIPTION:
URL:https://preservingplaintwp.org/event/pths-free-monthly-meeting-ralph-regula-presented-by-richard-regula/
LOCATION:Plain Township Hall\, 2600 Easton St NE\, Canton\, OH\, 44721\, United States
ORGANIZER;CN="Plain Township Historical Society":MAILTO:preservingplaintwp@gmail.com
END:VEVENT
BEGIN:VEVENT
DTSTART;TZID=UTC:20250515T170000
DTEND;TZID=UTC:20250515T193000
DTSTAMP:20260423T233521
CREATED:20241226T164442Z
LAST-MODIFIED:20250404T232333Z
UID:4498-1747328400-1747337400@preservingplaintwp.org
SUMMARY:Canton Preservation Society Annual Dinner - Speaker PTHS Cindy Guest on Ridgewood
DESCRIPTION:.
URL:https://preservingplaintwp.org/event/canton-preservation-society-annual-dinner-speaker-pths-cindy-guest-on-ridgewood/
LOCATION:Chateau Michele\, 2231 41st St NW\, Canton\, OH\, 44709\, United States
END:VEVENT
BEGIN:VEVENT
DTSTART;TZID=UTC:20250503T110000
DTEND;TZID=UTC:20250503T150000
DTSTAMP:20260423T233521
CREATED:20241226T164607Z
LAST-MODIFIED:20250407T013220Z
UID:4502-1746270000-1746284400@preservingplaintwp.org
SUMMARY:Stark County Local History and Genealogy Fair at Stark County Library - Free and Open to the Public
DESCRIPTION:
URL:https://preservingplaintwp.org/event/stark-county-local-history-and-genealogy-fair-at-stark-county-library-free-and-open-to-the-public/
LOCATION:Stark County Library Main Branch\, 715 Market Ave N\, Canton\, OH\, 44702\, United States
END:VEVENT
BEGIN:VEVENT
DTSTART;TZID=UTC:20250421T190000
DTEND;TZID=UTC:20250421T210000
DTSTAMP:20260423T233521
CREATED:20241226T161932Z
LAST-MODIFIED:20241226T161932Z
UID:4468-1745262000-1745269200@preservingplaintwp.org
SUMMARY:PTHS Free Monthly Meeting - Glitz and Glamour in the White House - History\, Jewelry\, and Fashion of the Ohio Presidential First Ladies - Presented by Dr. Mari Halkovich
DESCRIPTION:
URL:https://preservingplaintwp.org/event/pths-free-monthly-meeting-glitz-and-glamour-in-the-white-house-history-jewelry-and-fashion-of-the-ohio-presidential-first-ladies-presented-by-dr-mari-halkovich/
LOCATION:Plain Township Hall\, 2600 Easton St NE\, Canton\, OH\, 44721\, United States
ORGANIZER;CN="Plain Township Historical Society":MAILTO:preservingplaintwp@gmail.com
END:VEVENT
BEGIN:VEVENT
DTSTART;TZID=UTC:20250325T180000
DTEND;TZID=UTC:20250325T190000
DTSTAMP:20260423T233521
CREATED:20241226T165403Z
LAST-MODIFIED:20250301T145234Z
UID:4504-1742925600-1742929200@preservingplaintwp.org
SUMMARY:Stark County District Library Plain Branch - Trash or Treasure? My Family Does Not Want This Stuff! - Presented by PTHS Cindy Guest
DESCRIPTION:
URL:https://preservingplaintwp.org/event/stark-county-district-library-plain-branch-trash-or-treasure-my-family-does-not-want-this-stuff-presented-by-pths-cindy-guest/
LOCATION:Stark County Library Plain Branch\, 1803 Schneider St NE\, Canton\, OH\, 44721\, United States
END:VEVENT
BEGIN:VEVENT
DTSTART;TZID=UTC:20250317T190000
DTEND;TZID=UTC:20250317T210000
DTSTAMP:20260423T233521
CREATED:20241226T161810Z
LAST-MODIFIED:20241226T161810Z
UID:4466-1742238000-1742245200@preservingplaintwp.org
SUMMARY:PTHS Free Monthly Meeting - MAPS Museum - Presented by MAPS Team Member
DESCRIPTION:
URL:https://preservingplaintwp.org/event/pths-free-monthly-meeting-maps-museum-presented-by-maps-team-member/
LOCATION:Plain Township Hall\, 2600 Easton St NE\, Canton\, OH\, 44721\, United States
ORGANIZER;CN="Plain Township Historical Society":MAILTO:preservingplaintwp@gmail.com
END:VEVENT
BEGIN:VEVENT
DTSTART;TZID=UTC:20250219T140000
DTEND;TZID=UTC:20250219T160000
DTSTAMP:20260423T233521
CREATED:20241226T165714Z
LAST-MODIFIED:20250131T021259Z
UID:4508-1739973600-1739980800@preservingplaintwp.org
SUMMARY:Supercharge Your Searches - LHG Workday Wednesday Workshop Series - Presented by Christine Bowman and Cindy Guest (PTHS)
DESCRIPTION:
URL:https://preservingplaintwp.org/event/supercharge-your-searches-lhg-workday-wednesday-workshop-series-presented-by-christine-bowman-and-cindy-guest-pths/
LOCATION:Massillon Public Library\, 208 Lincoln Way East\, Massillon\, OH\, 44646\, United States
END:VEVENT
BEGIN:VEVENT
DTSTART;TZID=UTC:20250217T190000
DTEND;TZID=UTC:20250217T210000
DTSTAMP:20260423T233521
CREATED:20241226T161635Z
LAST-MODIFIED:20241226T161635Z
UID:4464-1739818800-1739826000@preservingplaintwp.org
SUMMARY:PTHS Free Monthly Meeting - History of the Plain Twp Volunteer Fire Dept Stations - Presented by Cindy Guest
DESCRIPTION:
URL:https://preservingplaintwp.org/event/pths-free-monthly-meeting-history-of-the-plain-twp-volunteer-fire-dept-stations-presented-by-cindy-guest/
LOCATION:Plain Township Hall\, 2600 Easton St NE\, Canton\, OH\, 44721\, United States
ORGANIZER;CN="Plain Township Historical Society":MAILTO:preservingplaintwp@gmail.com
END:VEVENT
BEGIN:VEVENT
DTSTART;TZID=UTC:20250120T190000
DTEND;TZID=UTC:20250120T210000
DTSTAMP:20260423T233521
CREATED:20241226T161428Z
LAST-MODIFIED:20241226T161705Z
UID:4461-1737399600-1737406800@preservingplaintwp.org
SUMMARY:PTHS Free Monthly Meeting - No Meeting In January
DESCRIPTION:
URL:https://preservingplaintwp.org/event/pths-free-monthly-meeting-no-meeting-in-january/
LOCATION:Plain Township Hall\, 2600 Easton St NE\, Canton\, OH\, 44721\, United States
ORGANIZER;CN="Plain Township Historical Society":MAILTO:preservingplaintwp@gmail.com
END:VEVENT
BEGIN:VEVENT
DTSTART;TZID=UTC:20241216T190000
DTEND;TZID=UTC:20241216T210000
DTSTAMP:20260423T233521
CREATED:20231116T191603Z
LAST-MODIFIED:20231116T193502Z
UID:3979-1734375600-1734382800@preservingplaintwp.org
SUMMARY:PTHS Free Monthly Meeting - No Meeting Scheduled
DESCRIPTION:
URL:https://preservingplaintwp.org/event/pths-free-monthly-meeting-no-meeting-scheduled-4/
LOCATION:Plain Township Hall\, 2600 Easton St NE\, Canton\, OH\, 44721\, United States
ORGANIZER;CN="Plain Township Historical Society":MAILTO:preservingplaintwp@gmail.com
END:VEVENT
BEGIN:VEVENT
DTSTART;TZID=UTC:20241214T120000
DTEND;TZID=UTC:20241214T140000
DTSTAMP:20260423T233521
CREATED:20240502T142231Z
LAST-MODIFIED:20241103T131841Z
UID:4266-1734177600-1734184800@preservingplaintwp.org
SUMMARY:Wreaths Across America - Warstler Cemetery
DESCRIPTION:
URL:https://preservingplaintwp.org/event/wreaths-across-america-warstler-cemetery/
LOCATION:Henry Warstler Cemetery\, 2633 55th St NE\, Canton\, OH\, 44721\, United States
END:VEVENT
BEGIN:VEVENT
DTSTART;TZID=UTC:20241118T190000
DTEND;TZID=UTC:20241118T210000
DTSTAMP:20260423T233521
CREATED:20231116T191516Z
LAST-MODIFIED:20231118T131758Z
UID:3977-1731956400-1731963600@preservingplaintwp.org
SUMMARY:PTHS Free Monthly Meeting - History of the Stark County Library - Presented by Stephanie Houck
DESCRIPTION:
URL:https://preservingplaintwp.org/event/pths-free-monthly-meeting-history-of-the-stark-county-library-presented-by-stephanie-houck/
LOCATION:Plain Township Hall\, 2600 Easton St NE\, Canton\, OH\, 44721\, United States
ORGANIZER;CN="Plain Township Historical Society":MAILTO:preservingplaintwp@gmail.com
END:VEVENT
BEGIN:VEVENT
DTSTART;TZID=UTC:20241021T190000
DTEND;TZID=UTC:20241021T210000
DTSTAMP:20260423T233521
CREATED:20231116T191336Z
LAST-MODIFIED:20231118T131543Z
UID:3973-1729537200-1729544400@preservingplaintwp.org
SUMMARY:PTHS Free Monthly Meeting - Show and Tell - Presented by PTHS Members
DESCRIPTION:
URL:https://preservingplaintwp.org/event/pths-free-monthly-meeting-show-and-tell-presented-by-pths-members/
LOCATION:Plain Township Hall\, 2600 Easton St NE\, Canton\, OH\, 44721\, United States
ORGANIZER;CN="Plain Township Historical Society":MAILTO:preservingplaintwp@gmail.com
END:VEVENT
BEGIN:VEVENT
DTSTART;TZID=UTC:20240922T130000
DTEND;TZID=UTC:20240922T150000
DTSTAMP:20260423T233521
CREATED:20240702T010436Z
LAST-MODIFIED:20240823T132522Z
UID:4314-1727010000-1727017200@preservingplaintwp.org
SUMMARY:Paws in the Park - Veterans Park Dog Park
DESCRIPTION:
URL:https://preservingplaintwp.org/event/paws-in-the-park-veterans-park-dog-park/
LOCATION:Veterans Park\, 1714 Schneider St NE\, Canton\, OH\, 44721\, United States
END:VEVENT
BEGIN:VEVENT
DTSTART;TZID=UTC:20240916T190000
DTEND;TZID=UTC:20240916T210000
DTSTAMP:20260423T233521
CREATED:20231116T191238Z
LAST-MODIFIED:20231118T131511Z
UID:3971-1726513200-1726520400@preservingplaintwp.org
SUMMARY:PTHS Free Monthly Meeting - Life of R. G. Drage - Presented by Darlene Drage
DESCRIPTION:
URL:https://preservingplaintwp.org/event/pths-free-monthly-meeting-life-of-r-g-drage-presented-by-darlene-drage/
LOCATION:Plain Township Hall\, 2600 Easton St NE\, Canton\, OH\, 44721\, United States
ORGANIZER;CN="Plain Township Historical Society":MAILTO:preservingplaintwp@gmail.com
END:VEVENT
BEGIN:VEVENT
DTSTART;TZID=UTC:20240914T100000
DTEND;TZID=UTC:20240914T150000
DTSTAMP:20260423T233521
CREATED:20240303T195854Z
LAST-MODIFIED:20240804T235227Z
UID:4150-1726308000-1726326000@preservingplaintwp.org
SUMMARY:720 Sidestreet Market at Oakwood Square
DESCRIPTION:
URL:https://preservingplaintwp.org/event/720-sidestreet-market-at-oakwood-square-2/
LOCATION:Oakwood Square Plaza\, 2610 Easton St NE\, Canton\, OH\, 44721\, United States
END:VEVENT
BEGIN:VEVENT
DTSTART;TZID=UTC:20240819T190000
DTEND;TZID=UTC:20240819T210000
DTSTAMP:20260423T233521
CREATED:20231116T191153Z
LAST-MODIFIED:20231118T131453Z
UID:3969-1724094000-1724101200@preservingplaintwp.org
SUMMARY:PTHS Free Monthly Meeting - Scams - Presented by the Stark County Sheriff's Dept
DESCRIPTION:
URL:https://preservingplaintwp.org/event/pths-free-monthly-meeting-scams-presented-by-the-stark-county-sheriffs-dept/
LOCATION:Plain Township Hall\, 2600 Easton St NE\, Canton\, OH\, 44721\, United States
ORGANIZER;CN="Plain Township Historical Society":MAILTO:preservingplaintwp@gmail.com
END:VEVENT
BEGIN:VEVENT
DTSTART;TZID=UTC:20240715T190000
DTEND;TZID=UTC:20240715T210000
DTSTAMP:20260423T233521
CREATED:20231116T191056Z
LAST-MODIFIED:20231118T131428Z
UID:3967-1721070000-1721077200@preservingplaintwp.org
SUMMARY:PTHS Free Monthly Meeting - The Demise of the William McKinley Home - Presented by Richard Haldi and Judith Pocock
DESCRIPTION:
URL:https://preservingplaintwp.org/event/pths-free-monthly-meeting-the-demise-of-the-william-mckinley-home-presented-by-richard-haldi-and-judith-pocock/
LOCATION:Plain Township Hall\, 2600 Easton St NE\, Canton\, OH\, 44721\, United States
ORGANIZER;CN="Plain Township Historical Society":MAILTO:preservingplaintwp@gmail.com
END:VEVENT
BEGIN:VEVENT
DTSTART;TZID=UTC:20240714T130000
DTEND;TZID=UTC:20240714T170000
DTSTAMP:20260423T233521
CREATED:20240212T221608Z
LAST-MODIFIED:20240622T025255Z
UID:4127-1720962000-1720976400@preservingplaintwp.org
SUMMARY:2024 Hoover Park Festival
DESCRIPTION:
URL:https://preservingplaintwp.org/event/2024-hoover-park-festival/
LOCATION:Hoover Park\, 1875 E Maple St NE\, North Canton\, OH\, 44720\, United States
END:VEVENT
BEGIN:VEVENT
DTSTART;TZID=UTC:20240619T160000
DTEND;TZID=UTC:20240619T200000
DTSTAMP:20260423T233521
CREATED:20240429T122123Z
LAST-MODIFIED:20240517T033755Z
UID:4252-1718812800-1718827200@preservingplaintwp.org
SUMMARY:PTHS 10th Annual McDonald’s Quarterly Fundraiser - 2nd Quarter
DESCRIPTION:
URL:https://preservingplaintwp.org/event/pths-10th-annual-mcdonalds-quarterly-fundraiser-3rd-quarter/
LOCATION:McDonald’s\, 6302 Market Ave N\, Canton\, OH\, 44721\, United States
ORGANIZER;CN="Plain Township Historical Society":MAILTO:preservingplaintwp@gmail.com
END:VEVENT
BEGIN:VEVENT
DTSTART;TZID=UTC:20240617T190000
DTEND;TZID=UTC:20240617T210000
DTSTAMP:20260423T233521
CREATED:20231116T190954Z
LAST-MODIFIED:20240429T130642Z
UID:3964-1718650800-1718658000@preservingplaintwp.org
SUMMARY:PTHS Free Monthly Meeting - Annual Covered Dish Picnic - New Location This Year Al Leno Park
DESCRIPTION:
URL:https://preservingplaintwp.org/event/pths-free-monthly-meeting-annual-covered-dish-picnic-new-location-this-year-al-leno-park/
LOCATION:Al Leno Park\, 3059 Alpine Street\, Canton\, 44721\, United States
ORGANIZER;CN="Plain Township Historical Society":MAILTO:preservingplaintwp@gmail.com
END:VEVENT
BEGIN:VEVENT
DTSTART;TZID=UTC:20240608T100000
DTEND;TZID=UTC:20240608T150000
DTSTAMP:20260423T233521
CREATED:20240303T195728Z
LAST-MODIFIED:20240605T180846Z
UID:4147-1717840800-1717858800@preservingplaintwp.org
SUMMARY:720 Sidestreet Market at Oakwood Square
DESCRIPTION:
URL:https://preservingplaintwp.org/event/720-sidestreet-market-at-oakwood-square/
LOCATION:Oakwood Square Plaza\, 2610 Easton St NE\, Canton\, OH\, 44721\, United States
END:VEVENT
BEGIN:VEVENT
DTSTART;TZID=UTC:20240520T190000
DTEND;TZID=UTC:20240520T210000
DTSTAMP:20260423T233521
CREATED:20231116T190647Z
LAST-MODIFIED:20231118T131335Z
UID:3962-1716231600-1716238800@preservingplaintwp.org
SUMMARY:PTHS Free Monthly Meeting - Avondale One Room School and Vogelgesang Orchard - Presented by Dr. George Vogelgesang
DESCRIPTION:
URL:https://preservingplaintwp.org/event/pths-free-monthly-meeting-avondale-one-room-school-and-vogelgesang-orchard-presented-by-dr-george-vogelgesang/
LOCATION:Plain Township Hall\, 2600 Easton St NE\, Canton\, OH\, 44721\, United States
ORGANIZER;CN="Plain Township Historical Society":MAILTO:preservingplaintwp@gmail.com
END:VEVENT
END:VCALENDAR