BEGIN:VCALENDAR
VERSION:2.0
PRODID:-//Plain Township Historical Society - ECPv6.15.20//NONSGML v1.0//EN
CALSCALE:GREGORIAN
METHOD:PUBLISH
X-WR-CALNAME:Plain Township Historical Society
X-ORIGINAL-URL:https://preservingplaintwp.org
X-WR-CALDESC:Events for Plain Township Historical Society
REFRESH-INTERVAL;VALUE=DURATION:PT1H
X-Robots-Tag:noindex
X-PUBLISHED-TTL:PT1H
BEGIN:VTIMEZONE
TZID:UTC
BEGIN:STANDARD
TZOFFSETFROM:+0000
TZOFFSETTO:+0000
TZNAME:UTC
DTSTART:20180101T000000
END:STANDARD
END:VTIMEZONE
BEGIN:VEVENT
DTSTART;TZID=UTC:20190413T120000
DTEND;TZID=UTC:20190413T140000
DTSTAMP:20260425T161825
CREATED:20190307T204645Z
LAST-MODIFIED:20190307T204645Z
UID:648-1555156800-1555164000@preservingplaintwp.org
SUMMARY:Plain Township Color Me Hoppy Eggstravaganza
DESCRIPTION:
URL:https://preservingplaintwp.org/event/plain-township-color-me-hoppy-eggstravaganza/
LOCATION:Diamond Community Park\, 2782 Diamond St NE\, Canton\, OH\, 44721\, United States
END:VEVENT
BEGIN:VEVENT
DTSTART;TZID=UTC:20190413T080000
DTEND;TZID=UTC:20190413T170000
DTSTAMP:20260425T161825
CREATED:20190308T011307Z
LAST-MODIFIED:20190308T011307Z
UID:694-1555142400-1555174800@preservingplaintwp.org
SUMMARY:Louisville-Nimishillen Historical Society - Easter Egg Fun\, Hunt/Walk
DESCRIPTION:Open to children ages 1-10 years of age. Must be pre-registered to participate by calling 330-875-2829 \n1-2 yrs @10am / 3-5 yrs @10:30am/ 6-8 yrs@ 11am / 9-10 yrs @ 11:30am
URL:https://preservingplaintwp.org/event/louisville-nimishillen-historical-society-easter-egg-fun-hunt-walk/
END:VEVENT
BEGIN:VEVENT
DTSTART;TZID=UTC:20190411T190000
DTEND;TZID=UTC:20190411T203000
DTSTAMP:20260425T161825
CREATED:20190308T004411Z
LAST-MODIFIED:20190308T004411Z
UID:655-1555009200-1555014600@preservingplaintwp.org
SUMMARY:Jackson Township Historical Society Memory Lane - McDonaldsville Revisted
DESCRIPTION:
URL:https://preservingplaintwp.org/event/jackson-township-historical-society-memory-lane-mcdonaldsville-revisted/
END:VEVENT
BEGIN:VEVENT
DTSTART;TZID=UTC:20190409T190000
DTEND;TZID=UTC:20190409T200000
DTSTAMP:20260425T161825
CREATED:20190308T011531Z
LAST-MODIFIED:20190308T011531Z
UID:699-1554836400-1554840000@preservingplaintwp.org
SUMMARY:Louisville-Nimishillen Historical Society - FREE History Program- Pegasus Farm Therapeutic Equestrian Center
DESCRIPTION:Presented by: Carol Lichtenwalter \nLearn about the wonderful therapeutic advances of using animals to help children\, adults\, and veterans.
URL:https://preservingplaintwp.org/event/louisville-nimishillen-historical-society-free-history-program-pegasus-farm-therapeutic-equestrian-center/
END:VEVENT
BEGIN:VEVENT
DTSTART;TZID=UTC:20190409T180000
DTEND;TZID=UTC:20190409T200000
DTSTAMP:20260425T161825
CREATED:20190307T194717Z
LAST-MODIFIED:20190307T201756Z
UID:586-1554832800-1554840000@preservingplaintwp.org
SUMMARY:Plain Township Trustees Meeting
DESCRIPTION:
URL:https://preservingplaintwp.org/event/plain-township-trustees-meeting-6pm-3/
END:VEVENT
BEGIN:VEVENT
DTSTART;TZID=UTC:20190407T140000
DTEND;TZID=UTC:20190407T170000
DTSTAMP:20260425T161825
CREATED:20190308T005956Z
LAST-MODIFIED:20190308T005956Z
UID:680-1554645600-1554656400@preservingplaintwp.org
SUMMARY:Lake Township Historical Society - Recycled Art Show
DESCRIPTION:
URL:https://preservingplaintwp.org/event/lake-township-historical-society-recycled-art-show-4/
END:VEVENT
BEGIN:VEVENT
DTSTART;TZID=UTC:20190407T090000
DTEND;TZID=UTC:20190407T210000
DTSTAMP:20260425T161825
CREATED:20190316T201037Z
LAST-MODIFIED:20190316T201330Z
UID:785-1554627600-1554670800@preservingplaintwp.org
SUMMARY:Stark Parks Sunday Stroll (2 miles)
DESCRIPTION:
URL:https://preservingplaintwp.org/event/stark-parks-sunday-stroll/
END:VEVENT
BEGIN:VEVENT
DTSTART;TZID=UTC:20190405T180000
DTEND;TZID=UTC:20190405T210000
DTSTAMP:20260425T161825
CREATED:20190308T012237Z
LAST-MODIFIED:20190308T012237Z
UID:705-1554487200-1554498000@preservingplaintwp.org
SUMMARY:North Canton Heritage Society - Come Together: Historic Churches of North Canton Exhibit Grand Opening
DESCRIPTION:
URL:https://preservingplaintwp.org/event/north-canton-heritage-society-come-together-historic-churches-of-north-canton-exhibit-grand-opening/
END:VEVENT
BEGIN:VEVENT
DTSTART;TZID=UTC:20190404T180000
DTEND;TZID=UTC:20190404T200000
DTSTAMP:20260425T161825
CREATED:20190311T002456Z
LAST-MODIFIED:20190311T002456Z
UID:780-1554400800-1554408000@preservingplaintwp.org
SUMMARY:Malvern Historical Society - Before Moses Porter: Malvern's First Occupants - A Look at Brown Township's Native American Ties
DESCRIPTION:
URL:https://preservingplaintwp.org/event/malvern-historical-society-before-moses-porter-malverns-first-occupants-a-look-at-brown-townships-native-american-ties/
END:VEVENT
BEGIN:VEVENT
DTSTART;TZID=UTC:20190331T140000
DTEND;TZID=UTC:20190331T170000
DTSTAMP:20260425T161825
CREATED:20190308T005904Z
LAST-MODIFIED:20190308T005904Z
UID:678-1554040800-1554051600@preservingplaintwp.org
SUMMARY:Lake Township Historical Society - Recycled Art Show
DESCRIPTION:
URL:https://preservingplaintwp.org/event/lake-township-historical-society-recycled-art-show-3/
END:VEVENT
BEGIN:VEVENT
DTSTART;TZID=UTC:20190326T180000
DTEND;TZID=UTC:20190326T180000
DTSTAMP:20260425T161825
CREATED:20190307T194601Z
LAST-MODIFIED:20190307T201722Z
UID:584-1553623200-1553623200@preservingplaintwp.org
SUMMARY:Plain Township Trustees Meeting
DESCRIPTION:
URL:https://preservingplaintwp.org/event/plain-township-trustees-meeting-6pm-2/
END:VEVENT
BEGIN:VEVENT
DTSTART;TZID=UTC:20190324T140000
DTEND;TZID=UTC:20190324T170000
DTSTAMP:20260425T161825
CREATED:20190308T005736Z
LAST-MODIFIED:20190308T005736Z
UID:675-1553436000-1553446800@preservingplaintwp.org
SUMMARY:Lake Township Historical Society - Recycled Art Show
DESCRIPTION:
URL:https://preservingplaintwp.org/event/lake-township-historical-society-recycled-art-show-2/
END:VEVENT
BEGIN:VEVENT
DTSTART;TZID=UTC:20190323T150000
DTEND;TZID=UTC:20190323T190000
DTSTAMP:20260425T161825
CREATED:20190316T204429Z
LAST-MODIFIED:20190316T204429Z
UID:812-1553353200-1553367600@preservingplaintwp.org
SUMMARY:Clue at Spring Hill
DESCRIPTION:3pm and 7pm
URL:https://preservingplaintwp.org/event/clue-at-spring-hill/
END:VEVENT
BEGIN:VEVENT
DTSTART;TZID=UTC:20190323T100000
DTEND;TZID=UTC:20190323T150000
DTSTAMP:20260425T161825
CREATED:20190308T011738Z
LAST-MODIFIED:20190308T011738Z
UID:702-1553335200-1553353200@preservingplaintwp.org
SUMMARY:Louisville-Nimishillen Historical Society - LNHS Museum Grand Opening & Ribbon Cutting
DESCRIPTION:Join us for the New Museum building’s grand opening. Cake and punch will be served to celebrate this day. Bring the family and take the afternoon to view the museum artifacts and meet many of the volunteers and LNHS board members.
URL:https://preservingplaintwp.org/event/louisville-nimishillen-historical-society-lnhs-museum-grand-opening-ribbon-cutting/
END:VEVENT
BEGIN:VEVENT
DTSTART;TZID=UTC:20190321T130000
DTEND;TZID=UTC:20190321T150000
DTSTAMP:20260425T161825
CREATED:20190308T013803Z
LAST-MODIFIED:20190308T013803Z
UID:717-1553173200-1553180400@preservingplaintwp.org
SUMMARY:Stark County District Library - Plain Community Branch - Beginning Genealogy
DESCRIPTION:
URL:https://preservingplaintwp.org/event/stark-county-district-library-plain-community-branch-beginning-genealogy/
END:VEVENT
BEGIN:VEVENT
DTSTART;TZID=UTC:20190318T190000
DTEND;TZID=UTC:20190318T210000
DTSTAMP:20260425T161825
CREATED:20190117T204924Z
LAST-MODIFIED:20190307T201642Z
UID:202-1552935600-1552942800@preservingplaintwp.org
SUMMARY:A Look at Mourning Jewelry - PTHS Free Monthly Meeting
DESCRIPTION:Presenter: Susan Henry\nMourning jewelry has an interesting history especially as a keepsake of a passed loved one.  Come and explore the history and examples of this piece of history.
URL:https://preservingplaintwp.org/event/a-look-at-mourning-jewelry-pths-free-monthly-meeting/
ORGANIZER;CN="Plain Township Historical Society":MAILTO:preservingplaintwp@gmail.com
END:VEVENT
BEGIN:VEVENT
DTSTART;TZID=UTC:20190317T140000
DTEND;TZID=UTC:20190317T170000
DTSTAMP:20260425T161825
CREATED:20190308T005642Z
LAST-MODIFIED:20190308T005642Z
UID:671-1552831200-1552842000@preservingplaintwp.org
SUMMARY:Lake Township Historical Society - Recycled Art Show
DESCRIPTION:
URL:https://preservingplaintwp.org/event/lake-township-historical-society-recycled-art-show/
END:VEVENT
BEGIN:VEVENT
DTSTART;TZID=UTC:20190312T180000
DTEND;TZID=UTC:20190312T180000
DTSTAMP:20260425T161825
CREATED:20190307T194452Z
LAST-MODIFIED:20190307T201532Z
UID:581-1552413600-1552413600@preservingplaintwp.org
SUMMARY:Plain Township Trustees Meeting
DESCRIPTION:
URL:https://preservingplaintwp.org/event/plain-township-trustees-meeting-6pm/
END:VEVENT
BEGIN:VEVENT
DTSTART;TZID=UTC:20190311T160000
DTEND;TZID=UTC:20190311T190000
DTSTAMP:20260425T161825
CREATED:20190307T204014Z
LAST-MODIFIED:20190307T204014Z
UID:644-1552320000-1552330800@preservingplaintwp.org
SUMMARY:Alliance Historical Society - Fundraiser Chicken Dinner - Frank's Family Restaurant
DESCRIPTION:Your meal will include a broiled chicken breast served with potato\, vegetable\, salad\, beverage\, and dessert all for the low price of $10 per person.  Carry-outs available.
URL:https://preservingplaintwp.org/event/alliance-historical-society-fundraiser-chicken-dinner-franks-family-restaurant/
END:VEVENT
BEGIN:VEVENT
DTSTART;TZID=UTC:20190310T153000
DTEND;TZID=UTC:20190310T163000
DTSTAMP:20260425T161825
CREATED:20190308T013614Z
LAST-MODIFIED:20190308T013614Z
UID:713-1552231800-1552235400@preservingplaintwp.org
SUMMARY:Stark County District Library - Plain Community Branch - Sundays with the Symphony
DESCRIPTION:
URL:https://preservingplaintwp.org/event/stark-county-district-library-plain-community-branch-sundays-with-the-symphony/
END:VEVENT
BEGIN:VEVENT
DTSTART;VALUE=DATE:20190310
DTEND;VALUE=DATE:20190311
DTSTAMP:20260425T161825
CREATED:20190307T201309Z
LAST-MODIFIED:20190307T201309Z
UID:638-1552176000-1552262399@preservingplaintwp.org
SUMMARY:Daylight Savings Time Begins
DESCRIPTION:
URL:https://preservingplaintwp.org/event/daylight-savings-time-begins/
END:VEVENT
BEGIN:VEVENT
DTSTART;TZID=UTC:20190309T130000
DTEND;TZID=UTC:20190309T140000
DTSTAMP:20260425T161825
CREATED:20190307T191543Z
LAST-MODIFIED:20190307T191858Z
UID:569-1552136400-1552140000@preservingplaintwp.org
SUMMARY:Time Machine WHBC - Avalon and Walther's Cafe
DESCRIPTION:Listen live on WHBC 1480 or online at www.whbc.com
URL:https://preservingplaintwp.org/event/time-machine-avalon-and-walthers-cafe-whbc-1480am/
END:VEVENT
BEGIN:VEVENT
DTSTART;TZID=UTC:20190302T130000
DTEND;TZID=UTC:20190302T140000
DTSTAMP:20260425T161825
CREATED:20190117T214017Z
LAST-MODIFIED:20190117T214017Z
UID:235-1551531600-1551535200@preservingplaintwp.org
SUMMARY:Time Machine WHBC - Leaders and Legacy Families in Dentistry -  Dr Mike Thomas
DESCRIPTION:Listen live on WHBC 1480 or online at www.whbc.com
URL:https://preservingplaintwp.org/event/time-machine-whbc-leaders-and-legacy-families-in-dentistry-dr-mike-thomas/
END:VEVENT
BEGIN:VEVENT
DTSTART;TZID=UTC:20190223T130000
DTEND;TZID=UTC:20190223T140000
DTSTAMP:20260425T161825
CREATED:20190117T213900Z
LAST-MODIFIED:20190117T213900Z
UID:233-1550926800-1550930400@preservingplaintwp.org
SUMMARY:Time Machine WHBC - Leaders and Legacy Families in Dentistry -  Dr George Williams Sr\,  Dr George Williams Jr
DESCRIPTION:Listen live on WHBC 1480 or online at www.whbc.com
URL:https://preservingplaintwp.org/event/time-machine-whbc-leaders-and-legacy-families-in-dentistry-dr-george-williams-sr-dr-george-williams-jr/
END:VEVENT
BEGIN:VEVENT
DTSTART;TZID=UTC:20190218T190000
DTEND;TZID=UTC:20190218T210000
DTSTAMP:20260425T161825
CREATED:20190117T204730Z
LAST-MODIFIED:20190117T204730Z
UID:200-1550516400-1550523600@preservingplaintwp.org
SUMMARY:Time Machine Show - PTHS Free Monthly Meeting
DESCRIPTION:Presenters: Larry Hackenburg and Jennifer Tessanne\nLarry and Jennifer highlight programs from their WHBC radio show TIME MACHINE which explores the history of Stark County.  So come and join us and reflect back as we enjoy this retrospective look at the areas history.
URL:https://preservingplaintwp.org/event/time-machine-show-pths-free-monthly-meeting/
END:VEVENT
BEGIN:VEVENT
DTSTART;TZID=UTC:20190216T130000
DTEND;TZID=UTC:20190216T140000
DTSTAMP:20260425T161825
CREATED:20190117T213752Z
LAST-MODIFIED:20190117T213752Z
UID:231-1550322000-1550325600@preservingplaintwp.org
SUMMARY:Time Machine WHBC - Leaders and Legacy Families in Dentistry -  Dr Tom Paumier
DESCRIPTION:Listen on WHBC 1480 or online at www.whbc.com
URL:https://preservingplaintwp.org/event/time-machine-whbc-leaders-and-legacy-families-in-dentistry-dr-tom-paumier/
END:VEVENT
BEGIN:VEVENT
DTSTART;TZID=UTC:20190209T130000
DTEND;TZID=UTC:20190209T140000
DTSTAMP:20260425T161825
CREATED:20190117T213632Z
LAST-MODIFIED:20190117T213632Z
UID:229-1549717200-1549720800@preservingplaintwp.org
SUMMARY:Time Machine WHBC - Leaders and Legacy Families in Dentistry -  Dr William Leffler\, Dr David Pavlick
DESCRIPTION:Listen in on WHBC or online at www.whbc.com
URL:https://preservingplaintwp.org/event/time-machine-whbc-leaders-and-legacy-families-in-dentistry-dr-william-leffler-dr-david-pavlick/
END:VEVENT
BEGIN:VEVENT
DTSTART;TZID=UTC:20190202T130000
DTEND;TZID=UTC:20190202T140000
DTSTAMP:20260425T161825
CREATED:20190117T213511Z
LAST-MODIFIED:20190117T213511Z
UID:227-1549112400-1549116000@preservingplaintwp.org
SUMMARY:Time Machine WHBC - Leaders and Legacy Families in Dentistry -  Dr David Ash\, Drs Jon and Doreen Ash\,  Dr Brian Ash
DESCRIPTION:Listen in on WHBC or online at www.whbc.com
URL:https://preservingplaintwp.org/event/time-machine-whbc-leaders-and-legacy-families-in-dentistry-dr-david-ash-drs-jon-and-doreen-ash-dr-brian-ash/
END:VEVENT
BEGIN:VEVENT
DTSTART;TZID=UTC:20190126T130000
DTEND;TZID=UTC:20190126T140000
DTSTAMP:20260425T161825
CREATED:20190117T213359Z
LAST-MODIFIED:20190117T213359Z
UID:225-1548507600-1548511200@preservingplaintwp.org
SUMMARY:Time Machine WHBC - Stark County Fights Cavities - A Look at Fluoridation and Television
DESCRIPTION:Listen in on WHBC 1480 or online at www.whbc.com.
URL:https://preservingplaintwp.org/event/time-machine-whbc-stark-county-fights-cavities-a-look-at-fluoridation-and-television/
END:VEVENT
BEGIN:VEVENT
DTSTART;TZID=UTC:20190121T190000
DTEND;TZID=UTC:20190121T210000
DTSTAMP:20260425T161825
CREATED:20190117T204222Z
LAST-MODIFIED:20190120T201858Z
UID:195-1548097200-1548104400@preservingplaintwp.org
SUMMARY:CANCELLED DUE TO WEATHER - How a quilt made use of the PTHS's archives - PTHS Free Monthly Meeting
DESCRIPTION:Presentor: Judy Pocock\nExplore how the PTHS’s archives can help you in your search.  Whether you are searching land records\, genealogy\, school information\, or other historical related topics\, find out how PTHS can assist.  Also\, find out how you can support the continued growth of the archives through sharing of family stories\, photos and other historical information.
URL:https://preservingplaintwp.org/event/how-a-quilt-made-use-of-the-pthss-archives/
LOCATION:Plain Township Hall\, 2600 Easton St NE\, Canton\, OH\, 44721\, United States
END:VEVENT
END:VCALENDAR