BEGIN:VCALENDAR
VERSION:2.0
PRODID:-//Plain Township Historical Society - ECPv6.15.20//NONSGML v1.0//EN
CALSCALE:GREGORIAN
METHOD:PUBLISH
X-WR-CALNAME:Plain Township Historical Society
X-ORIGINAL-URL:https://preservingplaintwp.org
X-WR-CALDESC:Events for Plain Township Historical Society
REFRESH-INTERVAL;VALUE=DURATION:PT1H
X-Robots-Tag:noindex
X-PUBLISHED-TTL:PT1H
BEGIN:VTIMEZONE
TZID:UTC
BEGIN:STANDARD
TZOFFSETFROM:+0000
TZOFFSETTO:+0000
TZNAME:UTC
DTSTART:20200101T000000
END:STANDARD
END:VTIMEZONE
BEGIN:VEVENT
DTSTART;TZID=UTC:20230320T190000
DTEND;TZID=UTC:20230320T210000
DTSTAMP:20260425T123446
CREATED:20230106T142054Z
LAST-MODIFIED:20230125T215709Z
UID:2981-1679338800-1679346000@preservingplaintwp.org
SUMMARY:PTHS Free Monthly Meeting - “A Labor of Love – the Jessie Borroway Story” – Presenter Mark Holland
DESCRIPTION:
URL:https://preservingplaintwp.org/event/pths-free-monthly-meeting-a-labor-of-love-the-jessie-borroway-story-presenter-mark-holland/
LOCATION:Plain Township Hall\, 2600 Easton St NE\, Canton\, OH\, 44721\, United States
ORGANIZER;CN="Plain Township Historical Society":MAILTO:preservingplaintwp@gmail.com
END:VEVENT
BEGIN:VEVENT
DTSTART;TZID=UTC:20230315T160000
DTEND;TZID=UTC:20230315T200000
DTSTAMP:20260425T123446
CREATED:20230106T144230Z
LAST-MODIFIED:20230313T144052Z
UID:3002-1678896000-1678910400@preservingplaintwp.org
SUMMARY:PTHS 9th Annual McDonald's Quarterly Fundraiser
DESCRIPTION:
URL:https://preservingplaintwp.org/event/pths-mcdonalds-quarterly-fundraiser/
LOCATION:McDonald’s\, 6302 Market Ave N\, Canton\, OH\, 44721\, United States
ORGANIZER;CN="Plain Township Historical Society":MAILTO:preservingplaintwp@gmail.com
END:VEVENT
BEGIN:VEVENT
DTSTART;TZID=UTC:20230220T190000
DTEND;TZID=UTC:20230220T210000
DTSTAMP:20260425T123446
CREATED:20230106T141957Z
LAST-MODIFIED:20230125T215635Z
UID:2979-1676919600-1676926800@preservingplaintwp.org
SUMMARY:PTHS Free Monthly Meeting - "How You Remember Historic Events” (group discussion) – Presenter Judith Pocock
DESCRIPTION:
URL:https://preservingplaintwp.org/event/pths-free-monthly-meeting-how-you-remember-historic-events-group-discussion-presenter-judith-pocock/
LOCATION:Plain Township Hall\, 2600 Easton St NE\, Canton\, OH\, 44721\, United States
ORGANIZER;CN="Plain Township Historical Society":MAILTO:preservingplaintwp@gmail.com
END:VEVENT
BEGIN:VEVENT
DTSTART;TZID=UTC:20230116T190000
DTEND;TZID=UTC:20230116T210000
DTSTAMP:20260425T123446
CREATED:20230106T141756Z
LAST-MODIFIED:20230106T143016Z
UID:2977-1673895600-1673902800@preservingplaintwp.org
SUMMARY:PTHS Free Monthly Meeting - No Meeting Scheduled
DESCRIPTION:
URL:https://preservingplaintwp.org/event/pths-free-monthly-meeting-no-meeting-scheduled/
LOCATION:Plain Township Hall\, 2600 Easton St NE\, Canton\, OH\, 44721\, United States
ORGANIZER;CN="Plain Township Historical Society":MAILTO:preservingplaintwp@gmail.com
END:VEVENT
BEGIN:VEVENT
DTSTART;TZID=UTC:20221221T160000
DTEND;TZID=UTC:20221221T200000
DTSTAMP:20260425T123446
CREATED:20221018T204840Z
LAST-MODIFIED:20221018T210030Z
UID:2945-1671638400-1671652800@preservingplaintwp.org
SUMMARY:PTHS 8th Annual McDonald's Fundraiser Part 4
DESCRIPTION:
URL:https://preservingplaintwp.org/event/pths-8th-annual-mcdonalds-fundraiser-part-4/
LOCATION:McDonald’s\, 6302 Market Ave N\, Canton\, OH\, 44721\, United States
ORGANIZER;CN="Plain Township Historical Society":MAILTO:preservingplaintwp@gmail.com
END:VEVENT
BEGIN:VEVENT
DTSTART;TZID=UTC:20221219T190000
DTEND;TZID=UTC:20221219T210000
DTSTAMP:20260425T123446
CREATED:20220203T030951Z
LAST-MODIFIED:20221018T210147Z
UID:2234-1671476400-1671483600@preservingplaintwp.org
SUMMARY:PTHS Free Monthly Meeting - NO Meeting
DESCRIPTION:
URL:https://preservingplaintwp.org/event/pths-free-monthly-meeting-no-meeting/
LOCATION:OH
ORGANIZER;CN="Plain Township Historical Society":MAILTO:preservingplaintwp@gmail.com
END:VEVENT
BEGIN:VEVENT
DTSTART;TZID=UTC:20221121T190000
DTEND;TZID=UTC:20221121T210000
DTSTAMP:20260425T123446
CREATED:20220203T030859Z
LAST-MODIFIED:20221018T210225Z
UID:2232-1669057200-1669064400@preservingplaintwp.org
SUMMARY:PTHS Free Monthly Meeting - After the Battle – Veterans Come Home - Presented by Judy Pocock
DESCRIPTION:
URL:https://preservingplaintwp.org/event/pths-free-monthly-meeting-topic-to-be-announced-8/
LOCATION:Plain Township Hall\, 2600 Easton St NE\, Canton\, OH\, 44721\, United States
ORGANIZER;CN="Plain Township Historical Society":MAILTO:preservingplaintwp@gmail.com
END:VEVENT
BEGIN:VEVENT
DTSTART;TZID=UTC:20221017T190000
DTEND;TZID=UTC:20221017T210000
DTSTAMP:20260425T123446
CREATED:20220203T030817Z
LAST-MODIFIED:20220828T220944Z
UID:2230-1666033200-1666040400@preservingplaintwp.org
SUMMARY:PTHS Free Monthly Meeting - The 70s and the Kitchen Small Appliances Featuring Hoover Small Appliances - Presented by Cynthia Guest
DESCRIPTION:
URL:https://preservingplaintwp.org/event/pths-free-monthly-meeting-topic-to-be-announced-7/
LOCATION:Plain Township Hall\, 2600 Easton St NE\, Canton\, OH\, 44721\, United States
ORGANIZER;CN="Plain Township Historical Society":MAILTO:preservingplaintwp@gmail.com
END:VEVENT
BEGIN:VEVENT
DTSTART;TZID=UTC:20220921T160000
DTEND;TZID=UTC:20220921T200000
DTSTAMP:20260425T123446
CREATED:20220802T012837Z
LAST-MODIFIED:20220802T013118Z
UID:2872-1663776000-1663790400@preservingplaintwp.org
SUMMARY:PTHS 8th Annual McDonalds Fundraiser Part 3
DESCRIPTION:
URL:https://preservingplaintwp.org/event/pths-8th-annual-mcdonalds-fundraiser-part-3/
LOCATION:McDonald’s\, 6302 Market Ave N\, Canton\, OH\, 44721\, United States
ORGANIZER;CN="Plain Township Historical Society":MAILTO:preservingplaintwp@gmail.com
END:VEVENT
BEGIN:VEVENT
DTSTART;TZID=UTC:20220919T190000
DTEND;TZID=UTC:20220919T210000
DTSTAMP:20260425T123446
CREATED:20220203T030733Z
LAST-MODIFIED:20220607T020609Z
UID:2228-1663614000-1663621200@preservingplaintwp.org
SUMMARY:PTHS Free Monthly Meeting - Last Revolutionary War Action in Ohio - Presented by Tom Grove\, PHD
DESCRIPTION:
URL:https://preservingplaintwp.org/event/pths-free-monthly-meeting-topic-to-be-announced-6/
LOCATION:Plain Township Hall\, 2600 Easton St NE\, Canton\, OH\, 44721\, United States
ORGANIZER;CN="Plain Township Historical Society":MAILTO:preservingplaintwp@gmail.com
END:VEVENT
BEGIN:VEVENT
DTSTART;TZID=UTC:20220918T130000
DTEND;TZID=UTC:20220918T160000
DTSTAMP:20260425T123446
CREATED:20220829T020244Z
LAST-MODIFIED:20220829T020244Z
UID:2916-1663506000-1663516800@preservingplaintwp.org
SUMMARY:Paws in the Park - Veterans Park - Presented by Plain Township
DESCRIPTION:
URL:https://preservingplaintwp.org/event/paws-in-the-park-veterans-park-presented-by-plain-township/
LOCATION:Veterans Park\, 1714 Schneider St NE\, Canton\, OH\, 44721\, United States
END:VEVENT
BEGIN:VEVENT
DTSTART;TZID=UTC:20220910T100000
DTEND;TZID=UTC:20220910T150000
DTSTAMP:20260425T123446
CREATED:20220606T174216Z
LAST-MODIFIED:20220906T233559Z
UID:2729-1662804000-1662822000@preservingplaintwp.org
SUMMARY:720 Side Street Mkts Oakwood Square
DESCRIPTION:
URL:https://preservingplaintwp.org/event/720-side-street-mkts-oakwood-square-2/
LOCATION:Oakwood Square\, 2610 Easton St NE\, Canton\, OH\, 44721\, United States
END:VEVENT
BEGIN:VEVENT
DTSTART;TZID=UTC:20220910T090000
DTEND;TZID=UTC:20220910T150000
DTSTAMP:20260425T123446
CREATED:20220802T030029Z
LAST-MODIFIED:20220802T030029Z
UID:2880-1662800400-1662822000@preservingplaintwp.org
SUMMARY:Plain Township Fire Department Kickin Out Kickball Event Fire vs Police
DESCRIPTION:
URL:https://preservingplaintwp.org/event/plain-township-fire-department-kickin-out-kickball-event-fire-vs-police/
LOCATION:Diamond Community Park\, 2782 Diamond St NE\, Canton\, OH\, 44721\, United States
END:VEVENT
BEGIN:VEVENT
DTSTART;TZID=UTC:20220815T190000
DTEND;TZID=UTC:20220815T210000
DTSTAMP:20260425T123446
CREATED:20220203T030636Z
LAST-MODIFIED:20220607T020546Z
UID:2226-1660590000-1660597200@preservingplaintwp.org
SUMMARY:PTHS Free Monthly Meeting - Liberty Enlightening the World - Presented by M. J. Albacete
DESCRIPTION:
URL:https://preservingplaintwp.org/event/pths-free-monthly-meeting-topic-to-be-announced-5/
LOCATION:Plain Township Hall\, 2600 Easton St NE\, Canton\, OH\, 44721\, United States
ORGANIZER;CN="Plain Township Historical Society":MAILTO:preservingplaintwp@gmail.com
END:VEVENT
BEGIN:VEVENT
DTSTART;TZID=UTC:20220718T190000
DTEND;TZID=UTC:20220718T210000
DTSTAMP:20260425T123446
CREATED:20220203T030541Z
LAST-MODIFIED:20220715T001514Z
UID:2224-1658170800-1658178000@preservingplaintwp.org
SUMMARY:PTHS Free Monthly Meeting - Hol-Guern's Dairy Including Milk and Honey - Presented by Cindy Guest
DESCRIPTION:
URL:https://preservingplaintwp.org/event/pths-free-monthly-meeting-topic-to-be-announced-4/
LOCATION:Central Fire Station\, 1742 Schneider St NE\, Canton\, 44721\, United States
ORGANIZER;CN="Plain Township Historical Society":MAILTO:preservingplaintwp@gmail.com
END:VEVENT
BEGIN:VEVENT
DTSTART;TZID=UTC:20220709T100000
DTEND;TZID=UTC:20220709T150000
DTSTAMP:20260425T123446
CREATED:20220606T174028Z
LAST-MODIFIED:20220606T174127Z
UID:2726-1657360800-1657378800@preservingplaintwp.org
SUMMARY:720 Side Street Mkts - Oakwood Square
DESCRIPTION:
URL:https://preservingplaintwp.org/event/720-side-street-mkts-oakwood-square/
LOCATION:Oakwood Square\, 2610 Easton St NE\, Canton\, OH\, 44721\, United States
END:VEVENT
BEGIN:VEVENT
DTSTART;TZID=UTC:20220620T170000
DTEND;TZID=UTC:20220620T200000
DTSTAMP:20260425T123446
CREATED:20220203T030436Z
LAST-MODIFIED:20220409T010310Z
UID:2222-1655744400-1655755200@preservingplaintwp.org
SUMMARY:PTHS Free Monthly Meeting - Annual Covered Dish Picnic
DESCRIPTION:
URL:https://preservingplaintwp.org/event/pths-free-monthly-meeting-annual-potluck-picnic/
LOCATION:Veterans Park\, 1714 Schneider St NE\, Canton\, OH\, 44721\, United States
ORGANIZER;CN="Plain Township Historical Society":MAILTO:preservingplaintwp@gmail.com
END:VEVENT
BEGIN:VEVENT
DTSTART;TZID=UTC:20220615T160000
DTEND;TZID=UTC:20220615T200000
DTSTAMP:20260425T123446
CREATED:20220320T030658Z
LAST-MODIFIED:20220420T190111Z
UID:2471-1655308800-1655323200@preservingplaintwp.org
SUMMARY:McDonalds Fundraiser - Part 2
DESCRIPTION:
URL:https://preservingplaintwp.org/event/mcdonalds-fundraiser-part-2-2/
LOCATION:McDonald’s\, 6302 Market Ave N\, Canton\, OH\, 44721\, United States
ORGANIZER;CN="Plain Township Historical Society":MAILTO:preservingplaintwp@gmail.com
END:VEVENT
BEGIN:VEVENT
DTSTART;TZID=UTC:20220516T190000
DTEND;TZID=UTC:20220516T210000
DTSTAMP:20260425T123446
CREATED:20220203T030324Z
LAST-MODIFIED:20220409T213658Z
UID:2220-1652727600-1652734800@preservingplaintwp.org
SUMMARY:PTHS Free Monthly Meeting - German Speaking Era in Stark County - Presented by Richard Haldi
DESCRIPTION:
URL:https://preservingplaintwp.org/event/pths-free-monthly-meeting-topic-to-be-announced-3/
LOCATION:Plain Township Hall\, 2600 Easton St NE\, Canton\, OH\, 44721\, United States
ORGANIZER;CN="Plain Township Historical Society":MAILTO:preservingplaintwp@gmail.com
END:VEVENT
BEGIN:VEVENT
DTSTART;TZID=UTC:20220418T190000
DTEND;TZID=UTC:20220418T210000
DTSTAMP:20260425T123446
CREATED:20220203T030213Z
LAST-MODIFIED:20220409T010153Z
UID:2218-1650308400-1650315600@preservingplaintwp.org
SUMMARY:PTHS Free Monthly Meeting - Fernando Q. Loutzenheiser - Canton Hypnotist - Present by Sue Henry
DESCRIPTION:
URL:https://preservingplaintwp.org/event/pths-free-monthly-meeting-topic-to-be-announced-2/
LOCATION:Plain Township Hall\, 2600 Easton St NE\, Canton\, OH\, 44721\, United States
ORGANIZER;CN="Plain Township Historical Society":MAILTO:preservingplaintwp@gmail.com
END:VEVENT
BEGIN:VEVENT
DTSTART;TZID=UTC:20220321T190000
DTEND;TZID=UTC:20220321T210000
DTSTAMP:20260425T123446
CREATED:20220203T153537Z
LAST-MODIFIED:20220203T153832Z
UID:2301-1647889200-1647896400@preservingplaintwp.org
SUMMARY:PTHS Free Monthly Meeting - Inverted Intersections III\, The Nickle Tour Continues - Presented by Mark Holland
DESCRIPTION:
URL:https://preservingplaintwp.org/event/pths-free-monthly-meeting-inverted-intersections-iii-the-nickle-tour-continues-presented-by-mark-holland/
LOCATION:Plain Township Hall\, 2600 Easton St NE\, Canton\, OH\, 44721\, United States
ORGANIZER;CN="Plain Township Historical Society":MAILTO:preservingplaintwp@gmail.com
END:VEVENT
BEGIN:VEVENT
DTSTART;TZID=UTC:20220317T160000
DTEND;TZID=UTC:20220317T200000
DTSTAMP:20260425T123446
CREATED:20220203T030102Z
LAST-MODIFIED:20220203T163912Z
UID:2216-1647532800-1647547200@preservingplaintwp.org
SUMMARY:McDonald's Fundraiser - Part 1
DESCRIPTION:
URL:https://preservingplaintwp.org/event/mcdonalds-fundraiser-part-1/
LOCATION:McDonald’s\, 6302 Market Ave N\, Canton\, OH\, 44721\, United States
ORGANIZER;CN="Plain Township Historical Society":MAILTO:preservingplaintwp@gmail.com
END:VEVENT
BEGIN:VEVENT
DTSTART;TZID=UTC:20220221T190000
DTEND;TZID=UTC:20220221T210000
DTSTAMP:20260425T123446
CREATED:20220111T024520Z
LAST-MODIFIED:20220203T153017Z
UID:2178-1645470000-1645477200@preservingplaintwp.org
SUMMARY:PTHS Free Monthly Meeting - My Kids Don't Want This Stuff - Judy Pocock
DESCRIPTION:
URL:https://preservingplaintwp.org/event/pths-free-monthly-meeting-my-kids-dont-want-this-stuff-judy-pocock/
LOCATION:Plain Township Hall\, 2600 Easton St NE\, Canton\, OH\, 44721\, United States
ORGANIZER;CN="Plain Township Historical Society":MAILTO:preservingplaintwp@gmail.com
END:VEVENT
BEGIN:VEVENT
DTSTART;TZID=UTC:20220117T190000
DTEND;TZID=UTC:20220117T210000
DTSTAMP:20260425T123446
CREATED:20220111T023334Z
LAST-MODIFIED:20220111T024245Z
UID:2176-1642446000-1642453200@preservingplaintwp.org
SUMMARY:PTHS Free Monthly Meeting - NO January Meeting
DESCRIPTION:
URL:https://preservingplaintwp.org/event/pths-free-monthly-meeting-no-january-meeting/
LOCATION:OH
ORGANIZER;CN="Plain Township Historical Society":MAILTO:preservingplaintwp@gmail.com
END:VEVENT
BEGIN:VEVENT
DTSTART;TZID=UTC:20211221T190000
DTEND;TZID=UTC:20211221T210000
DTSTAMP:20260425T123446
CREATED:20210719T121155Z
LAST-MODIFIED:20210719T121155Z
UID:2024-1640113200-1640120400@preservingplaintwp.org
SUMMARY:PTHS - No Membership Meeting in December
DESCRIPTION:
URL:https://preservingplaintwp.org/event/pths-no-membership-meeting-in-december/
LOCATION:OH
ORGANIZER;CN="Plain Township Historical Society":MAILTO:preservingplaintwp@gmail.com
END:VEVENT
BEGIN:VEVENT
DTSTART;TZID=UTC:20211215T160000
DTEND;TZID=UTC:20211215T200000
DTSTAMP:20260425T123446
CREATED:20211003T153741Z
LAST-MODIFIED:20211003T153741Z
UID:2103-1639584000-1639598400@preservingplaintwp.org
SUMMARY:McDonald's Fundraiser - Part 4
DESCRIPTION:
URL:https://preservingplaintwp.org/event/mcdonalds-fundraiser-part-4/
LOCATION:McDonald’s\, 6302 Market Ave N\, Canton\, OH\, 44721\, United States
ORGANIZER;CN="Plain Township Historical Society":MAILTO:preservingplaintwp@gmail.com
END:VEVENT
BEGIN:VEVENT
DTSTART;TZID=UTC:20211115T190000
DTEND;TZID=UTC:20211115T210000
DTSTAMP:20260425T123446
CREATED:20210909T143001Z
LAST-MODIFIED:20210913T222222Z
UID:2082-1637002800-1637010000@preservingplaintwp.org
SUMMARY:PTHS Free Monthly Meeting - Cruising the Drive-In Restaurant's on Cleveland Ave NW - Presented by Cindy Guest
DESCRIPTION:
URL:https://preservingplaintwp.org/event/pths-free-monthly-meeting-cruising-the-drive-in-restaurants-on-cleveland-ave-nw-presented-by-cindy-guest/
LOCATION:OH
ORGANIZER;CN="Plain Township Historical Society":MAILTO:preservingplaintwp@gmail.com
END:VEVENT
BEGIN:VEVENT
DTSTART;TZID=UTC:20211018T190000
DTEND;TZID=UTC:20211018T210000
DTSTAMP:20260425T123446
CREATED:20210719T121030Z
LAST-MODIFIED:20210719T121030Z
UID:2022-1634583600-1634590800@preservingplaintwp.org
SUMMARY:PTHS Free Monthly Meeting - Little Chicago - Presented by Richard Haldi
DESCRIPTION:
URL:https://preservingplaintwp.org/event/pths-free-monthly-meeting-little-chicago-presented-by-richard-haldi/
LOCATION:OH
ORGANIZER;CN="Plain Township Historical Society":MAILTO:preservingplaintwp@gmail.com
END:VEVENT
BEGIN:VEVENT
DTSTART;TZID=UTC:20210920T190000
DTEND;TZID=UTC:20210920T210000
DTSTAMP:20260425T123446
CREATED:20210719T120827Z
LAST-MODIFIED:20210719T120827Z
UID:2020-1632164400-1632171600@preservingplaintwp.org
SUMMARY:PTHS Free Monthly Meeting - Times A Tickin' - Presented by Gail Cousino The Clock Doctor
DESCRIPTION:
URL:https://preservingplaintwp.org/event/pths-free-monthly-meeting-times-a-tickin-presented-by-gail-cousino-the-clock-doctor/
LOCATION:OH
ORGANIZER;CN="Plain Township Historical Society":MAILTO:preservingplaintwp@gmail.com
END:VEVENT
BEGIN:VEVENT
DTSTART;TZID=UTC:20210818T160000
DTEND;TZID=UTC:20210818T190000
DTSTAMP:20260425T123446
CREATED:20210719T115754Z
LAST-MODIFIED:20210719T120416Z
UID:2010-1629302400-1629313200@preservingplaintwp.org
SUMMARY:McDonald's Fundraiser - Part 3
DESCRIPTION:
URL:https://preservingplaintwp.org/event/mcdonalds-fundraiser-part-3/
LOCATION:McDonald’s\, 6302 Market Ave N\, Canton\, OH\, 44721\, United States
ORGANIZER;CN="Plain Township Historical Society":MAILTO:preservingplaintwp@gmail.com
END:VEVENT
END:VCALENDAR