BEGIN:VCALENDAR
VERSION:2.0
PRODID:-//Plain Township Historical Society - ECPv6.15.20//NONSGML v1.0//EN
CALSCALE:GREGORIAN
METHOD:PUBLISH
X-WR-CALNAME:Plain Township Historical Society
X-ORIGINAL-URL:https://preservingplaintwp.org
X-WR-CALDESC:Events for Plain Township Historical Society
REFRESH-INTERVAL;VALUE=DURATION:PT1H
X-Robots-Tag:noindex
X-PUBLISHED-TTL:PT1H
BEGIN:VTIMEZONE
TZID:UTC
BEGIN:STANDARD
TZOFFSETFROM:+0000
TZOFFSETTO:+0000
TZNAME:UTC
DTSTART:20220101T000000
END:STANDARD
END:VTIMEZONE
BEGIN:VEVENT
DTSTART;TZID=UTC:20240617T190000
DTEND;TZID=UTC:20240617T210000
DTSTAMP:20260423T232710
CREATED:20231116T190954Z
LAST-MODIFIED:20240429T130642Z
UID:3964-1718650800-1718658000@preservingplaintwp.org
SUMMARY:PTHS Free Monthly Meeting - Annual Covered Dish Picnic - New Location This Year Al Leno Park
DESCRIPTION:
URL:https://preservingplaintwp.org/event/pths-free-monthly-meeting-annual-covered-dish-picnic-new-location-this-year-al-leno-park/
LOCATION:Al Leno Park\, 3059 Alpine Street\, Canton\, 44721\, United States
ORGANIZER;CN="Plain Township Historical Society":MAILTO:preservingplaintwp@gmail.com
END:VEVENT
BEGIN:VEVENT
DTSTART;TZID=UTC:20240608T100000
DTEND;TZID=UTC:20240608T150000
DTSTAMP:20260423T232710
CREATED:20240303T195728Z
LAST-MODIFIED:20240605T180846Z
UID:4147-1717840800-1717858800@preservingplaintwp.org
SUMMARY:720 Sidestreet Market at Oakwood Square
DESCRIPTION:
URL:https://preservingplaintwp.org/event/720-sidestreet-market-at-oakwood-square/
LOCATION:Oakwood Square Plaza\, 2610 Easton St NE\, Canton\, OH\, 44721\, United States
END:VEVENT
BEGIN:VEVENT
DTSTART;TZID=UTC:20240520T190000
DTEND;TZID=UTC:20240520T210000
DTSTAMP:20260423T232710
CREATED:20231116T190647Z
LAST-MODIFIED:20231118T131335Z
UID:3962-1716231600-1716238800@preservingplaintwp.org
SUMMARY:PTHS Free Monthly Meeting - Avondale One Room School and Vogelgesang Orchard - Presented by Dr. George Vogelgesang
DESCRIPTION:
URL:https://preservingplaintwp.org/event/pths-free-monthly-meeting-avondale-one-room-school-and-vogelgesang-orchard-presented-by-dr-george-vogelgesang/
LOCATION:Plain Township Hall\, 2600 Easton St NE\, Canton\, OH\, 44721\, United States
ORGANIZER;CN="Plain Township Historical Society":MAILTO:preservingplaintwp@gmail.com
END:VEVENT
BEGIN:VEVENT
DTSTART;TZID=UTC:20240504T110000
DTEND;TZID=UTC:20240504T150000
DTSTAMP:20260423T232710
CREATED:20240222T151244Z
LAST-MODIFIED:20240329T030517Z
UID:4138-1714820400-1714834800@preservingplaintwp.org
SUMMARY:Massillon Museum Genealogy Fair
DESCRIPTION:
URL:https://preservingplaintwp.org/event/massillon-museum-genealogy-fair/
LOCATION:Massillon Museum\, 121 Lincoln Way E\, Massillon\, OH\, 44646\, United States
END:VEVENT
BEGIN:VEVENT
DTSTART;TZID=UTC:20240415T190000
DTEND;TZID=UTC:20240415T210000
DTSTAMP:20260423T232710
CREATED:20231116T190538Z
LAST-MODIFIED:20231208T020144Z
UID:3960-1713207600-1713214800@preservingplaintwp.org
SUMMARY:PTHS Free Monthly Meeting - Woman Suffrage - Presented by Dr. Jamie Capuzza
DESCRIPTION:
URL:https://preservingplaintwp.org/event/pths-free-monthly-meeting-woman-suffrage-presented-by-dr-jamie-capuzzi/
LOCATION:Plain Township Hall\, 2600 Easton St NE\, Canton\, OH\, 44721\, United States
ORGANIZER;CN="Plain Township Historical Society":MAILTO:preservingplaintwp@gmail.com
END:VEVENT
BEGIN:VEVENT
DTSTART;TZID=UTC:20240320T160000
DTEND;TZID=UTC:20240320T200000
DTSTAMP:20260423T232710
CREATED:20240209T151326Z
LAST-MODIFIED:20240209T152607Z
UID:4119-1710950400-1710964800@preservingplaintwp.org
SUMMARY:PTHS 10th Annual McDonald's Quarterly Fundraiser
DESCRIPTION:
URL:https://preservingplaintwp.org/event/pths-10th-annual-mcdonalds-quarterly-fundraiser/
LOCATION:McDonald’s\, 6302 Market Ave N\, Canton\, OH\, 44721\, United States
ORGANIZER;CN="Plain Township Historical Society":MAILTO:preservingplaintwp@gmail.com
END:VEVENT
BEGIN:VEVENT
DTSTART;TZID=UTC:20240318T190000
DTEND;TZID=UTC:20240318T210000
DTSTAMP:20260423T232710
CREATED:20231116T190439Z
LAST-MODIFIED:20240309T015042Z
UID:3958-1710788400-1710795600@preservingplaintwp.org
SUMMARY:PTHS Free Monthly Meeting - Fire Safety in the Home - Presented by Plain Twp Fire Dept
DESCRIPTION:
URL:https://preservingplaintwp.org/event/pths-free-monthly-meeting-fire-safety-in-the-home-presented-by-plain-twp-fire-dept/
LOCATION:Central Fire Station\, 1742 Schneider St NE\, Canton\, 44721\, United States
ORGANIZER;CN="Plain Township Historical Society":MAILTO:preservingplaintwp@gmail.com
END:VEVENT
BEGIN:VEVENT
DTSTART;TZID=UTC:20240219T190000
DTEND;TZID=UTC:20240219T210000
DTSTAMP:20260423T232710
CREATED:20231116T190325Z
LAST-MODIFIED:20231118T130341Z
UID:3956-1708369200-1708376400@preservingplaintwp.org
SUMMARY:PTHS Free Monthly Meeting - History of the Plain Township Historical Society - Presented by Judith Pocock
DESCRIPTION:
URL:https://preservingplaintwp.org/event/pths-free-monthly-meeting-history-of-the-plain-township-historical-society-presented-by-judith-pocock/
LOCATION:Plain Township Hall\, 2600 Easton St NE\, Canton\, OH\, 44721\, United States
ORGANIZER;CN="Plain Township Historical Society":MAILTO:preservingplaintwp@gmail.com
END:VEVENT
BEGIN:VEVENT
DTSTART;TZID=UTC:20240115T190000
DTEND;TZID=UTC:20240115T210000
DTSTAMP:20260423T232710
CREATED:20231116T190127Z
LAST-MODIFIED:20231116T193437Z
UID:3954-1705345200-1705352400@preservingplaintwp.org
SUMMARY:PTHS Free Monthly Meeting - No Meeting Scheduled
DESCRIPTION:
URL:https://preservingplaintwp.org/event/pths-free-monthly-meeting-no-meeting-scheduled-3/
LOCATION:Plain Township Hall\, 2600 Easton St NE\, Canton\, OH\, 44721\, United States
ORGANIZER;CN="Plain Township Historical Society":MAILTO:preservingplaintwp@gmail.com
END:VEVENT
BEGIN:VEVENT
DTSTART;TZID=UTC:20231220T160000
DTEND;TZID=UTC:20231220T200000
DTSTAMP:20260423T232710
CREATED:20230701T023154Z
LAST-MODIFIED:20231020T020230Z
UID:3283-1703088000-1703102400@preservingplaintwp.org
SUMMARY:PTHS 9th Annual McDonald's Quarterly Fundraiser
DESCRIPTION:
URL:https://preservingplaintwp.org/event/pths-9th-annual-mcdonalds-quarterly-fundraiser-2/
LOCATION:McDonald’s\, 6302 Market Ave N\, Canton\, OH\, 44721\, United States
ORGANIZER;CN="Plain Township Historical Society":MAILTO:preservingplaintwp@gmail.com
END:VEVENT
BEGIN:VEVENT
DTSTART;TZID=UTC:20231218T190000
DTEND;TZID=UTC:20231218T210000
DTSTAMP:20260423T232710
CREATED:20230106T142937Z
LAST-MODIFIED:20230125T215559Z
UID:2999-1702926000-1702933200@preservingplaintwp.org
SUMMARY:PTHS Free Monthly Meeting - No Meeting Scheduled
DESCRIPTION:
URL:https://preservingplaintwp.org/event/pths-free-monthly-meeting-no-meeting-scheduled-2/
LOCATION:Plain Township Hall\, 2600 Easton St NE\, Canton\, OH\, 44721\, United States
ORGANIZER;CN="Plain Township Historical Society":MAILTO:preservingplaintwp@gmail.com
END:VEVENT
BEGIN:VEVENT
DTSTART;TZID=UTC:20231216T120000
DTEND;TZID=UTC:20231216T130000
DTSTAMP:20260423T232710
CREATED:20231020T015146Z
LAST-MODIFIED:20231020T015146Z
UID:3899-1702728000-1702731600@preservingplaintwp.org
SUMMARY:Wreaths Across America - Henry Warstler Cemetery
DESCRIPTION:
URL:https://preservingplaintwp.org/event/wreaths-across-america-henry-warstler-cemetery/
LOCATION:Henry Warstler Cemetery\, 2633 55th St NE\, Canton\, OH\, 44721\, United States
END:VEVENT
BEGIN:VEVENT
DTSTART;TZID=UTC:20231120T190000
DTEND;TZID=UTC:20231120T210000
DTSTAMP:20260423T232710
CREATED:20230106T142857Z
LAST-MODIFIED:20231020T021137Z
UID:2997-1700506800-1700514000@preservingplaintwp.org
SUMMARY:PTHS Free Monthly Meeting - Andrew Meyer Family - Present by Dan McDivett
DESCRIPTION:
URL:https://preservingplaintwp.org/event/pths-free-monthly-meeting-to-be-announced-5/
LOCATION:Plain Township Hall\, 2600 Easton St NE\, Canton\, OH\, 44721\, United States
ORGANIZER;CN="Plain Township Historical Society":MAILTO:preservingplaintwp@gmail.com
END:VEVENT
BEGIN:VEVENT
DTSTART;TZID=UTC:20231016T190000
DTEND;TZID=UTC:20231016T210000
DTSTAMP:20260423T232710
CREATED:20230106T142805Z
LAST-MODIFIED:20230414T145956Z
UID:2995-1697482800-1697490000@preservingplaintwp.org
SUMMARY:PTHS Free Monthly Meeting - "4-H Programs" - Presented by Jennifer White\, OSU Extension\, Stark County
DESCRIPTION:
URL:https://preservingplaintwp.org/event/pths-free-monthly-meeting-to-be-announced-4/
LOCATION:Plain Township Hall\, 2600 Easton St NE\, Canton\, OH\, 44721\, United States
ORGANIZER;CN="Plain Township Historical Society":MAILTO:preservingplaintwp@gmail.com
END:VEVENT
BEGIN:VEVENT
DTSTART;TZID=UTC:20230920T160000
DTEND;TZID=UTC:20230920T200000
DTSTAMP:20260423T232710
CREATED:20230701T023048Z
LAST-MODIFIED:20230716T015205Z
UID:3281-1695225600-1695240000@preservingplaintwp.org
SUMMARY:PTHS 9th Annual McDonald's Quarterly Fundraiser
DESCRIPTION:
URL:https://preservingplaintwp.org/event/pths-9th-annual-mcdonalds-quarterly-fundraiser/
LOCATION:McDonald’s\, 6302 Market Ave N\, Canton\, OH\, 44721\, United States
ORGANIZER;CN="Plain Township Historical Society":MAILTO:preservingplaintwp@gmail.com
END:VEVENT
BEGIN:VEVENT
DTSTART;TZID=UTC:20230918T190000
DTEND;TZID=UTC:20230918T210000
DTSTAMP:20260423T232710
CREATED:20230106T142717Z
LAST-MODIFIED:20230414T144800Z
UID:2993-1695063600-1695070800@preservingplaintwp.org
SUMMARY:PTHS Free Monthly Meeting - "Quilts of Plain Township" - Presented by Cindy Guest
DESCRIPTION:
URL:https://preservingplaintwp.org/event/pths-free-monthly-meeting-to-be-announced-3/
LOCATION:Plain Township Hall\, 2600 Easton St NE\, Canton\, OH\, 44721\, United States
ORGANIZER;CN="Plain Township Historical Society":MAILTO:preservingplaintwp@gmail.com
END:VEVENT
BEGIN:VEVENT
DTSTART;TZID=UTC:20230909T100000
DTEND;TZID=UTC:20230909T150000
DTSTAMP:20260423T232710
CREATED:20230414T132435Z
LAST-MODIFIED:20230414T132435Z
UID:3203-1694253600-1694271600@preservingplaintwp.org
SUMMARY:720 Side Street Market at Oakwood Square
DESCRIPTION:
URL:https://preservingplaintwp.org/event/720-side-street-market-at-oakwood-square/
LOCATION:Oakwood Square\, 2610 Easton St NE\, Canton\, OH\, 44721\, United States
END:VEVENT
BEGIN:VEVENT
DTSTART;TZID=UTC:20230821T190000
DTEND;TZID=UTC:20230821T210000
DTSTAMP:20260423T232710
CREATED:20230106T142631Z
LAST-MODIFIED:20230414T144105Z
UID:2991-1692644400-1692651600@preservingplaintwp.org
SUMMARY:PTHS Free Monthly Meeting - "Genealogy" - Presented by Stark County Genealogical Society
DESCRIPTION:
URL:https://preservingplaintwp.org/event/pths-free-monthly-meeting-to-be-announced-2/
LOCATION:Plain Township Hall\, 2600 Easton St NE\, Canton\, OH\, 44721\, United States
ORGANIZER;CN="Plain Township Historical Society":MAILTO:preservingplaintwp@gmail.com
END:VEVENT
BEGIN:VEVENT
DTSTART;TZID=UTC:20230717T190000
DTEND;TZID=UTC:20230717T210000
DTSTAMP:20260423T232710
CREATED:20230106T142551Z
LAST-MODIFIED:20230414T143255Z
UID:2989-1689620400-1689627600@preservingplaintwp.org
SUMMARY:PTHS Free Monthly Meeting - "Case Mansion" - Presented by Richard Haldi
DESCRIPTION:
URL:https://preservingplaintwp.org/event/pths-free-monthly-meeting-to-be-announced/
LOCATION:Plain Township Hall\, 2600 Easton St NE\, Canton\, OH\, 44721\, United States
ORGANIZER;CN="Plain Township Historical Society":MAILTO:preservingplaintwp@gmail.com
END:VEVENT
BEGIN:VEVENT
DTSTART;TZID=UTC:20230621T160000
DTEND;TZID=UTC:20230621T200000
DTSTAMP:20260423T232710
CREATED:20230414T152530Z
LAST-MODIFIED:20230414T152601Z
UID:3215-1687363200-1687377600@preservingplaintwp.org
SUMMARY:PTHS 9th Annual McDonald's Quarterly Fundraiser
DESCRIPTION:
URL:https://preservingplaintwp.org/event/pths-mcdonalds-quarterly-fundraiser-2/
LOCATION:McDonald’s\, 6302 Market Ave N\, Canton\, OH\, 44721\, United States
ORGANIZER;CN="Plain Township Historical Society":MAILTO:preservingplaintwp@gmail.com
END:VEVENT
BEGIN:VEVENT
DTSTART;TZID=UTC:20230619T180000
DTEND;TZID=UTC:20230619T200000
DTSTAMP:20260423T232710
CREATED:20230106T142505Z
LAST-MODIFIED:20230125T215811Z
UID:2987-1687197600-1687204800@preservingplaintwp.org
SUMMARY:PTHS Covered Dish Picnic - Celebrating the Birthdays of Our 90+ Year Old Members
DESCRIPTION:
URL:https://preservingplaintwp.org/event/pths-covered-dish-picnic-celebrating-the-birthdays-of-our-90-year-old-members/
LOCATION:Veterans Park\, 1714 Schneider St NE\, Canton\, OH\, 44721\, United States
ORGANIZER;CN="Plain Township Historical Society":MAILTO:preservingplaintwp@gmail.com
END:VEVENT
BEGIN:VEVENT
DTSTART;TZID=UTC:20230610T100000
DTEND;TZID=UTC:20230610T150000
DTSTAMP:20260423T232710
CREATED:20230414T132339Z
LAST-MODIFIED:20230414T132339Z
UID:3201-1686391200-1686409200@preservingplaintwp.org
SUMMARY:720 Side Street Market Oakwood Square
DESCRIPTION:
URL:https://preservingplaintwp.org/event/720-side-street-market-oakwood-square/
LOCATION:Oakwood Square\, 2610 Easton St NE\, Canton\, OH\, 44721\, United States
END:VEVENT
BEGIN:VEVENT
DTSTART;TZID=UTC:20230518T180000
DTEND;TZID=UTC:20230518T200000
DTSTAMP:20260423T232710
CREATED:20230126T021931Z
LAST-MODIFIED:20230407T003333Z
UID:3029-1684432800-1684440000@preservingplaintwp.org
SUMMARY:Stark County Genealogical Society Meeting - Plain Township Historical Society Presenting
DESCRIPTION:
URL:https://preservingplaintwp.org/event/stark-county-genealogical-society-meeting-plain-township-historical-society-presenting/
LOCATION:Stark County Library North Branch\, 189 25th St NW\, Canton\, Ohio\, 44709
END:VEVENT
BEGIN:VEVENT
DTSTART;TZID=UTC:20230515T190000
DTEND;TZID=UTC:20230515T210000
DTSTAMP:20260423T232710
CREATED:20230106T142301Z
LAST-MODIFIED:20230125T215735Z
UID:2985-1684177200-1684184400@preservingplaintwp.org
SUMMARY:PTHS Free Monthly Meeting - “How Jewelry Reflects History” – Presenter Susan Henry
DESCRIPTION:
URL:https://preservingplaintwp.org/event/pths-free-monthly-meeting-how-jewelry-reflects-history-presenter-susan-henry/
LOCATION:Plain Township Hall\, 2600 Easton St NE\, Canton\, OH\, 44721\, United States
ORGANIZER;CN="Plain Township Historical Society":MAILTO:preservingplaintwp@gmail.com
END:VEVENT
BEGIN:VEVENT
DTSTART;TZID=UTC:20230506T110000
DTEND;TZID=UTC:20230506T150000
DTSTAMP:20260423T232710
CREATED:20230227T162857Z
LAST-MODIFIED:20230414T212239Z
UID:3141-1683370800-1683385200@preservingplaintwp.org
SUMMARY:Local History and Genealogy Fair - Stark County Library Main Branch
DESCRIPTION:
URL:https://preservingplaintwp.org/event/local-history-and-genealogy-fair-stark-county-library-main-branch/
LOCATION:Stark County Library Main Branch\, 715 Market Ave N\, Canton\, OH\, 44702\, United States
END:VEVENT
BEGIN:VEVENT
DTSTART;TZID=UTC:20230417T190000
DTEND;TZID=UTC:20230417T210000
DTSTAMP:20260423T232710
CREATED:20230106T142154Z
LAST-MODIFIED:20230319T151858Z
UID:2983-1681758000-1681765200@preservingplaintwp.org
SUMMARY:PTHS Free Monthly Meeting - “Plain Township Fire Dept Coverage of Significant Events Through the Years” – Presenter John Sabo - Location: Central Fire Station Schneider St
DESCRIPTION:
URL:https://preservingplaintwp.org/event/pths-free-monthly-meeting-plain-township-fire-dept-coverage-of-significant-events-through-the-years-presenter-john-sabo/
LOCATION:Central Fire Station\, 1742 Schneider St NE\, Canton\, 44721\, United States
END:VEVENT
BEGIN:VEVENT
DTSTART;TZID=UTC:20230320T190000
DTEND;TZID=UTC:20230320T210000
DTSTAMP:20260423T232710
CREATED:20230106T142054Z
LAST-MODIFIED:20230125T215709Z
UID:2981-1679338800-1679346000@preservingplaintwp.org
SUMMARY:PTHS Free Monthly Meeting - “A Labor of Love – the Jessie Borroway Story” – Presenter Mark Holland
DESCRIPTION:
URL:https://preservingplaintwp.org/event/pths-free-monthly-meeting-a-labor-of-love-the-jessie-borroway-story-presenter-mark-holland/
LOCATION:Plain Township Hall\, 2600 Easton St NE\, Canton\, OH\, 44721\, United States
ORGANIZER;CN="Plain Township Historical Society":MAILTO:preservingplaintwp@gmail.com
END:VEVENT
BEGIN:VEVENT
DTSTART;TZID=UTC:20230315T160000
DTEND;TZID=UTC:20230315T200000
DTSTAMP:20260423T232710
CREATED:20230106T144230Z
LAST-MODIFIED:20230313T144052Z
UID:3002-1678896000-1678910400@preservingplaintwp.org
SUMMARY:PTHS 9th Annual McDonald's Quarterly Fundraiser
DESCRIPTION:
URL:https://preservingplaintwp.org/event/pths-mcdonalds-quarterly-fundraiser/
LOCATION:McDonald’s\, 6302 Market Ave N\, Canton\, OH\, 44721\, United States
ORGANIZER;CN="Plain Township Historical Society":MAILTO:preservingplaintwp@gmail.com
END:VEVENT
BEGIN:VEVENT
DTSTART;TZID=UTC:20230220T190000
DTEND;TZID=UTC:20230220T210000
DTSTAMP:20260423T232710
CREATED:20230106T141957Z
LAST-MODIFIED:20230125T215635Z
UID:2979-1676919600-1676926800@preservingplaintwp.org
SUMMARY:PTHS Free Monthly Meeting - "How You Remember Historic Events” (group discussion) – Presenter Judith Pocock
DESCRIPTION:
URL:https://preservingplaintwp.org/event/pths-free-monthly-meeting-how-you-remember-historic-events-group-discussion-presenter-judith-pocock/
LOCATION:Plain Township Hall\, 2600 Easton St NE\, Canton\, OH\, 44721\, United States
ORGANIZER;CN="Plain Township Historical Society":MAILTO:preservingplaintwp@gmail.com
END:VEVENT
BEGIN:VEVENT
DTSTART;TZID=UTC:20230116T190000
DTEND;TZID=UTC:20230116T210000
DTSTAMP:20260423T232710
CREATED:20230106T141756Z
LAST-MODIFIED:20230106T143016Z
UID:2977-1673895600-1673902800@preservingplaintwp.org
SUMMARY:PTHS Free Monthly Meeting - No Meeting Scheduled
DESCRIPTION:
URL:https://preservingplaintwp.org/event/pths-free-monthly-meeting-no-meeting-scheduled/
LOCATION:Plain Township Hall\, 2600 Easton St NE\, Canton\, OH\, 44721\, United States
ORGANIZER;CN="Plain Township Historical Society":MAILTO:preservingplaintwp@gmail.com
END:VEVENT
END:VCALENDAR