BEGIN:VCALENDAR
VERSION:2.0
PRODID:-//Plain Township Historical Society - ECPv6.15.20//NONSGML v1.0//EN
CALSCALE:GREGORIAN
METHOD:PUBLISH
X-ORIGINAL-URL:https://preservingplaintwp.org
X-WR-CALDESC:Events for Plain Township Historical Society
REFRESH-INTERVAL;VALUE=DURATION:PT1H
X-Robots-Tag:noindex
X-PUBLISHED-TTL:PT1H
BEGIN:VTIMEZONE
TZID:UTC
BEGIN:STANDARD
TZOFFSETFROM:+0000
TZOFFSETTO:+0000
TZNAME:UTC
DTSTART:20230101T000000
END:STANDARD
END:VTIMEZONE
BEGIN:VEVENT
DTSTART;TZID=UTC:20241214T120000
DTEND;TZID=UTC:20241214T140000
DTSTAMP:20260424T154757
CREATED:20240502T142231Z
LAST-MODIFIED:20241103T131841Z
UID:4266-1734177600-1734184800@preservingplaintwp.org
SUMMARY:Wreaths Across America - Warstler Cemetery
DESCRIPTION:
URL:https://preservingplaintwp.org/event/wreaths-across-america-warstler-cemetery/
LOCATION:Henry Warstler Cemetery\, 2633 55th St NE\, Canton\, OH\, 44721\, United States
END:VEVENT
BEGIN:VEVENT
DTSTART;TZID=UTC:20241216T190000
DTEND;TZID=UTC:20241216T210000
DTSTAMP:20260424T154757
CREATED:20231116T191603Z
LAST-MODIFIED:20231116T193502Z
UID:3979-1734375600-1734382800@preservingplaintwp.org
SUMMARY:PTHS Free Monthly Meeting - No Meeting Scheduled
DESCRIPTION:
URL:https://preservingplaintwp.org/event/pths-free-monthly-meeting-no-meeting-scheduled-4/
LOCATION:Plain Township Hall\, 2600 Easton St NE\, Canton\, OH\, 44721\, United States
ORGANIZER;CN="Plain Township Historical Society":MAILTO:preservingplaintwp@gmail.com
END:VEVENT
END:VCALENDAR