BEGIN:VCALENDAR
VERSION:2.0
PRODID:-//Plain Township Historical Society - ECPv6.15.20//NONSGML v1.0//EN
CALSCALE:GREGORIAN
METHOD:PUBLISH
X-WR-CALNAME:Plain Township Historical Society
X-ORIGINAL-URL:https://preservingplaintwp.org
X-WR-CALDESC:Events for Plain Township Historical Society
REFRESH-INTERVAL;VALUE=DURATION:PT1H
X-Robots-Tag:noindex
X-PUBLISHED-TTL:PT1H
BEGIN:VTIMEZONE
TZID:UTC
BEGIN:STANDARD
TZOFFSETFROM:+0000
TZOFFSETTO:+0000
TZNAME:UTC
DTSTART:20240101T000000
END:STANDARD
END:VTIMEZONE
BEGIN:VEVENT
DTSTART;TZID=UTC:20251213T120000
DTEND;TZID=UTC:20251213T133000
DTSTAMP:20260423T213220
CREATED:20241226T163556Z
LAST-MODIFIED:20241226T163556Z
UID:4492-1765627200-1765632600@preservingplaintwp.org
SUMMARY:Wreaths Across America - Warstler Cemetery
DESCRIPTION:
URL:https://preservingplaintwp.org/event/wreaths-across-america-warstler-cemetery-2/
LOCATION:Henry Warstler Cemetery\, 2633 55th St NE\, Canton\, OH\, 44721\, United States
END:VEVENT
BEGIN:VEVENT
DTSTART;TZID=UTC:20251215T190000
DTEND;TZID=UTC:20251215T210000
DTSTAMP:20260423T213220
CREATED:20241226T163255Z
LAST-MODIFIED:20241226T163341Z
UID:4488-1765825200-1765832400@preservingplaintwp.org
SUMMARY:PTHS Free Monthly Meeting - No Meeting in December
DESCRIPTION:
URL:https://preservingplaintwp.org/event/pths-free-monthly-meeting-no-meeting-in-december/
LOCATION:Plain Township Hall\, 2600 Easton St NE\, Canton\, OH\, 44721\, United States
ORGANIZER;CN="Plain Township Historical Society":MAILTO:preservingplaintwp@gmail.com
END:VEVENT
END:VCALENDAR