BEGIN:VCALENDAR
VERSION:2.0
PRODID:-//Plain Township Historical Society - ECPv6.15.20//NONSGML v1.0//EN
CALSCALE:GREGORIAN
METHOD:PUBLISH
X-WR-CALNAME:Plain Township Historical Society
X-ORIGINAL-URL:https://preservingplaintwp.org
X-WR-CALDESC:Events for Plain Township Historical Society
REFRESH-INTERVAL;VALUE=DURATION:PT1H
X-Robots-Tag:noindex
X-PUBLISHED-TTL:PT1H
BEGIN:VTIMEZONE
TZID:UTC
BEGIN:STANDARD
TZOFFSETFROM:+0000
TZOFFSETTO:+0000
TZNAME:UTC
DTSTART:20250101T000000
END:STANDARD
END:VTIMEZONE
BEGIN:VEVENT
DTSTART;TZID=UTC:20261103T140000
DTEND;TZID=UTC:20261103T160000
DTSTAMP:20260424T024559
CREATED:20251214T044451Z
LAST-MODIFIED:20251214T044451Z
UID:4923-1793714400-1793721600@preservingplaintwp.org
SUMMARY:PTHS Board Meeting - Location Change Due to Election
DESCRIPTION:
URL:https://preservingplaintwp.org/event/pths-board-meeting-location-change-due-to-election/
LOCATION:Central Fire Station\, 1742 Schneider St NE\, Canton\, 44721\, United States
ORGANIZER;CN="Plain Township Historical Society":MAILTO:preservingplaintwp@gmail.com
END:VEVENT
BEGIN:VEVENT
DTSTART;TZID=UTC:20261116T190000
DTEND;TZID=UTC:20261116T210000
DTSTAMP:20260424T024559
CREATED:20251214T044603Z
LAST-MODIFIED:20260218T143615Z
UID:4925-1794855600-1794862800@preservingplaintwp.org
SUMMARY:PTHS Free Monthly Community Meeting - Jewelry of World War II - Speaker Dr. Mari Halkovich
DESCRIPTION:
URL:https://preservingplaintwp.org/event/pths-free-monthly-meeting-jewelry-of-world-war-ii-speaker-dr-mari-halkovich/
LOCATION:Plain Township Hall\, 2600 Easton St NE\, Canton\, OH\, 44721\, United States
ORGANIZER;CN="Plain Township Historical Society":MAILTO:preservingplaintwp@gmail.com
END:VEVENT
END:VCALENDAR