BEGIN:VCALENDAR
VERSION:2.0
PRODID:-//Plain Township Historical Society - ECPv6.15.20//NONSGML v1.0//EN
CALSCALE:GREGORIAN
METHOD:PUBLISH
X-ORIGINAL-URL:https://preservingplaintwp.org
X-WR-CALDESC:Events for Plain Township Historical Society
REFRESH-INTERVAL;VALUE=DURATION:PT1H
X-Robots-Tag:noindex
X-PUBLISHED-TTL:PT1H
BEGIN:VTIMEZONE
TZID:UTC
BEGIN:STANDARD
TZOFFSETFROM:+0000
TZOFFSETTO:+0000
TZNAME:UTC
DTSTART:20250101T000000
END:STANDARD
END:VTIMEZONE
BEGIN:VEVENT
DTSTART;TZID=UTC:20260425T110000
DTEND;TZID=UTC:20260425T150000
DTSTAMP:20260423T152220
CREATED:20251214T042116Z
LAST-MODIFIED:20251214T042116Z
UID:4880-1777114800-1777129200@preservingplaintwp.org
SUMMARY:Stark County Local History and Genealogy Fair - Massillon Museum
DESCRIPTION:
URL:https://preservingplaintwp.org/event/stark-county-local-history-and-genealogy-fair-massillon-museum/
LOCATION:Massillon Museum\, 121 Lincoln Way E\, Massillon\, OH\, 44646\, United States
END:VEVENT
END:VCALENDAR